PDS_VERSION_ID = PDS3
/* FILE DATA ELEMENTS */
RECORD_TYPE = STREAM
/* POINTERS TO DATA OBJECTS */
^COMPRESSED_FILE = "H1896_0000_P13.JP2"
/* IDENTIFICATION DATA ELEMENTS */
DATA_SET_ID = "MEX-M-HRSC-5-REFDR-MAPPROJECTED-V3.0"
DATA_SET_NAME = "MARS EXPRESS HRSC MAP PROJECTED REFDR V3.0"
DETECTOR_ID = MEX_HRSC_P1
EVENT_TYPE = "MARS-REGIONAL-STEREO-Vo-Lc-La"
INSTRUMENT_HOST_ID = MEX
INSTRUMENT_HOST_NAME = "MARS EXPRESS"
INSTRUMENT_ID = HRSC
INSTRUMENT_NAME = "HIGH RESOLUTION STEREO CAMERA"
MISSION_NAME = "MARS EXPRESS"
MISSION_PHASE_NAME = MR_Phase_6
PROCESSING_LEVEL_ID = 3
PRODUCT_CREATION_TIME = 2016-03-09T13:44:56.000Z
PRODUCT_ID = "H1896_0000_P13.JP2"
RELEASE_ID = 0024
REVISION_ID = 0000
/* QUALITY DATA ELEMENTS */
DATA_QUALITY_ID = 1
DATA_QUALITY_DESC = "Data calculated based on original SPICE kernels"
/* TIME DATA ELEMENTS */
SPACECRAFT_CLOCK_START_COUNT = "1/0068829635.56173"
SPACECRAFT_CLOCK_STOP_COUNT = "1/0068830054.30971"
START_TIME = 2005-07-07T15:23:05.485Z
STOP_TIME = 2005-07-07T15:27:25.700Z
/* ORBITAL DATA ELEMENTS */
ASCENDING_NODE_LONGITUDE = 188.58
MAXIMUM_RESOLUTION = 36.7
FOOTPRINT_POINT_LATITUDE = (-17.9663,-17.9742,-17.9809,-17.9885, -17.9959,-18.0033,-18.0071,-17.6248, -17.2447,-16.8669,-16.4936,-15.9485, -15.5949,-15.225,-14.705,-14.3531, -13.9843,-13.6205,-13.2746,-12.9242, -12.5842,-12.2344,-11.8994,-11.4021, -11.0724,-10.7479,-10.4238,-10.1043, -9.78468,-9.47015,-8.99817,-8.69219, -8.38181,-8.07652,-7.77352,-7.47022, -7.17265,-6.72861,-6.43459,-6.14167, -5.70834,-5.41927,-5.13602,-4.85239, -4.56998,-4.15316,-3.87472,-3.6004, -3.32776,-2.78435,-2.24896,-2.06776, -2.05911,-2.04764,-2.17016,-2.57139, -3.1112,-3.38298,-3.65582,-3.93243, -4.21061,-4.48813,-4.91123,-5.19457, -5.47977,-5.76895,-6.05786,-6.35002, -6.64481,-7.08852,-7.38803,-7.68715, -7.99155,-8.29543,-8.60411,-9.06771, -9.38302,-9.85841,-10.1757,-10.4956, -10.8199,-11.3106,-11.6402,-11.9743, -12.4904,-12.8302,-13.1796,-13.5238, -13.8777,-14.2538,-14.588,-14.9593, -15.5043,-15.8434,-16.2098,-16.5818, -16.9566,-17.3343,-17.7159,-17.9663)
FOOTPRINT_POINT_LONGITUDE = (305.141,304.761,304.427,304.044, 303.659,303.271,302.948,302.96,302.972, 302.985,302.997,303.007,303.009,303.025 ,303.027,303.035,303.057,303.077, 303.087,303.096,303.105,303.113,303.121 ,303.133,303.141,303.148,303.155, 303.162,303.168,303.175,303.185,303.188 ,303.195,303.201,303.206,303.213, 303.217,303.224,303.229,303.233,303.24, 303.245,303.249,303.253,303.257,303.262 ,303.266,303.27,303.273,303.28,303.287, 303.628,303.935,304.39,304.864,304.875, 304.889,304.897,304.904,304.912,304.92, 304.927,304.94,304.948,304.956,304.965, 304.974,304.983,304.992,305.006,305.016 ,305.025,305.035,305.045,305.056, 305.071,305.082,305.099,305.11,305.121, 305.133,305.151,305.163,305.176,305.195 ,305.209,305.222,305.236,305.251, 305.271,305.281,305.299,305.322,305.332 ,305.348,305.364,305.381,305.398, 305.415,305.141)
ORBIT_NUMBER = 1896
ORBITAL_ECCENTRICITY = 0.57
ORBITAL_INCLINATION = 86.58
ORBITAL_SEMIMAJOR_AXIS = 8606.42
PERIAPSIS_ALTITUDE = 307.61
PERIAPSIS_ARGUMENT_ANGLE = 25.76
PERIAPSIS_TIME = 2005-07-07T15:34:12.000Z
SPACECRAFT_ORIENTATION = (0.0,1.0,0.0)
^MEX_ORIENTATION_DESC = "MEX_ORIENTATION_DESC.TXT"
SPACECRAFT_POINTING_MODE = ACROSSTRACK
^MEX_POINTING_DESC = "MEX_POINTING_DESC.TXT"
RIGHT_ASCENSION = -1e+32
DECLINATION = -1e+32
OFFSET_ANGLE = 0.6
SPACECRAFT_SOLAR_DISTANCE = 2.06747e+08
TARGET_NAME = MARS
/* CAMERA DATA ELEMENTS */
DETECTOR_TEMPERATURE = 17.7588
FOCAL_PLANE_TEMPERATURE = 8.9911
INST_CMPRS_NAME = "DISCRETE COSINE TRANSFORMATION (DCT)"
INST_CMPRS_RATIO = 11.0507
INST_CMPRS_QUALITY = 0
INST_CMPRS_QUANTZ_TBL_ID = 0
INSTRUMENT_TEMPERATURE = 11.4379
LENS_TEMPERATURE = 9.195
MACROPIXEL_SIZE = 2
MISSING_FRAMES = 3
PIXEL_SUBSAMPLING_FLAG = N
SIGNAL_CHAIN_ID = 3
/* RADIOMETRIC DATA ELEMENTS */
BANDWIDTH = 174.0
CENTER_FILTER_WAVELENGTH = 675.0
RADIANCE_OFFSET = 1.7582
RADIANCE_SCALING_FACTOR = 0.0086064
REFLECTANCE_SCALING_FACTOR = 0.000197874
MEX:REFLECTANCE_OFFSET = 0.0404236
/* IMAGE OBJECT DEFINITIONS */
OBJECT = IMAGE
  INTERCHANGE_FORMAT = BINARY
  LINES = 37804
  LINE_SAMPLES = 6175
  SAMPLE_TYPE = UNSIGNED_INTEGER
  SAMPLE_BITS = 8
  BANDS = 1
  BAND_STORAGE_TYPE = BAND_SEQUENTIAL
  MAXIMUM = 325
  MEAN = 214.713
  MINIMUM = 138
  STANDARD_DEVIATION = 33.598
END_OBJECT = IMAGE
/* MAP OBJECT DEFINITIONS */
OBJECT = IMAGE_MAP_PROJECTION
  ^DATA_SET_MAP_PROJECTION_CATALOG= "DSMAP.CAT"
  A_AXIS_RADIUS = 3396.0
  B_AXIS_RADIUS = 3396.0
  C_AXIS_RADIUS = 3396.0
  CENTER_LATITUDE = 0.0
  CENTER_LONGITUDE = 304.0
  COORDINATE_SYSTEM_NAME = PLANETOGRAPHIC
  COORDINATE_SYSTEM_TYPE = "BODY-FIXED ROTATING"
  EASTERNMOST_LONGITUDE = 305.415
  FIRST_STANDARD_PARALLEL = "N/A"
  LINE_FIRST_PIXEL = 1
  LINE_LAST_PIXEL = 37804
  LINE_PROJECTION_OFFSET = -4854.25
  MAP_PROJECTION_ROTATION = 0.0
  MAP_PROJECTION_TYPE = SINUSOIDAL
  MAP_RESOLUTION = 2370.85521546667
  MAP_SCALE = 0.025
  MAXIMUM_LATITUDE = -2.04764
  MINIMUM_LATITUDE = -18.0071
  POSITIVE_LONGITUDE_DIRECTION = EAST
  REFERENCE_LATITUDE = "N/A"
  REFERENCE_LONGITUDE = "N/A"
  SAMPLE_FIRST_PIXEL = 1
  SAMPLE_LAST_PIXEL = 6175
  SAMPLE_PROJECTION_OFFSET = 2701.25
  SECOND_STANDARD_PARALLEL = "N/A"
  WESTERNMOST_LONGITUDE = 302.948
END_OBJECT = IMAGE_MAP_PROJECTION
/* The JPEG2000 image data file associated with this label. */
OBJECT = COMPRESSED_FILE
  FILE_NAME = "H1896_0000_P13.JP2"
  RECORD_TYPE = UNDEFINED
  FILE_RECORDS = UNK
  ENCODING_TYPE = "JP2"
  INTERCHANGE_FORMAT = BINARY
  UNCOMPRESSED_FILE_NAME = "H1896_0000_P13.IMG"
  REQUIRED_STORAGE_BYTES = "233470575"
  ^DESCRIPTION = "JP2INFO.TXT"
END_OBJECT = COMPRESSED_FILE
END
