PDS_VERSION_ID = PDS3
/* FILE DATA ELEMENTS */
RECORD_TYPE = STREAM
/* POINTERS TO DATA OBJECTS */
^COMPRESSED_FILE = "H1896_0001_SR3.JP2"
/* IDENTIFICATION DATA ELEMENTS */
DATA_SET_ID = "MEX-M-HRSC-5-REFDR-MAPPROJECTED-V3.0"
DATA_SET_NAME = "MARS EXPRESS HRSC MAP PROJECTED REFDR V3.0"
DETECTOR_ID = MEX_HRSC_SRC
EVENT_TYPE = "MARS-REGIONAL-STEREO-Vo-Lc-La"
INSTRUMENT_HOST_ID = MEX
INSTRUMENT_HOST_NAME = "MARS EXPRESS"
INSTRUMENT_ID = HRSC
INSTRUMENT_NAME = "HIGH RESOLUTION STEREO CAMERA"
MISSION_NAME = "MARS EXPRESS"
MISSION_PHASE_NAME = MR_Phase_6
PROCESSING_LEVEL_ID = 3
PRODUCT_CREATION_TIME = 2016-03-09T13:44:56.000Z
PRODUCT_ID = "H1896_0001_SR3.JP2"
RELEASE_ID = 0024
REVISION_ID = 0000
/* QUALITY DATA ELEMENTS */
DATA_QUALITY_ID = 1
DATA_QUALITY_DESC = "Data calculated based on original SPICE kernels"
/* TIME DATA ELEMENTS */
SPACECRAFT_CLOCK_START_COUNT = "1/0068829635.56173"
SPACECRAFT_CLOCK_STOP_COUNT = "1/0068830054.30971"
IMAGE_TIME = 2005-07-07T15:24:44.277Z
START_TIME = 2005-07-07T15:24:44.019Z
STOP_TIME = 2005-07-07T15:24:44.535Z
/* ORBITAL DATA ELEMENTS */
ASCENDING_NODE_LONGITUDE = 188.58
MAXIMUM_RESOLUTION = 5.243
FOOTPRINT_POINT_LATITUDE = (-9.9838,-9.98088,-9.97761,-9.97328, -9.97036,-9.96691,-9.9631,-9.95992, -9.95549,-9.95151,-9.94789,-9.94337, -9.93824,-9.93506,-9.93249,-9.92993, -9.92727,-9.92311,-9.91834,-9.91515, -9.91135,-9.90772,-9.90418,-9.90197, -9.89958,-9.89559,-9.89557,-9.89554, -9.89551,-9.89549,-9.89546,-9.89544, -9.89541,-9.89538,-9.89536,-9.89533, -9.8953,-9.89528,-9.89525,-9.89522, -9.8952,-9.89517,-9.89514,-9.89512, -9.89509,-9.89506,-9.89504,-9.89501, -9.89498,-9.89495,-9.89493,-9.8974, -9.90032,-9.90483,-9.90801,-9.91305, -9.91844,-9.92295,-9.92578,-9.92914, -9.93144,-9.93444,-9.93922,-9.94266, -9.94753,-9.95133,-9.95363,-9.95716, -9.96194,-9.96486,-9.96989,-9.97317, -9.97829,-9.98086,-9.98395,-9.98398, -9.98401,-9.98404,-9.98407,-9.9841, -9.98413,-9.98416,-9.98419,-9.98422, -9.98424,-9.98427,-9.9843,-9.98433, -9.98436,-9.98439,-9.98442,-9.98445, -9.98448,-9.9845,-9.98453,-9.98456, -9.98459,-9.98462,-9.98465,-9.9838)
FOOTPRINT_POINT_LONGITUDE = (304.103,304.103,304.103,304.103, 304.103,304.103,304.103,304.103,304.103 ,304.103,304.103,304.103,304.103, 304.103,304.103,304.103,304.103,304.103 ,304.103,304.103,304.103,304.103, 304.103,304.103,304.103,304.104,304.107 ,304.111,304.114,304.118,304.122, 304.125,304.129,304.132,304.136,304.14, 304.143,304.147,304.15,304.154,304.158, 304.161,304.165,304.168,304.172,304.176 ,304.179,304.183,304.186,304.19,304.194 ,304.194,304.194,304.194,304.194, 304.194,304.194,304.194,304.194,304.194 ,304.194,304.195,304.195,304.195, 304.195,304.195,304.195,304.195,304.195 ,304.195,304.195,304.195,304.195, 304.195,304.195,304.191,304.188,304.184 ,304.18,304.177,304.173,304.17,304.166, 304.162,304.159,304.155,304.152,304.148 ,304.144,304.141,304.137,304.134,304.13 ,304.126,304.123,304.119,304.116, 304.112,304.108,304.103)
ORBIT_NUMBER = 1896
ORBITAL_ECCENTRICITY = 0.57
ORBITAL_INCLINATION = 86.58
ORBITAL_SEMIMAJOR_AXIS = 8606.42
PERIAPSIS_ALTITUDE = 307.61
PERIAPSIS_ARGUMENT_ANGLE = 25.76
PERIAPSIS_TIME = 2005-07-07T15:34:12.000Z
SPACECRAFT_ORIENTATION = (0.0,1.0,0.0)
^MEX_ORIENTATION_DESC = "MEX_ORIENTATION_DESC.TXT"
SPACECRAFT_POINTING_MODE = ACROSSTRACK
^MEX_POINTING_DESC = "MEX_POINTING_DESC.TXT"
RIGHT_ASCENSION = -1e+32
DECLINATION = -1e+32
OFFSET_ANGLE = 0.6
SPACECRAFT_SOLAR_DISTANCE = 2.06747e+08
TARGET_NAME = MARS
/* CAMERA DATA ELEMENTS */
BUFFER_MODE_ID = BUFFER_8
EXPOSURE_DURATION = 516.096
INST_CMPRS_NAME = NONE
INST_CMPRS_RATIO = 1.0
INST_CMPRS_QUALITY = -2147483648
INST_CMPRS_QUANTZ_TBL_ID = -2147483648
INSTRUMENT_TEMPERATURE = 12.5395
MISSING_FRAMES = 0
START_BIT = 0
/* RADIOMETRIC DATA ELEMENTS */
BANDWIDTH = 250.0
CENTER_FILTER_WAVELENGTH = 600.0
RADIANCE_OFFSET = -9.99e+31
RADIANCE_SCALING_FACTOR = -9.99e+31
REFLECTANCE_SCALING_FACTOR = -9.99e+31
MEX:REFLECTANCE_OFFSET = -9.99e+31
/* IMAGE OBJECT DEFINITIONS */
OBJECT = IMAGE
  INTERCHANGE_FORMAT = BINARY
  LINES = 1106
  LINE_SAMPLES = 1118
  SAMPLE_TYPE = UNSIGNED_INTEGER
  SAMPLE_BITS = 8
  BANDS = 1
  BAND_STORAGE_TYPE = BAND_SEQUENTIAL
  MAXIMUM = 14417
  MEAN = 11523.8
  MINIMUM = 0
  STANDARD_DEVIATION = 4154.3
END_OBJECT = IMAGE
/* MAP OBJECT DEFINITIONS */
OBJECT = IMAGE_MAP_PROJECTION
  ^DATA_SET_MAP_PROJECTION_CATALOG= "DSMAP.CAT"
  A_AXIS_RADIUS = 3396.19
  B_AXIS_RADIUS = 3396.19
  C_AXIS_RADIUS = 3396.19
  CENTER_LATITUDE = 0.0
  CENTER_LONGITUDE = 304.0
  COORDINATE_SYSTEM_NAME = PLANETOGRAPHIC
  COORDINATE_SYSTEM_TYPE = "BODY-FIXED ROTATING"
  EASTERNMOST_LONGITUDE = 304.195
  FIRST_STANDARD_PARALLEL = "N/A"
  LINE_FIRST_PIXEL = 1
  LINE_LAST_PIXEL = 1106
  LINE_PROJECTION_OFFSET = -117278.0
  MAP_PROJECTION_ROTATION = 0.0
  MAP_PROJECTION_TYPE = SINUSOIDAL
  MAP_RESOLUTION = 11854.9393024378
  MAP_SCALE = 0.005
  MAXIMUM_LATITUDE = -9.89493
  MINIMUM_LATITUDE = -9.98465
  POSITIVE_LONGITUDE_DIRECTION = EAST
  REFERENCE_LATITUDE = "N/A"
  REFERENCE_LONGITUDE = "N/A"
  SAMPLE_FIRST_PIXEL = 1
  SAMPLE_LAST_PIXEL = 1118
  SAMPLE_PROJECTION_OFFSET = -1173.0
  SECOND_STANDARD_PARALLEL = "N/A"
  WESTERNMOST_LONGITUDE = 304.103
END_OBJECT = IMAGE_MAP_PROJECTION
/* The JPEG2000 image data file associated with this label. */
OBJECT = COMPRESSED_FILE
  FILE_NAME = "H1896_0001_SR3.JP2"
  RECORD_TYPE = UNDEFINED
  FILE_RECORDS = UNK
  ENCODING_TYPE = "JP2"
  INTERCHANGE_FORMAT = BINARY
  UNCOMPRESSED_FILE_NAME = "H1896_0001_SR3.IMG"
  REQUIRED_STORAGE_BYTES = "1255514"
  ^DESCRIPTION = "JP2INFO.TXT"
END_OBJECT = COMPRESSED_FILE
END
