PDS_VERSION_ID = PDS3
/* FILE DATA ELEMENTS */
RECORD_TYPE = STREAM
/* POINTERS TO DATA OBJECTS */
^COMPRESSED_FILE = "H1897_0000_P23.JP2"
/* IDENTIFICATION DATA ELEMENTS */
DATA_SET_ID = "MEX-M-HRSC-5-REFDR-MAPPROJECTED-V3.0"
DATA_SET_NAME = "MARS EXPRESS HRSC MAP PROJECTED REFDR V3.0"
DETECTOR_ID = MEX_HRSC_P2
EVENT_TYPE = "MARS-LOCAL-STEREO-Vo-La-At"
INSTRUMENT_HOST_ID = MEX
INSTRUMENT_HOST_NAME = "MARS EXPRESS"
INSTRUMENT_ID = HRSC
INSTRUMENT_NAME = "HIGH RESOLUTION STEREO CAMERA"
MISSION_NAME = "MARS EXPRESS"
MISSION_PHASE_NAME = MR_Phase_6
PROCESSING_LEVEL_ID = 3
PRODUCT_CREATION_TIME = 2016-03-09T13:44:56.000Z
PRODUCT_ID = "H1897_0000_P23.JP2"
RELEASE_ID = 0024
REVISION_ID = 0000
/* QUALITY DATA ELEMENTS */
DATA_QUALITY_ID = 1
DATA_QUALITY_DESC = "Data calculated based on original SPICE kernels"
/* TIME DATA ELEMENTS */
SPACECRAFT_CLOCK_START_COUNT = "1/0068854030.57162"
SPACECRAFT_CLOCK_STOP_COUNT = "1/0068854369.17452"
START_TIME = 2005-07-07T22:07:41.250Z
STOP_TIME = 2005-07-07T22:11:56.617Z
/* ORBITAL DATA ELEMENTS */
ASCENDING_NODE_LONGITUDE = 188.56
MAXIMUM_RESOLUTION = 33
FOOTPRINT_POINT_LATITUDE = (-8.52708,-8.52648,-8.5251,-8.52289, -8.51993,-8.35691,-8.05041,-7.75056, -7.30271,-7.0044,-6.71071,-6.41607, -6.12364,-5.83651,-5.55016,-5.26374, -4.8434,-4.562,-4.14455,-3.86711, -3.59228,-3.17877,-2.90962,-2.6381, -2.37225,-2.10674,-1.8411,-1.57911, -1.18592,-0.929795,-0.669576,-0.411079, -0.156133,0.0981932,0.352323,1.95327, 2.31629,2.55736,2.79902,3.03855,3.27557 ,3.51226,3.74932,3.98384,4.21535, 4.44755,4.68007,4.91183,5.3665,5.82259, 6.05141,6.07856,6.07541,6.06997,6.06752 ,5.83622,5.38028,4.92578,4.69488, 4.46244,4.11457,3.88306,3.52822,3.29168 ,3.05537,2.81584,2.57551,2.33474,1.9734 ,0.369258,0.115624,-0.135902,-0.518363, -0.776925,-1.03295,-1.29323,-1.55501, -1.81799,-2.21714,-2.48302,-2.74937, -3.01861,-3.42497,-3.70344,-3.97707, -4.25638,-4.53485,-4.95692,-5.23869, -5.52436,-5.80921,-6.09759,-6.38691, -6.8299,-7.27407,-7.57074,-7.87233, -8.1708,-8.47504,-8.52708)
FOOTPRINT_POINT_LONGITUDE = (206.556,206.235,205.912,205.589, 205.263,204.95,204.956,204.964,204.975, 204.982,204.988,204.994,204.999,205.008 ,205.013,205.019,205.03,205.035,205.044 ,205.049,205.053,205.058,205.064, 205.068,205.073,205.078,205.082,205.086 ,205.093,205.098,205.101,205.105, 205.107,205.111,205.114,205.138,205.142 ,205.145,205.148,205.151,205.153, 205.156,205.158,205.161,205.164,205.166 ,205.169,205.171,205.176,205.181, 205.183,205.503,205.738,206.163,206.394 ,206.607,206.616,206.626,206.631, 206.636,206.643,206.648,206.657,206.662 ,206.668,206.673,206.679,206.685, 206.694,206.736,206.743,206.75,206.761, 206.768,206.776,206.784,206.792,206.799 ,206.812,206.82,206.829,206.838,206.851 ,206.859,206.869,206.878,206.887, 206.902,206.912,206.922,206.933,206.944 ,206.955,206.971,206.988,207.0,207.012, 207.024,207.037,206.556)
ORBIT_NUMBER = 1897
ORBITAL_ECCENTRICITY = 0.57
ORBITAL_INCLINATION = 86.57
ORBITAL_SEMIMAJOR_AXIS = 8607.09
PERIAPSIS_ALTITUDE = 307.62
PERIAPSIS_ARGUMENT_ANGLE = 25.54
PERIAPSIS_TIME = 2005-07-07T22:17:20.000Z
SPACECRAFT_ORIENTATION = (0.0,1.0,0.0)
^MEX_ORIENTATION_DESC = "MEX_ORIENTATION_DESC.TXT"
SPACECRAFT_POINTING_MODE = ACROSSTRACK
^MEX_POINTING_DESC = "MEX_POINTING_DESC.TXT"
RIGHT_ASCENSION = -1e+32
DECLINATION = -1e+32
OFFSET_ANGLE = 0.458
SPACECRAFT_SOLAR_DISTANCE = 2.06741e+08
TARGET_NAME = MARS
/* CAMERA DATA ELEMENTS */
DETECTOR_TEMPERATURE = 18.7783
FOCAL_PLANE_TEMPERATURE = 8.7872
INST_CMPRS_NAME = "DISCRETE COSINE TRANSFORMATION (DCT)"
INST_CMPRS_RATIO = 8.10205
INST_CMPRS_QUALITY = 0
INST_CMPRS_QUANTZ_TBL_ID = 0
INSTRUMENT_TEMPERATURE = 11.234
LENS_TEMPERATURE = 9.6028
MACROPIXEL_SIZE = 2
MISSING_FRAMES = 357
PIXEL_SUBSAMPLING_FLAG = N
SIGNAL_CHAIN_ID = 3
/* RADIOMETRIC DATA ELEMENTS */
BANDWIDTH = 177.0
CENTER_FILTER_WAVELENGTH = 676.5
RADIANCE_OFFSET = 1.4605
RADIANCE_SCALING_FACTOR = 0.00993736
REFLECTANCE_SCALING_FACTOR = 0.000225208
MEX:REFLECTANCE_OFFSET = 0.033099
/* IMAGE OBJECT DEFINITIONS */
OBJECT = IMAGE
  INTERCHANGE_FORMAT = BINARY
  LINES = 34546
  LINE_SAMPLES = 4779
  SAMPLE_TYPE = UNSIGNED_INTEGER
  SAMPLE_BITS = 8
  BANDS = 1
  BAND_STORAGE_TYPE = BAND_SEQUENTIAL
  MAXIMUM = 327
  MEAN = 202.842
  MINIMUM = 0
  STANDARD_DEVIATION = 44.583
END_OBJECT = IMAGE
/* MAP OBJECT DEFINITIONS */
OBJECT = IMAGE_MAP_PROJECTION
  ^DATA_SET_MAP_PROJECTION_CATALOG= "DSMAP.CAT"
  A_AXIS_RADIUS = 3396.0
  B_AXIS_RADIUS = 3396.0
  C_AXIS_RADIUS = 3396.0
  CENTER_LATITUDE = 0.0
  CENTER_LONGITUDE = 206.0
  COORDINATE_SYSTEM_NAME = PLANETOGRAPHIC
  COORDINATE_SYSTEM_TYPE = "BODY-FIXED ROTATING"
  EASTERNMOST_LONGITUDE = 207.037
  FIRST_STANDARD_PARALLEL = "N/A"
  LINE_FIRST_PIXEL = 1
  LINE_LAST_PIXEL = 34546
  LINE_PROJECTION_OFFSET = 14354.25
  MAP_PROJECTION_ROTATION = 0.0
  MAP_PROJECTION_TYPE = SINUSOIDAL
  MAP_RESOLUTION = 2370.85521546667
  MAP_SCALE = 0.025
  MAXIMUM_LATITUDE = 6.07856
  MINIMUM_LATITUDE = -8.52708
  POSITIVE_LONGITUDE_DIRECTION = EAST
  REFERENCE_LATITUDE = "N/A"
  REFERENCE_LONGITUDE = "N/A"
  SAMPLE_FIRST_PIXEL = 1
  SAMPLE_LAST_PIXEL = 4779
  SAMPLE_PROJECTION_OFFSET = 2443.25
  SECOND_STANDARD_PARALLEL = "N/A"
  WESTERNMOST_LONGITUDE = 204.95
END_OBJECT = IMAGE_MAP_PROJECTION
/* The JPEG2000 image data file associated with this label. */
OBJECT = COMPRESSED_FILE
  FILE_NAME = "H1897_0000_P23.JP2"
  RECORD_TYPE = UNDEFINED
  FILE_RECORDS = UNK
  ENCODING_TYPE = "JP2"
  INTERCHANGE_FORMAT = BINARY
  UNCOMPRESSED_FILE_NAME = "H1897_0000_P23.IMG"
  REQUIRED_STORAGE_BYTES = "165119229"
  ^DESCRIPTION = "JP2INFO.TXT"
END_OBJECT = COMPRESSED_FILE
END
