PDS_VERSION_ID = PDS3
/* FILE DATA ELEMENTS */
RECORD_TYPE = STREAM
/* POINTERS TO DATA OBJECTS */
^COMPRESSED_FILE = "H1897_0006_SR3.JP2"
/* IDENTIFICATION DATA ELEMENTS */
DATA_SET_ID = "MEX-M-HRSC-5-REFDR-MAPPROJECTED-V3.0"
DATA_SET_NAME = "MARS EXPRESS HRSC MAP PROJECTED REFDR V3.0"
DETECTOR_ID = MEX_HRSC_SRC
EVENT_TYPE = "MARS-LOCAL-STEREO-Vo-La-At"
INSTRUMENT_HOST_ID = MEX
INSTRUMENT_HOST_NAME = "MARS EXPRESS"
INSTRUMENT_ID = HRSC
INSTRUMENT_NAME = "HIGH RESOLUTION STEREO CAMERA"
MISSION_NAME = "MARS EXPRESS"
MISSION_PHASE_NAME = MR_Phase_6
PROCESSING_LEVEL_ID = 3
PRODUCT_CREATION_TIME = 2016-03-09T13:44:56.000Z
PRODUCT_ID = "H1897_0006_SR3.JP2"
RELEASE_ID = 0024
REVISION_ID = 0000
/* QUALITY DATA ELEMENTS */
DATA_QUALITY_ID = 1
DATA_QUALITY_DESC = "Data calculated based on original SPICE kernels"
/* TIME DATA ELEMENTS */
SPACECRAFT_CLOCK_START_COUNT = "1/0068854030.57162"
SPACECRAFT_CLOCK_STOP_COUNT = "1/0068854369.17452"
IMAGE_TIME = 2005-07-07T22:10:53.664Z
START_TIME = 2005-07-07T22:10:53.662Z
STOP_TIME = 2005-07-07T22:10:53.667Z
/* ORBITAL DATA ELEMENTS */
ASCENDING_NODE_LONGITUDE = 188.56
MAXIMUM_RESOLUTION = 3.996
FOOTPRINT_POINT_LATITUDE = (0.559051,0.563035,0.565601,0.567829, 0.570328,0.572353,0.574987,0.578025, 0.580051,0.584441,0.587682,0.589909, 0.592812,0.595445,0.597605,0.600441, 0.602871,0.606247,0.608272,0.610365, 0.612795,0.615225,0.618331,0.620356, 0.622381,0.625554,0.626391,0.626409, 0.626427,0.626445,0.626463,0.62648, 0.626498,0.626516,0.626534,0.626551, 0.626569,0.626587,0.626605,0.626622, 0.62664,0.626658,0.626676,0.626693, 0.626711,0.626729,0.626747,0.626764, 0.626782,0.6268,0.626276,0.622902, 0.620474,0.618315,0.616291,0.613457, 0.609949,0.606306,0.602663,0.600774, 0.598075,0.595039,0.592611,0.590654, 0.587483,0.584582,0.582356,0.57952, 0.576281,0.57338,0.571085,0.567104, 0.564608,0.562786,0.559884,0.558842, 0.558823,0.558803,0.558784,0.558764, 0.558745,0.558725,0.558706,0.558686, 0.558667,0.558647,0.558628,0.558608, 0.558589,0.558569,0.55855,0.55853, 0.55851,0.558491,0.558471,0.558452, 0.558432,0.558413,0.558393,0.559051)
FOOTPRINT_POINT_LONGITUDE = (205.905,205.905,205.905,205.905, 205.905,205.905,205.905,205.905,205.905 ,205.905,205.905,205.905,205.905, 205.905,205.905,205.905,205.905,205.905 ,205.905,205.905,205.905,205.905, 205.905,205.905,205.905,205.905,205.909 ,205.911,205.914,205.917,205.92,205.922 ,205.925,205.928,205.93,205.933,205.936 ,205.939,205.941,205.944,205.947, 205.949,205.952,205.955,205.957,205.96, 205.963,205.966,205.968,205.971,205.973 ,205.973,205.973,205.973,205.973, 205.973,205.973,205.973,205.974,205.974 ,205.974,205.974,205.974,205.974, 205.974,205.974,205.974,205.974,205.974 ,205.974,205.974,205.974,205.974, 205.974,205.974,205.97,205.967,205.964, 205.962,205.959,205.956,205.953,205.951 ,205.948,205.945,205.943,205.94,205.937 ,205.934,205.932,205.929,205.926, 205.924,205.921,205.918,205.915,205.913 ,205.91,205.907,205.905)
ORBIT_NUMBER = 1897
ORBITAL_ECCENTRICITY = 0.57
ORBITAL_INCLINATION = 86.57
ORBITAL_SEMIMAJOR_AXIS = 8607.09
PERIAPSIS_ALTITUDE = 307.62
PERIAPSIS_ARGUMENT_ANGLE = 25.54
PERIAPSIS_TIME = 2005-07-07T22:17:20.000Z
SPACECRAFT_ORIENTATION = (0.0,1.0,0.0)
^MEX_ORIENTATION_DESC = "MEX_ORIENTATION_DESC.TXT"
SPACECRAFT_POINTING_MODE = ACROSSTRACK
^MEX_POINTING_DESC = "MEX_POINTING_DESC.TXT"
RIGHT_ASCENSION = -1e+32
DECLINATION = -1e+32
OFFSET_ANGLE = 0.458
SPACECRAFT_SOLAR_DISTANCE = 2.06741e+08
TARGET_NAME = MARS
/* CAMERA DATA ELEMENTS */
BUFFER_MODE_ID = BUFFER_8
EXPOSURE_DURATION = 5.04
INST_CMPRS_NAME = NONE
INST_CMPRS_RATIO = 1.0
INST_CMPRS_QUALITY = -2147483648
INST_CMPRS_QUANTZ_TBL_ID = -2147483648
INSTRUMENT_TEMPERATURE = 11.2121
MISSING_FRAMES = 0
START_BIT = 0
/* RADIOMETRIC DATA ELEMENTS */
BANDWIDTH = 250.0
CENTER_FILTER_WAVELENGTH = 600.0
RADIANCE_OFFSET = -9.99e+31
RADIANCE_SCALING_FACTOR = -9.99e+31
REFLECTANCE_SCALING_FACTOR = -9.99e+31
MEX:REFLECTANCE_OFFSET = -9.99e+31
/* IMAGE OBJECT DEFINITIONS */
OBJECT = IMAGE
  INTERCHANGE_FORMAT = BINARY
  LINES = 852
  LINE_SAMPLES = 861
  SAMPLE_TYPE = UNSIGNED_INTEGER
  SAMPLE_BITS = 8
  BANDS = 1
  BAND_STORAGE_TYPE = BAND_SEQUENTIAL
  MAXIMUM = 2265
  MEAN = 1985.59
  MINIMUM = 1595
  STANDARD_DEVIATION = 55.341
END_OBJECT = IMAGE
/* MAP OBJECT DEFINITIONS */
OBJECT = IMAGE_MAP_PROJECTION
  ^DATA_SET_MAP_PROJECTION_CATALOG= "DSMAP.CAT"
  A_AXIS_RADIUS = 3396.19
  B_AXIS_RADIUS = 3396.19
  C_AXIS_RADIUS = 3396.19
  CENTER_LATITUDE = 0.0
  CENTER_LONGITUDE = 206.0
  COORDINATE_SYSTEM_NAME = PLANETOGRAPHIC
  COORDINATE_SYSTEM_TYPE = "BODY-FIXED ROTATING"
  EASTERNMOST_LONGITUDE = 205.974
  FIRST_STANDARD_PARALLEL = "N/A"
  LINE_FIRST_PIXEL = 1
  LINE_LAST_PIXEL = 852
  LINE_PROJECTION_OFFSET = 7450.0
  MAP_PROJECTION_ROTATION = 0.0
  MAP_PROJECTION_TYPE = SINUSOIDAL
  MAP_RESOLUTION = 11854.9393024378
  MAP_SCALE = 0.005
  MAXIMUM_LATITUDE = 0.6268
  MINIMUM_LATITUDE = 0.558393
  POSITIVE_LONGITUDE_DIRECTION = EAST
  REFERENCE_LATITUDE = "N/A"
  REFERENCE_LONGITUDE = "N/A"
  SAMPLE_FIRST_PIXEL = 1
  SAMPLE_LAST_PIXEL = 861
  SAMPLE_PROJECTION_OFFSET = 1147.0
  SECOND_STANDARD_PARALLEL = "N/A"
  WESTERNMOST_LONGITUDE = 205.905
END_OBJECT = IMAGE_MAP_PROJECTION
/* The JPEG2000 image data file associated with this label. */
OBJECT = COMPRESSED_FILE
  FILE_NAME = "H1897_0006_SR3.JP2"
  RECORD_TYPE = UNDEFINED
  FILE_RECORDS = UNK
  ENCODING_TYPE = "JP2"
  INTERCHANGE_FORMAT = BINARY
  UNCOMPRESSED_FILE_NAME = "H1897_0006_SR3.IMG"
  REQUIRED_STORAGE_BYTES = "751653"
  ^DESCRIPTION = "JP2INFO.TXT"
END_OBJECT = COMPRESSED_FILE
END
