PDS_VERSION_ID = PDS3
/* FILE DATA ELEMENTS */
RECORD_TYPE = STREAM
/* POINTERS TO DATA OBJECTS */
^COMPRESSED_FILE = "H1899_0000_S23.JP2"
/* IDENTIFICATION DATA ELEMENTS */
DATA_SET_ID = "MEX-M-HRSC-5-REFDR-MAPPROJECTED-V3.0"
DATA_SET_NAME = "MARS EXPRESS HRSC MAP PROJECTED REFDR V3.0"
DETECTOR_ID = MEX_HRSC_S2
EVENT_TYPE = "MARS-REGIONAL-MAPPING-Im-Fl"
INSTRUMENT_HOST_ID = MEX
INSTRUMENT_HOST_NAME = "MARS EXPRESS"
INSTRUMENT_ID = HRSC
INSTRUMENT_NAME = "HIGH RESOLUTION STEREO CAMERA"
MISSION_NAME = "MARS EXPRESS"
MISSION_PHASE_NAME = MR_Phase_6
PROCESSING_LEVEL_ID = 3
PRODUCT_CREATION_TIME = 2016-03-09T13:44:56.000Z
PRODUCT_ID = "H1899_0000_S23.JP2"
RELEASE_ID = 0024
REVISION_ID = 0000
/* QUALITY DATA ELEMENTS */
DATA_QUALITY_ID = 1
DATA_QUALITY_DESC = "Data calculated based on original SPICE kernels"
/* TIME DATA ELEMENTS */
SPACECRAFT_CLOCK_START_COUNT = "1/0068901973.57304"
SPACECRAFT_CLOCK_STOP_COUNT = "1/0068902694.54842"
START_TIME = 2005-07-08T11:26:21.102Z
STOP_TIME = 2005-07-08T11:37:00.096Z
/* ORBITAL DATA ELEMENTS */
ASCENDING_NODE_LONGITUDE = 188.52
MAXIMUM_RESOLUTION = 38.5
FOOTPRINT_POINT_LATITUDE = (-28.0722,-28.0937,-28.1082,-28.1156, -28.1159,-28.1058,-27.493,-26.9055, -26.3124,-25.7089,-25.0932,-24.4652, -23.8346,-22.8299,-21.4257,-20.758, -20.0702,-19.0426,-18.3521,-17.6906, -16.7015,-16.0531,-15.4138,-14.7818, -14.158,-13.5371,-12.937,-12.3375, -11.746,-11.1606,-10.5889,-10.0201, -9.45814,-8.89824,-8.34939,-7.80801, -7.27251,-6.74281,-6.21926,-5.70191, -5.18999,-4.68373,-4.18342,-3.68833, -3.19888,-2.71298,-1.75861,-0.821757, -0.125935,0.778142,1.4599,1.47214, 1.26273,0.592905,-0.087768,-1.00917, -1.94531,-2.42353,-2.90927,-3.39405, -3.88403,-4.3815,-4.88512,-5.39345, -5.90669,-6.42618,-6.95192,-7.48361, -8.02166,-8.56815,-9.12353,-9.68051, -10.2425,-10.8155,-11.3947,-11.9807, -12.5746,-13.1758,-13.785,-14.4046, -15.0324,-15.6672,-16.3111,-16.9672, -17.6199,-18.2873,-18.9696,-19.671, -20.353,-21.028,-21.6957,-23.0888, -23.7688,-24.4013,-25.0253,-25.639, -26.2459,-26.8438,-27.4342,-28.0722)
FOOTPRINT_POINT_LONGITUDE = (12.1805,11.4707,10.7625,10.0557, 9.34995,8.42215,8.09684,8.14573,8.19429 ,8.24118,8.28593,8.32856,8.37176, 8.43687,8.52073,8.55997,8.59516,8.65009 ,8.68074,8.71481,8.75922,8.78681, 8.81323,8.83805,8.86128,8.88222,8.90527 ,8.92542,8.94476,8.96288,8.9815,8.99851 ,9.01472,9.02913,9.0437,9.05791,9.07144 ,9.08434,9.09685,9.10895,9.12054,9.1315 ,9.14209,9.15233,9.16237,9.17192, 9.18984,9.2067,9.21732,9.23292,9.45787, 9.99478,10.8397,10.8582,10.8773,10.9054 ,10.9362,10.9518,10.9666,10.9839, 11.0025,11.0209,11.0396,11.0591,11.0797 ,11.101,11.1228,11.1456,11.1692,11.1931 ,11.2172,11.2439,11.2721,11.3006, 11.3305,11.3614,11.394,11.4276,11.463, 11.4988,11.5364,11.5762,11.6175,11.6594 ,11.7075,11.7557,11.8042,11.8517, 11.9059,11.9604,12.0154,12.1355,12.1977 ,12.2564,12.3161,12.3774,12.4392, 12.5021,12.5659,12.1805)
ORBIT_NUMBER = 1899
ORBITAL_ECCENTRICITY = 0.57
ORBITAL_INCLINATION = 86.56
ORBITAL_SEMIMAJOR_AXIS = 8609.06
PERIAPSIS_ALTITUDE = 307.59
PERIAPSIS_ARGUMENT_ANGLE = 25.19
PERIAPSIS_TIME = 2005-07-08T11:43:50.000Z
SPACECRAFT_ORIENTATION = (0.0,1.0,0.0)
^MEX_ORIENTATION_DESC = "MEX_ORIENTATION_DESC.TXT"
SPACECRAFT_POINTING_MODE = ACROSSTRACK
^MEX_POINTING_DESC = "MEX_POINTING_DESC.TXT"
RIGHT_ASCENSION = -1e+32
DECLINATION = -1e+32
OFFSET_ANGLE = -0.229
SPACECRAFT_SOLAR_DISTANCE = 2.0673e+08
TARGET_NAME = MARS
/* CAMERA DATA ELEMENTS */
DETECTOR_TEMPERATURE = 18.9822
FOCAL_PLANE_TEMPERATURE = 9.195
INST_CMPRS_NAME = "DISCRETE COSINE TRANSFORMATION (DCT)"
INST_CMPRS_RATIO = 11.0239
INST_CMPRS_QUALITY = 0
INST_CMPRS_QUANTZ_TBL_ID = 0
INSTRUMENT_TEMPERATURE = 11.234
LENS_TEMPERATURE = 9.6028
MACROPIXEL_SIZE = 2
MISSING_FRAMES = 185
PIXEL_SUBSAMPLING_FLAG = N
SIGNAL_CHAIN_ID = 1
/* RADIOMETRIC DATA ELEMENTS */
BANDWIDTH = 178.0
CENTER_FILTER_WAVELENGTH = 679.0
RADIANCE_OFFSET = 1.73212
RADIANCE_SCALING_FACTOR = 0.0134235
REFLECTANCE_SCALING_FACTOR = 0.000303811
MEX:REFLECTANCE_OFFSET = 0.0392026
/* IMAGE OBJECT DEFINITIONS */
OBJECT = IMAGE
  INTERCHANGE_FORMAT = BINARY
  LINES = 67734
  LINE_SAMPLES = 7772
  SAMPLE_TYPE = UNSIGNED_INTEGER
  SAMPLE_BITS = 8
  BANDS = 1
  BAND_STORAGE_TYPE = BAND_SEQUENTIAL
  MAXIMUM = 278
  MEAN = 152.246
  MINIMUM = 79
  STANDARD_DEVIATION = 35.4023
END_OBJECT = IMAGE
/* MAP OBJECT DEFINITIONS */
OBJECT = IMAGE_MAP_PROJECTION
  ^DATA_SET_MAP_PROJECTION_CATALOG= "DSMAP.CAT"
  A_AXIS_RADIUS = 3396.0
  B_AXIS_RADIUS = 3396.0
  C_AXIS_RADIUS = 3396.0
  CENTER_LATITUDE = 0.0
  CENTER_LONGITUDE = 10.0
  COORDINATE_SYSTEM_NAME = PLANETOGRAPHIC
  COORDINATE_SYSTEM_TYPE = "BODY-FIXED ROTATING"
  EASTERNMOST_LONGITUDE = 12.5659
  FIRST_STANDARD_PARALLEL = "N/A"
  LINE_FIRST_PIXEL = 1
  LINE_LAST_PIXEL = 67734
  LINE_PROJECTION_OFFSET = 3478.25
  MAP_PROJECTION_ROTATION = 0.0
  MAP_PROJECTION_TYPE = SINUSOIDAL
  MAP_RESOLUTION = 2370.85521546667
  MAP_SCALE = 0.025
  MAXIMUM_LATITUDE = 1.47214
  MINIMUM_LATITUDE = -28.1159
  POSITIVE_LONGITUDE_DIRECTION = EAST
  REFERENCE_LATITUDE = "N/A"
  REFERENCE_LONGITUDE = "N/A"
  SAMPLE_FIRST_PIXEL = 1
  SAMPLE_LAST_PIXEL = 7772
  SAMPLE_PROJECTION_OFFSET = 3213.75
  SECOND_STANDARD_PARALLEL = "N/A"
  WESTERNMOST_LONGITUDE = 8.09684
END_OBJECT = IMAGE_MAP_PROJECTION
/* The JPEG2000 image data file associated with this label. */
OBJECT = COMPRESSED_FILE
  FILE_NAME = "H1899_0000_S23.JP2"
  RECORD_TYPE = UNDEFINED
  FILE_RECORDS = UNK
  ENCODING_TYPE = "JP2"
  INTERCHANGE_FORMAT = BINARY
  UNCOMPRESSED_FILE_NAME = "H1899_0000_S23.IMG"
  REQUIRED_STORAGE_BYTES = "526459736"
  ^DESCRIPTION = "JP2INFO.TXT"
END_OBJECT = COMPRESSED_FILE
END
