PDS_VERSION_ID = PDS3
/* FILE DATA ELEMENTS */
RECORD_TYPE = STREAM
/* POINTERS TO DATA OBJECTS */
^COMPRESSED_FILE = "H1900_0000_P13.JP2"
/* IDENTIFICATION DATA ELEMENTS */
DATA_SET_ID = "MEX-M-HRSC-5-REFDR-MAPPROJECTED-V3.0"
DATA_SET_NAME = "MARS EXPRESS HRSC MAP PROJECTED REFDR V3.0"
DETECTOR_ID = MEX_HRSC_P1
EVENT_TYPE = "MARS-REGIONAL-MAPPING-Vo-Te-La"
INSTRUMENT_HOST_ID = MEX
INSTRUMENT_HOST_NAME = "MARS EXPRESS"
INSTRUMENT_ID = HRSC
INSTRUMENT_NAME = "HIGH RESOLUTION STEREO CAMERA"
MISSION_NAME = "MARS EXPRESS"
MISSION_PHASE_NAME = MR_Phase_6
PROCESSING_LEVEL_ID = 3
PRODUCT_CREATION_TIME = 2016-03-09T13:44:56.000Z
PRODUCT_ID = "H1900_0000_P13.JP2"
RELEASE_ID = 0024
REVISION_ID = 0000
/* QUALITY DATA ELEMENTS */
DATA_QUALITY_ID = 1
DATA_QUALITY_DESC = "Data calculated based on original SPICE kernels"
/* TIME DATA ELEMENTS */
SPACECRAFT_CLOCK_START_COUNT = "1/0068926083.56187"
SPACECRAFT_CLOCK_STOP_COUNT = "1/0068926816.05558"
START_TIME = 2005-07-08T18:12:17.383Z
STOP_TIME = 2005-07-08T18:20:07.350Z
/* ORBITAL DATA ELEMENTS */
ASCENDING_NODE_LONGITUDE = 188.49
MAXIMUM_RESOLUTION = 37.1
FOOTPRINT_POINT_LATITUDE = (-31.2099,-31.222,-31.227,-31.2305, -31.2326,-31.2371,-30.5348,-29.8434, -29.1622,-28.4912,-27.8295,-27.1782, -26.5363,-25.9026,-25.2789,-24.6627, -24.0558,-23.4563,-22.8654,-22.2827, -21.7073,-21.1391,-20.5787,-20.0258, -19.4797,-18.9403,-18.408,-17.8822, -17.3628,-16.8494,-16.3426,-15.8417, -15.3465,-14.8566,-14.3723,-13.8946, -13.422,-12.9549,-12.4914,-12.0414, -11.5909,-11.1411,-10.4726,-8.46688, -7.84978,-7.23962,-6.44927,-5.84365, -5.26444,-4.50332,-3.72804,-3.6911, -3.67691,-4.07318,-4.83675,-5.40429, -6.17282,-6.58871,-7.38014,-7.78643, -8.40924,-10.413,-10.8531,-11.296, -11.7467,-12.2009,-12.6594,-13.1236, -13.5938,-14.0687,-14.5492,-15.0348, -15.5257,-16.0233,-16.5267,-17.0363, -17.5521,-18.0741,-18.6028,-19.1376, -19.6814,-20.2282,-20.7853,-21.349, -21.9196,-22.4976,-23.0848,-23.6796, -24.2822,-24.8934,-25.5125,-26.1414, -26.7788,-27.4248,-28.0812,-28.7472, -29.4232,-30.1094,-30.806,-31.2099)
FOOTPRINT_POINT_LONGITUDE = (272.726,271.701,271.114,270.526, 269.935,269.438,269.485,269.529,269.571 ,269.61,269.648,269.683,269.717,269.749 ,269.78,269.809,269.837,269.864,269.889 ,269.914,269.937,269.959,269.98,270.001 ,270.02,270.039,270.057,270.074,270.09, 270.106,270.121,270.136,270.15,270.163, 270.176,270.188,270.201,270.212,270.223 ,270.229,270.238,270.249,270.267, 270.307,270.314,270.323,270.327,270.345 ,270.35,270.356,270.379,270.949,271.819 ,271.978,272.0,272.014,272.032,272.049, 272.07,272.082,272.103,272.172,272.188, 272.204,272.22,272.237,272.255,272.273, 272.292,272.311,272.331,272.351,272.371 ,272.393,272.415,272.437,272.461, 272.485,272.51,272.535,272.562,272.588, 272.616,272.645,272.675,272.705,272.737 ,272.77,272.804,272.839,272.875,272.912 ,272.95,272.99,273.032,273.074,273.119, 273.165,273.212,272.726)
ORBIT_NUMBER = 1900
ORBITAL_ECCENTRICITY = 0.571
ORBITAL_INCLINATION = 86.58
ORBITAL_SEMIMAJOR_AXIS = 8616.55
PERIAPSIS_ALTITUDE = 306.72
PERIAPSIS_ARGUMENT_ANGLE = 25.03
PERIAPSIS_TIME = 2005-07-08T18:27:08.000Z
SPACECRAFT_ORIENTATION = (0.0,1.0,0.0)
^MEX_ORIENTATION_DESC = "MEX_ORIENTATION_DESC.TXT"
SPACECRAFT_POINTING_MODE = ACROSSTRACK
^MEX_POINTING_DESC = "MEX_POINTING_DESC.TXT"
RIGHT_ASCENSION = -1e+32
DECLINATION = -1e+32
OFFSET_ANGLE = 0.35
SPACECRAFT_SOLAR_DISTANCE = 2.06725e+08
TARGET_NAME = MARS
/* CAMERA DATA ELEMENTS */
DETECTOR_TEMPERATURE = 17.9627
FOCAL_PLANE_TEMPERATURE = 9.8067
INST_CMPRS_NAME = "DISCRETE COSINE TRANSFORMATION (DCT)"
INST_CMPRS_RATIO = 12.5095
INST_CMPRS_QUALITY = 0
INST_CMPRS_QUANTZ_TBL_ID = 0
INSTRUMENT_TEMPERATURE = 11.6418
LENS_TEMPERATURE = 10.0106
MACROPIXEL_SIZE = 2
MISSING_FRAMES = 341
PIXEL_SUBSAMPLING_FLAG = N
SIGNAL_CHAIN_ID = 3
/* RADIOMETRIC DATA ELEMENTS */
BANDWIDTH = 174.0
CENTER_FILTER_WAVELENGTH = 675.0
RADIANCE_OFFSET = 2.05042
RADIANCE_SCALING_FACTOR = 0.012489
REFLECTANCE_SCALING_FACTOR = 0.000287077
MEX:REFLECTANCE_OFFSET = 0.0471317
/* IMAGE OBJECT DEFINITIONS */
OBJECT = IMAGE
  INTERCHANGE_FORMAT = BINARY
  LINES = 32666
  LINE_SAMPLES = 4303
  SAMPLE_TYPE = UNSIGNED_INTEGER
  SAMPLE_BITS = 8
  BANDS = 1
  BAND_STORAGE_TYPE = BAND_SEQUENTIAL
  MAXIMUM = 253
  MEAN = 152.86
  MINIMUM = 92
  STANDARD_DEVIATION = 20.7528
END_OBJECT = IMAGE
/* MAP OBJECT DEFINITIONS */
OBJECT = IMAGE_MAP_PROJECTION
  ^DATA_SET_MAP_PROJECTION_CATALOG= "DSMAP.CAT"
  A_AXIS_RADIUS = 3396.0
  B_AXIS_RADIUS = 3396.0
  C_AXIS_RADIUS = 3396.0
  CENTER_LATITUDE = 0.0
  CENTER_LONGITUDE = 271.0
  COORDINATE_SYSTEM_NAME = PLANETOGRAPHIC
  COORDINATE_SYSTEM_TYPE = "BODY-FIXED ROTATING"
  EASTERNMOST_LONGITUDE = 273.212
  FIRST_STANDARD_PARALLEL = "N/A"
  LINE_FIRST_PIXEL = 1
  LINE_LAST_PIXEL = 32666
  LINE_PROJECTION_OFFSET = -4390.25
  MAP_PROJECTION_ROTATION = 0.0
  MAP_PROJECTION_TYPE = SINUSOIDAL
  MAP_RESOLUTION = 1185.42760773333
  MAP_SCALE = 0.05
  MAXIMUM_LATITUDE = -3.67691
  MINIMUM_LATITUDE = -31.2371
  POSITIVE_LONGITUDE_DIRECTION = EAST
  REFERENCE_LATITUDE = "N/A"
  REFERENCE_LONGITUDE = "N/A"
  SAMPLE_FIRST_PIXEL = 1
  SAMPLE_LAST_PIXEL = 4303
  SAMPLE_PROJECTION_OFFSET = 1819.75
  SECOND_STANDARD_PARALLEL = "N/A"
  WESTERNMOST_LONGITUDE = 269.438
END_OBJECT = IMAGE_MAP_PROJECTION
/* The JPEG2000 image data file associated with this label. */
OBJECT = COMPRESSED_FILE
  FILE_NAME = "H1900_0000_P13.JP2"
  RECORD_TYPE = UNDEFINED
  FILE_RECORDS = UNK
  ENCODING_TYPE = "JP2"
  INTERCHANGE_FORMAT = BINARY
  UNCOMPRESSED_FILE_NAME = "H1900_0000_P13.IMG"
  REQUIRED_STORAGE_BYTES = "140587616"
  ^DESCRIPTION = "JP2INFO.TXT"
END_OBJECT = COMPRESSED_FILE
END
