PDS_VERSION_ID = PDS3
/* FILE DATA ELEMENTS */
RECORD_TYPE = STREAM
/* POINTERS TO DATA OBJECTS */
^COMPRESSED_FILE = "H1900_0000_S13.JP2"
/* IDENTIFICATION DATA ELEMENTS */
DATA_SET_ID = "MEX-M-HRSC-5-REFDR-MAPPROJECTED-V3.0"
DATA_SET_NAME = "MARS EXPRESS HRSC MAP PROJECTED REFDR V3.0"
DETECTOR_ID = MEX_HRSC_S1
EVENT_TYPE = "MARS-REGIONAL-MAPPING-Vo-Te-La"
INSTRUMENT_HOST_ID = MEX
INSTRUMENT_HOST_NAME = "MARS EXPRESS"
INSTRUMENT_ID = HRSC
INSTRUMENT_NAME = "HIGH RESOLUTION STEREO CAMERA"
MISSION_NAME = "MARS EXPRESS"
MISSION_PHASE_NAME = MR_Phase_6
PROCESSING_LEVEL_ID = 3
PRODUCT_CREATION_TIME = 2016-03-09T13:44:56.000Z
PRODUCT_ID = "H1900_0000_S13.JP2"
RELEASE_ID = 0024
REVISION_ID = 0000
/* QUALITY DATA ELEMENTS */
DATA_QUALITY_ID = 1
DATA_QUALITY_DESC = "Data calculated based on original SPICE kernels"
/* TIME DATA ELEMENTS */
SPACECRAFT_CLOCK_START_COUNT = "1/0068926083.56187"
SPACECRAFT_CLOCK_STOP_COUNT = "1/0068926816.05558"
START_TIME = 2005-07-08T18:12:51.159Z
STOP_TIME = 2005-07-08T18:20:21.354Z
/* ORBITAL DATA ELEMENTS */
ASCENDING_NODE_LONGITUDE = 188.49
MAXIMUM_RESOLUTION = 37.6
FOOTPRINT_POINT_LATITUDE = (-31.1934,-31.202,-31.2155,-31.222, -31.2278,-30.8858,-30.1856,-29.4962, -28.8184,-28.1506,-27.4919,-26.8437, -26.205,-25.5732,-24.9507,-24.3382, -23.7339,-22.8356,-22.2514,-21.6753, -21.1065,-20.5451,-19.9919,-19.445, -18.9058,-18.3729,-17.8467,-17.3266, -16.8129,-16.3063,-15.8055,-15.3105, -14.8209,-14.3365,-13.8591,-13.3868, -12.9194,-12.456,-11.7852,-11.336, -9.29738,-8.87125,-8.24374,-7.83698, -7.42195,-6.65171,-6.24317,-5.6572, -4.87421,-4.29554,-3.69255,-3.67457, -3.66469,-4.05777,-4.45882,-5.02825, -5.95791,-6.575,-6.98189,-7.5653, -7.97214,-8.38922,-9.01994,-9.44545, -11.482,-11.9335,-12.3881,-12.851, -13.3179,-13.7889,-14.2662,-14.7503, -15.2388,-15.7327,-16.2326,-16.7385, -17.2518,-17.7709,-18.2965,-18.8292, -19.3678,-19.9134,-20.4658,-21.0268, -21.5944,-22.1702,-22.7537,-23.6517, -24.2556,-24.8669,-25.4891,-26.1196, -26.7588,-27.4069,-28.0648,-28.7322, -29.4103,-30.0994,-30.7986,-31.1934)
FOOTPRINT_POINT_LONGITUDE = (272.884,272.321,271.298,270.733, 270.165,269.53,269.573,269.613,269.651, 269.687,269.722,269.754,269.785,269.815 ,269.843,269.87,269.896,269.932,269.955 ,269.977,269.997,270.018,270.037, 270.055,270.072,270.089,270.105,270.121 ,270.136,270.15,270.163,270.177,270.189 ,270.201,270.213,270.224,270.235, 270.245,270.254,270.264,270.308,270.315 ,270.327,270.331,270.34,270.336,270.347 ,270.353,270.368,270.38,270.573,271.312 ,271.79,271.958,271.972,271.987,272.007 ,272.029,272.042,272.055,272.067, 272.081,272.101,272.115,272.185,272.201 ,272.218,272.235,272.253,272.271, 272.289,272.308,272.328,272.348,272.369 ,272.39,272.412,272.435,272.458,272.483 ,272.507,272.533,272.559,272.586, 272.614,272.643,272.673,272.72,272.752, 272.785,272.82,272.855,272.892,272.93, 272.97,273.01,273.053,273.097,273.142, 272.884)
ORBIT_NUMBER = 1900
ORBITAL_ECCENTRICITY = 0.571
ORBITAL_INCLINATION = 86.58
ORBITAL_SEMIMAJOR_AXIS = 8616.55
PERIAPSIS_ALTITUDE = 306.72
PERIAPSIS_ARGUMENT_ANGLE = 25.03
PERIAPSIS_TIME = 2005-07-08T18:27:08.000Z
SPACECRAFT_ORIENTATION = (0.0,1.0,0.0)
^MEX_ORIENTATION_DESC = "MEX_ORIENTATION_DESC.TXT"
SPACECRAFT_POINTING_MODE = ACROSSTRACK
^MEX_POINTING_DESC = "MEX_POINTING_DESC.TXT"
RIGHT_ASCENSION = -1e+32
DECLINATION = -1e+32
OFFSET_ANGLE = 0.35
SPACECRAFT_SOLAR_DISTANCE = 2.06725e+08
TARGET_NAME = MARS
/* CAMERA DATA ELEMENTS */
DETECTOR_TEMPERATURE = 17.9627
FOCAL_PLANE_TEMPERATURE = 9.8067
INST_CMPRS_NAME = "DISCRETE COSINE TRANSFORMATION (DCT)"
INST_CMPRS_RATIO = 11.5345
INST_CMPRS_QUALITY = 0
INST_CMPRS_QUANTZ_TBL_ID = 0
INSTRUMENT_TEMPERATURE = 11.6418
LENS_TEMPERATURE = 10.0106
MACROPIXEL_SIZE = 2
MISSING_FRAMES = 337
PIXEL_SUBSAMPLING_FLAG = N
SIGNAL_CHAIN_ID = 1
/* RADIOMETRIC DATA ELEMENTS */
BANDWIDTH = 180.0
CENTER_FILTER_WAVELENGTH = 677.0
RADIANCE_OFFSET = 2.29214
RADIANCE_SCALING_FACTOR = 0.0135325
REFLECTANCE_SCALING_FACTOR = 0.000301721
MEX:REFLECTANCE_OFFSET = 0.0511054
/* IMAGE OBJECT DEFINITIONS */
OBJECT = IMAGE
  INTERCHANGE_FORMAT = BINARY
  LINES = 32666
  LINE_SAMPLES = 4303
  SAMPLE_TYPE = UNSIGNED_INTEGER
  SAMPLE_BITS = 8
  BANDS = 1
  BAND_STORAGE_TYPE = BAND_SEQUENTIAL
  MAXIMUM = 238
  MEAN = 147.057
  MINIMUM = 88
  STANDARD_DEVIATION = 19.7021
END_OBJECT = IMAGE
/* MAP OBJECT DEFINITIONS */
OBJECT = IMAGE_MAP_PROJECTION
  ^DATA_SET_MAP_PROJECTION_CATALOG= "DSMAP.CAT"
  A_AXIS_RADIUS = 3396.0
  B_AXIS_RADIUS = 3396.0
  C_AXIS_RADIUS = 3396.0
  CENTER_LATITUDE = 0.0
  CENTER_LONGITUDE = 271.0
  COORDINATE_SYSTEM_NAME = PLANETOGRAPHIC
  COORDINATE_SYSTEM_TYPE = "BODY-FIXED ROTATING"
  EASTERNMOST_LONGITUDE = 273.142
  FIRST_STANDARD_PARALLEL = "N/A"
  LINE_FIRST_PIXEL = 1
  LINE_LAST_PIXEL = 32666
  LINE_PROJECTION_OFFSET = -4390.25
  MAP_PROJECTION_ROTATION = 0.0
  MAP_PROJECTION_TYPE = SINUSOIDAL
  MAP_RESOLUTION = 1185.42760773333
  MAP_SCALE = 0.05
  MAXIMUM_LATITUDE = -3.66469
  MINIMUM_LATITUDE = -31.2278
  POSITIVE_LONGITUDE_DIRECTION = EAST
  REFERENCE_LATITUDE = "N/A"
  REFERENCE_LONGITUDE = "N/A"
  SAMPLE_FIRST_PIXEL = 1
  SAMPLE_LAST_PIXEL = 4303
  SAMPLE_PROJECTION_OFFSET = 1819.75
  SECOND_STANDARD_PARALLEL = "N/A"
  WESTERNMOST_LONGITUDE = 269.53
END_OBJECT = IMAGE_MAP_PROJECTION
/* The JPEG2000 image data file associated with this label. */
OBJECT = COMPRESSED_FILE
  FILE_NAME = "H1900_0000_S13.JP2"
  RECORD_TYPE = UNDEFINED
  FILE_RECORDS = UNK
  ENCODING_TYPE = "JP2"
  INTERCHANGE_FORMAT = BINARY
  UNCOMPRESSED_FILE_NAME = "H1900_0000_S13.IMG"
  REQUIRED_STORAGE_BYTES = "140587616"
  ^DESCRIPTION = "JP2INFO.TXT"
END_OBJECT = COMPRESSED_FILE
END
