PDS_VERSION_ID = PDS3
/* FILE DATA ELEMENTS */
RECORD_TYPE = STREAM
/* POINTERS TO DATA OBJECTS */
^COMPRESSED_FILE = "H1901_0000_BL3.JP2"
/* IDENTIFICATION DATA ELEMENTS */
DATA_SET_ID = "MEX-M-HRSC-5-REFDR-MAPPROJECTED-V3.0"
DATA_SET_NAME = "MARS EXPRESS HRSC MAP PROJECTED REFDR V3.0"
DETECTOR_ID = MEX_HRSC_BLUE
EVENT_TYPE = "MARS-REGIONAL-MAPPING-Vo-Te-Fl"
INSTRUMENT_HOST_ID = MEX
INSTRUMENT_HOST_NAME = "MARS EXPRESS"
INSTRUMENT_ID = HRSC
INSTRUMENT_NAME = "HIGH RESOLUTION STEREO CAMERA"
MISSION_NAME = "MARS EXPRESS"
MISSION_PHASE_NAME = MR_Phase_6
PROCESSING_LEVEL_ID = 3
PRODUCT_CREATION_TIME = 2016-03-09T16:25:58.000Z
PRODUCT_ID = "H1901_0000_BL3.JP2"
RELEASE_ID = 0025
REVISION_ID = 0000
/* QUALITY DATA ELEMENTS */
DATA_QUALITY_ID = 2
DATA_QUALITY_DESC = "Data calculated based on photogrammetrically improved orbit and attitude data"
/* TIME DATA ELEMENTS */
SPACECRAFT_CLOCK_START_COUNT = "1/0068950037.57320"
SPACECRAFT_CLOCK_STOP_COUNT = "1/0068950894.65511"
START_TIME = 2005-07-09T00:51:02.088Z
STOP_TIME = 2005-07-09T01:00:36.121Z
/* ORBITAL DATA ELEMENTS */
ASCENDING_NODE_LONGITUDE = 188.47
MAXIMUM_RESOLUTION = 95.1
FOOTPRINT_POINT_LATITUDE = (-38.4523,-38.4617,-38.4684,-38.469, -38.464,-38.4522,-38.4379,-37.6879, -36.97,-36.2622,-35.5622,-34.8735, -34.1931,-33.5213,-32.8599,-32.2068, -31.5611,-30.9254,-30.297,-29.6772, -29.0648,-28.4613,-27.865,-27.2757, -26.6916,-26.1181,-25.5509,-24.9904, -24.4368,-23.8879,-23.3472,-22.8121, -22.2844,-21.7617,-21.2457,-20.7355, -20.2298,-19.7329,-19.2389,-18.7507, -18.2673,-17.7901,-17.3182,-16.8519, -16.3893,-15.9325,-15.0309,-14.1487, -13.2854,-12.4377,-11.6063,-11.0924, -11.0861,-11.0809,-11.9016,-12.738, -13.5907,-14.4611,-15.3493,-15.8012, -16.2581,-16.7188,-17.1846,-17.6552, -18.1303,-18.6111,-19.0978,-19.5903, -20.0878,-20.5906,-21.0993,-21.6138, -22.1342,-22.6611,-23.1936,-23.7332, -24.2791,-24.8313,-25.3916,-25.9585, -26.5327,-27.1138,-27.7006,-28.2972, -28.8997,-29.5106,-30.1291,-30.7566, -31.3926,-32.037,-32.6895,-33.352, -34.0225,-34.7023,-35.3912,-36.0894, -36.7984,-37.5178,-38.2465,-38.4523)
FOOTPRINT_POINT_LONGITUDE = (175.615,174.981,174.136,173.503,172.66 ,171.816,171.127,170.759,170.839, 170.915,170.984,171.052,171.115,171.175 ,171.234,171.289,171.339,171.39,171.436 ,171.481,171.523,171.564,171.602, 171.638,171.67,171.707,171.74,171.771, 171.8,171.826,171.852,171.877,171.901, 171.925,171.947,171.968,171.987,172.009 ,172.027,172.045,172.061,172.078, 172.093,172.11,172.124,172.14,172.164, 172.19,172.215,172.235,172.256,173.03, 173.772,174.365,174.402,174.438,174.477 ,174.519,174.562,174.583,174.605, 174.629,174.653,174.678,174.704,174.731 ,174.758,174.786,174.815,174.844, 174.875,174.908,174.941,174.975,175.011 ,175.048,175.085,175.123,175.163, 175.204,175.246,175.29,175.337,175.382, 175.432,175.483,175.536,175.59,175.647, 175.706,175.767,175.829,175.896,175.965 ,176.038,176.113,176.19,176.27,176.354, 175.615)
ORBIT_NUMBER = 1901
ORBITAL_ECCENTRICITY = 0.57
ORBITAL_INCLINATION = 86.58
ORBITAL_SEMIMAJOR_AXIS = 8603.67
PERIAPSIS_ALTITUDE = 307.42
PERIAPSIS_ARGUMENT_ANGLE = 24.84
PERIAPSIS_TIME = 2005-07-09T01:10:19.000Z
SPACECRAFT_ORIENTATION = (0.0,1.0,0.0)
^MEX_ORIENTATION_DESC = "MEX_ORIENTATION_DESC.TXT"
SPACECRAFT_POINTING_MODE = NADIR
^MEX_POINTING_DESC = "MEX_POINTING_DESC.TXT"
RIGHT_ASCENSION = -1e+32
DECLINATION = -1e+32
OFFSET_ANGLE = -1e+32
SPACECRAFT_SOLAR_DISTANCE = 2.06719e+08
TARGET_NAME = MARS
/* CAMERA DATA ELEMENTS */
DETECTOR_TEMPERATURE = 18.7783
FOCAL_PLANE_TEMPERATURE = 9.195
INST_CMPRS_NAME = "DISCRETE COSINE TRANSFORMATION (DCT)"
INST_CMPRS_RATIO = 8.75573
INST_CMPRS_QUALITY = 0
INST_CMPRS_QUANTZ_TBL_ID = 0
INSTRUMENT_TEMPERATURE = 11.6418
LENS_TEMPERATURE = 9.8067
MACROPIXEL_SIZE = 4
MISSING_FRAMES = 0
PIXEL_SUBSAMPLING_FLAG = N
SIGNAL_CHAIN_ID = 2
/* RADIOMETRIC DATA ELEMENTS */
BANDWIDTH = 76.0
CENTER_FILTER_WAVELENGTH = 444.0
RADIANCE_OFFSET = 0.465941
RADIANCE_SCALING_FACTOR = 0.00172043
REFLECTANCE_SCALING_FACTOR = 7.55365e-05
MEX:REFLECTANCE_OFFSET = 0.0204574
/* IMAGE OBJECT DEFINITIONS */
OBJECT = IMAGE
  INTERCHANGE_FORMAT = BINARY
  LINES = 16232
  LINE_SAMPLES = 2584
  SAMPLE_TYPE = UNSIGNED_INTEGER
  SAMPLE_BITS = 8
  BANDS = 1
  BAND_STORAGE_TYPE = BAND_SEQUENTIAL
  MAXIMUM = 305
  MEAN = 211.496
  MINIMUM = 149
  STANDARD_DEVIATION = 34.41
END_OBJECT = IMAGE
/* MAP OBJECT DEFINITIONS */
OBJECT = IMAGE_MAP_PROJECTION
  ^DATA_SET_MAP_PROJECTION_CATALOG= "DSMAP.CAT"
  A_AXIS_RADIUS = 3396.0
  B_AXIS_RADIUS = 3396.0
  C_AXIS_RADIUS = 3396.0
  CENTER_LATITUDE = 0.0
  CENTER_LONGITUDE = 173.0
  COORDINATE_SYSTEM_NAME = PLANETOGRAPHIC
  COORDINATE_SYSTEM_TYPE = "BODY-FIXED ROTATING"
  EASTERNMOST_LONGITUDE = 176.354
  FIRST_STANDARD_PARALLEL = "N/A"
  LINE_FIRST_PIXEL = 1
  LINE_LAST_PIXEL = 16232
  LINE_PROJECTION_OFFSET = -6568.125
  MAP_PROJECTION_ROTATION = 0.0
  MAP_PROJECTION_TYPE = SINUSOIDAL
  MAP_RESOLUTION = 592.713803866667
  MAP_SCALE = 0.1
  MAXIMUM_LATITUDE = -11.0809
  MINIMUM_LATITUDE = -38.469
  POSITIVE_LONGITUDE_DIRECTION = EAST
  REFERENCE_LATITUDE = "N/A"
  REFERENCE_LONGITUDE = "N/A"
  SAMPLE_FIRST_PIXEL = 1
  SAMPLE_LAST_PIXEL = 2584
  SAMPLE_PROJECTION_OFFSET = 1055.125
  SECOND_STANDARD_PARALLEL = "N/A"
  WESTERNMOST_LONGITUDE = 170.759
END_OBJECT = IMAGE_MAP_PROJECTION
/* The JPEG2000 image data file associated with this label. */
OBJECT = COMPRESSED_FILE
  FILE_NAME = "H1901_0000_BL3.JP2"
  RECORD_TYPE = UNDEFINED
  FILE_RECORDS = UNK
  ENCODING_TYPE = "JP2"
  INTERCHANGE_FORMAT = BINARY
  UNCOMPRESSED_FILE_NAME = "H1901_0000_BL3.IMG"
  REQUIRED_STORAGE_BYTES = "41964160"
  ^DESCRIPTION = "JP2INFO.TXT"
END_OBJECT = COMPRESSED_FILE
END
