PDS_VERSION_ID = PDS3
/* FILE DATA ELEMENTS */
RECORD_TYPE = STREAM
/* POINTERS TO DATA OBJECTS */
^COMPRESSED_FILE = "H1901_0000_S23.JP2"
/* IDENTIFICATION DATA ELEMENTS */
DATA_SET_ID = "MEX-M-HRSC-5-REFDR-MAPPROJECTED-V3.0"
DATA_SET_NAME = "MARS EXPRESS HRSC MAP PROJECTED REFDR V3.0"
DETECTOR_ID = MEX_HRSC_S2
EVENT_TYPE = "MARS-REGIONAL-MAPPING-Vo-Te-Fl"
INSTRUMENT_HOST_ID = MEX
INSTRUMENT_HOST_NAME = "MARS EXPRESS"
INSTRUMENT_ID = HRSC
INSTRUMENT_NAME = "HIGH RESOLUTION STEREO CAMERA"
MISSION_NAME = "MARS EXPRESS"
MISSION_PHASE_NAME = MR_Phase_6
PROCESSING_LEVEL_ID = 3
PRODUCT_CREATION_TIME = 2016-03-09T16:25:58.000Z
PRODUCT_ID = "H1901_0000_S23.JP2"
RELEASE_ID = 0025
REVISION_ID = 0000
/* QUALITY DATA ELEMENTS */
DATA_QUALITY_ID = 2
DATA_QUALITY_DESC = "Data calculated based on photogrammetrically improved orbit and attitude data"
/* TIME DATA ELEMENTS */
SPACECRAFT_CLOCK_START_COUNT = "1/0068950037.57320"
SPACECRAFT_CLOCK_STOP_COUNT = "1/0068950894.65511"
START_TIME = 2005-07-09T00:47:25.196Z
STOP_TIME = 2005-07-09T00:59:38.917Z
/* ORBITAL DATA ELEMENTS */
ASCENDING_NODE_LONGITUDE = 188.47
MAXIMUM_RESOLUTION = 55.5
FOOTPRINT_POINT_LATITUDE = (-38.5258,-38.5424,-38.5616,-38.5623, -38.5442,-38.5076,-38.4823,-38.366, -37.7744,-37.1736,-36.5525,-35.6005, -34.9682,-34.2997,-33.6391,-32.9874, -32.3469,-31.7155,-30.7703,-30.1437, -29.5325,-28.9243,-28.3214,-27.726, -27.1388,-26.5407,-25.6913,-25.1228, -24.5611,-23.7239,-23.1745,-22.6318, -22.0956,-21.2998,-20.7743,-20.2555, -19.746,-19.2379,-18.734,-17.9862, -17.4946,-17.0078,-16.5313,-15.8213, -15.3487,-14.8863,-14.4283,-13.9746, -13.0827,-12.4175,-11.5534,-11.0818, -11.0794,-11.0678,-11.9165,-12.7933, -13.6801,-14.1297,-14.5841,-15.0435, -15.7489,-16.2249,-16.7027,-17.1819, -17.6736,-18.1617,-18.6565,-19.1597, -19.6673,-20.1812,-20.6992,-21.221, -21.7487,-22.283,-22.8218,-23.639, -24.1911,-24.7526,-25.3197,-25.8934, -26.4722,-27.0608,-27.6553,-28.2539, -28.8575,-29.4642,-30.0785,-30.7028, -31.3337,-31.9706,-32.6136,-33.593, -34.2483,-34.9125,-35.5688,-36.2108, -36.8461,-37.4652,-38.0769,-38.5258)
FOOTPRINT_POINT_LONGITUDE = (176.608,176.04,174.905,173.772,172.64, 171.508,170.941,169.906,170.007,170.107 ,170.203,170.345,170.443,170.53,170.614 ,170.694,170.771,170.846,170.948, 171.011,171.073,171.132,171.188,171.241 ,171.293,171.336,171.41,171.453,171.494 ,171.551,171.587,171.622,171.656, 171.703,171.733,171.761,171.79,171.816, 171.84,171.875,171.898,171.919,171.941, 171.971,171.989,172.007,172.025,172.043 ,172.076,172.097,172.126,172.39,173.383 ,174.474,174.519,174.564,174.614, 174.639,174.666,174.693,174.733,174.761 ,174.791,174.823,174.853,174.887, 174.922,174.957,174.993,175.031,175.07, 175.111,175.153,175.197,175.242,175.314 ,175.363,175.414,175.467,175.522,175.58 ,175.639,175.7,175.765,175.832,175.904, 175.978,176.055,176.135,176.218,176.306 ,176.444,176.544,176.648,176.754, 176.863,176.973,177.085,177.198, 176.608)
ORBIT_NUMBER = 1901
ORBITAL_ECCENTRICITY = 0.57
ORBITAL_INCLINATION = 86.58
ORBITAL_SEMIMAJOR_AXIS = 8603.67
PERIAPSIS_ALTITUDE = 307.42
PERIAPSIS_ARGUMENT_ANGLE = 24.84
PERIAPSIS_TIME = 2005-07-09T01:10:19.000Z
SPACECRAFT_ORIENTATION = (0.0,1.0,0.0)
^MEX_ORIENTATION_DESC = "MEX_ORIENTATION_DESC.TXT"
SPACECRAFT_POINTING_MODE = NADIR
^MEX_POINTING_DESC = "MEX_POINTING_DESC.TXT"
RIGHT_ASCENSION = -1e+32
DECLINATION = -1e+32
OFFSET_ANGLE = -1e+32
SPACECRAFT_SOLAR_DISTANCE = 2.06719e+08
TARGET_NAME = MARS
/* CAMERA DATA ELEMENTS */
DETECTOR_TEMPERATURE = 24.8953
FOCAL_PLANE_TEMPERATURE = 9.195
INST_CMPRS_NAME = "DISCRETE COSINE TRANSFORMATION (DCT)"
INST_CMPRS_RATIO = 10.0319
INST_CMPRS_QUALITY = 0
INST_CMPRS_QUANTZ_TBL_ID = 0
INSTRUMENT_TEMPERATURE = 11.6418
LENS_TEMPERATURE = 9.8067
MACROPIXEL_SIZE = 2
MISSING_FRAMES = 0
PIXEL_SUBSAMPLING_FLAG = N
SIGNAL_CHAIN_ID = 1
/* RADIOMETRIC DATA ELEMENTS */
BANDWIDTH = 178.0
CENTER_FILTER_WAVELENGTH = 679.0
RADIANCE_OFFSET = 3.49758
RADIANCE_SCALING_FACTOR = 0.0125875
REFLECTANCE_SCALING_FACTOR = 0.00028486
MEX:REFLECTANCE_OFFSET = 0.0791517
/* IMAGE OBJECT DEFINITIONS */
OBJECT = IMAGE
  INTERCHANGE_FORMAT = BINARY
  LINES = 32464
  LINE_SAMPLES = 5168
  SAMPLE_TYPE = UNSIGNED_INTEGER
  SAMPLE_BITS = 8
  BANDS = 1
  BAND_STORAGE_TYPE = BAND_SEQUENTIAL
  MAXIMUM = 309
  MEAN = 212.993
  MINIMUM = 154
  STANDARD_DEVIATION = 22.553
END_OBJECT = IMAGE
/* MAP OBJECT DEFINITIONS */
OBJECT = IMAGE_MAP_PROJECTION
  ^DATA_SET_MAP_PROJECTION_CATALOG= "DSMAP.CAT"
  A_AXIS_RADIUS = 3396.0
  B_AXIS_RADIUS = 3396.0
  C_AXIS_RADIUS = 3396.0
  CENTER_LATITUDE = 0.0
  CENTER_LONGITUDE = 173.0
  COORDINATE_SYSTEM_NAME = PLANETOGRAPHIC
  COORDINATE_SYSTEM_TYPE = "BODY-FIXED ROTATING"
  EASTERNMOST_LONGITUDE = 177.198
  FIRST_STANDARD_PARALLEL = "N/A"
  LINE_FIRST_PIXEL = 1
  LINE_LAST_PIXEL = 32464
  LINE_PROJECTION_OFFSET = -13135.75
  MAP_PROJECTION_ROTATION = 0.0
  MAP_PROJECTION_TYPE = SINUSOIDAL
  MAP_RESOLUTION = 1185.42760773333
  MAP_SCALE = 0.05
  MAXIMUM_LATITUDE = -11.0678
  MINIMUM_LATITUDE = -38.5623
  POSITIVE_LONGITUDE_DIRECTION = EAST
  REFERENCE_LATITUDE = "N/A"
  REFERENCE_LONGITUDE = "N/A"
  SAMPLE_FIRST_PIXEL = 1
  SAMPLE_LAST_PIXEL = 5168
  SAMPLE_PROJECTION_OFFSET = 2110.75
  SECOND_STANDARD_PARALLEL = "N/A"
  WESTERNMOST_LONGITUDE = 169.906
END_OBJECT = IMAGE_MAP_PROJECTION
/* The JPEG2000 image data file associated with this label. */
OBJECT = COMPRESSED_FILE
  FILE_NAME = "H1901_0000_S23.JP2"
  RECORD_TYPE = UNDEFINED
  FILE_RECORDS = UNK
  ENCODING_TYPE = "JP2"
  INTERCHANGE_FORMAT = BINARY
  UNCOMPRESSED_FILE_NAME = "H1901_0000_S23.IMG"
  REQUIRED_STORAGE_BYTES = "167799792"
  ^DESCRIPTION = "JP2INFO.TXT"
END_OBJECT = COMPRESSED_FILE
END
