PDS_VERSION_ID = PDS3
/* FILE DATA ELEMENTS */
RECORD_TYPE = STREAM
/* POINTERS TO DATA OBJECTS */
^COMPRESSED_FILE = "H1902_0003_SR3.JP2"
/* IDENTIFICATION DATA ELEMENTS */
DATA_SET_ID = "MEX-M-HRSC-5-REFDR-MAPPROJECTED-V3.0"
DATA_SET_NAME = "MARS EXPRESS HRSC MAP PROJECTED REFDR V3.0"
DETECTOR_ID = MEX_HRSC_SRC
EVENT_TYPE = "MARS-GLOBAL-MAPPING-Fl-Gl-Mw"
INSTRUMENT_HOST_ID = MEX
INSTRUMENT_HOST_NAME = "MARS EXPRESS"
INSTRUMENT_ID = HRSC
INSTRUMENT_NAME = "HIGH RESOLUTION STEREO CAMERA"
MISSION_NAME = "MARS EXPRESS"
MISSION_PHASE_NAME = MR_Phase_6
PROCESSING_LEVEL_ID = 3
PRODUCT_CREATION_TIME = 2016-03-09T16:25:58.000Z
PRODUCT_ID = "H1902_0003_SR3.JP2"
RELEASE_ID = 0025
REVISION_ID = 0000
/* QUALITY DATA ELEMENTS */
DATA_QUALITY_ID = 1
DATA_QUALITY_DESC = "Data calculated based on original SPICE kernels"
/* TIME DATA ELEMENTS */
SPACECRAFT_CLOCK_START_COUNT = "1/0068973762.57158"
SPACECRAFT_CLOCK_STOP_COUNT = "1/0068974894.08343"
IMAGE_TIME = 2005-07-09T07:38:38.721Z
START_TIME = 2005-07-09T07:38:38.718Z
STOP_TIME = 2005-07-09T07:38:38.723Z
/* ORBITAL DATA ELEMENTS */
ASCENDING_NODE_LONGITUDE = 188.46
MAXIMUM_RESOLUTION = 8.503
FOOTPRINT_POINT_LATITUDE = (-28.1707,-28.1665,-28.1604,-28.1505, -28.1424,-28.1371,-28.1305,-28.124, -28.1185,-28.1105,-28.1051,-28.0986, -28.0908,-28.0859,-28.0785,-28.0744, -28.0682,-28.0629,-28.0579,-28.0537, -28.0469,-28.0429,-28.0371,-28.0333, -28.0281,-28.0281,-28.0281,-28.0281, -28.0281,-28.0281,-28.0281,-28.0282, -28.0282,-28.0282,-28.0282,-28.0282, -28.0282,-28.0282,-28.0282,-28.0282, -28.0282,-28.0282,-28.0282,-28.0282, -28.0283,-28.0283,-28.0283,-28.0283, -28.0283,-28.0329,-28.0392,-28.048, -28.056,-28.0616,-28.0685,-28.0725, -28.0807,-28.0865,-28.0947,-28.1025, -28.1073,-28.1151,-28.1198,-28.1238, -28.1302,-28.1348,-28.1395,-28.1437, -28.1489,-28.1526,-28.1562,-28.1617, -28.1683,-28.1732,-28.1732,-28.1732, -28.1732,-28.1732,-28.1732,-28.1732, -28.1732,-28.1732,-28.1732,-28.1732, -28.1732,-28.1732,-28.1732,-28.1732, -28.1732,-28.1732,-28.1732,-28.1732, -28.1732,-28.1732,-28.1732,-28.1732, -28.1731,-28.1731,-28.1731,-28.1707)
FOOTPRINT_POINT_LONGITUDE = (74.143,74.143,74.143,74.1431,74.1431, 74.1431,74.1431,74.1431,74.1431,74.1431 ,74.1431,74.1438,74.1438,74.1438, 74.1438,74.1438,74.1438,74.1439,74.1439 ,74.1439,74.1439,74.1439,74.1439, 74.1439,74.149,74.1555,74.1621,74.1686, 74.1751,74.1817,74.1882,74.1948,74.2013 ,74.2078,74.2144,74.2209,74.2275,74.234 ,74.2445,74.251,74.2575,74.2641,74.2706 ,74.2771,74.2837,74.2902,74.2967, 74.3033,74.3098,74.3108,74.3108,74.3108 ,74.3108,74.3108,74.3107,74.3107, 74.3107,74.3107,74.3107,74.3095,74.3095 ,74.3095,74.3095,74.3095,74.3095, 74.3095,74.3095,74.3095,74.3095,74.3095 ,74.3095,74.3095,74.3095,74.3093, 74.3027,74.2962,74.2897,74.2831,74.2766 ,74.27,74.2635,74.2569,74.2504,74.2438, 74.2373,74.2325,74.2259,74.2194,74.2128 ,74.2063,74.1997,74.1931,74.1866,74.18, 74.1735,74.1669,74.1604,74.1538,74.1473 ,74.143)
ORBIT_NUMBER = 1902
ORBITAL_ECCENTRICITY = 0.571
ORBITAL_INCLINATION = 86.59
ORBITAL_SEMIMAJOR_AXIS = 8614.17
PERIAPSIS_ALTITUDE = 306.48
PERIAPSIS_ARGUMENT_ANGLE = 24.65
PERIAPSIS_TIME = 2005-07-09T07:53:28.000Z
SPACECRAFT_ORIENTATION = (0.0,1.0,0.0)
^MEX_ORIENTATION_DESC = "MEX_ORIENTATION_DESC.TXT"
SPACECRAFT_POINTING_MODE = ACROSSTRACK
^MEX_POINTING_DESC = "MEX_POINTING_DESC.TXT"
RIGHT_ASCENSION = -1e+32
DECLINATION = -1e+32
OFFSET_ANGLE = 0.85
SPACECRAFT_SOLAR_DISTANCE = 2.06714e+08
TARGET_NAME = MARS
/* CAMERA DATA ELEMENTS */
BUFFER_MODE_ID = BUFFER_8
EXPOSURE_DURATION = 5.04
INST_CMPRS_NAME = NONE
INST_CMPRS_RATIO = 1.0
INST_CMPRS_QUALITY = -2147483648
INST_CMPRS_QUANTZ_TBL_ID = -2147483648
INSTRUMENT_TEMPERATURE = 22.8571
MISSING_FRAMES = 0
START_BIT = 0
/* RADIOMETRIC DATA ELEMENTS */
BANDWIDTH = 250.0
CENTER_FILTER_WAVELENGTH = 600.0
RADIANCE_OFFSET = -9.99e+31
RADIANCE_SCALING_FACTOR = -9.99e+31
REFLECTANCE_SCALING_FACTOR = -9.99e+31
MEX:REFLECTANCE_OFFSET = -9.99e+31
/* IMAGE OBJECT DEFINITIONS */
OBJECT = IMAGE
  INTERCHANGE_FORMAT = BINARY
  LINES = 904
  LINE_SAMPLES = 916
  SAMPLE_TYPE = UNSIGNED_INTEGER
  SAMPLE_BITS = 8
  BANDS = 1
  BAND_STORAGE_TYPE = BAND_SEQUENTIAL
  MAXIMUM = 4723
  MEAN = 4342.91
  MINIMUM = 3557
  STANDARD_DEVIATION = 76.7149
END_OBJECT = IMAGE
/* MAP OBJECT DEFINITIONS */
OBJECT = IMAGE_MAP_PROJECTION
  ^DATA_SET_MAP_PROJECTION_CATALOG= "DSMAP.CAT"
  A_AXIS_RADIUS = 3396.19
  B_AXIS_RADIUS = 3396.19
  C_AXIS_RADIUS = 3396.19
  CENTER_LATITUDE = 0.0
  CENTER_LONGITUDE = 74.0
  COORDINATE_SYSTEM_NAME = PLANETOGRAPHIC
  COORDINATE_SYSTEM_TYPE = "BODY-FIXED ROTATING"
  EASTERNMOST_LONGITUDE = 74.3108
  FIRST_STANDARD_PARALLEL = "N/A"
  LINE_FIRST_PIXEL = 1
  LINE_LAST_PIXEL = 904
  LINE_PROJECTION_OFFSET = -166038.0
  MAP_PROJECTION_ROTATION = 0.0
  MAP_PROJECTION_TYPE = SINUSOIDAL
  MAP_RESOLUTION = 5927.46965121889
  MAP_SCALE = 0.01
  MAXIMUM_LATITUDE = -28.0281
  MINIMUM_LATITUDE = -28.1732
  POSITIVE_LONGITUDE_DIRECTION = EAST
  REFERENCE_LATITUDE = "N/A"
  REFERENCE_LONGITUDE = "N/A"
  SAMPLE_FIRST_PIXEL = 1
  SAMPLE_LAST_PIXEL = 916
  SAMPLE_PROJECTION_OFFSET = -702.0
  SECOND_STANDARD_PARALLEL = "N/A"
  WESTERNMOST_LONGITUDE = 74.143
END_OBJECT = IMAGE_MAP_PROJECTION
/* The JPEG2000 image data file associated with this label. */
OBJECT = COMPRESSED_FILE
  FILE_NAME = "H1902_0003_SR3.JP2"
  RECORD_TYPE = UNDEFINED
  FILE_RECORDS = UNK
  ENCODING_TYPE = "JP2"
  INTERCHANGE_FORMAT = BINARY
  UNCOMPRESSED_FILE_NAME = "H1902_0003_SR3.IMG"
  REQUIRED_STORAGE_BYTES = "847300"
  ^DESCRIPTION = "JP2INFO.TXT"
END_OBJECT = COMPRESSED_FILE
END
