PDS_VERSION_ID = PDS3
/* FILE DATA ELEMENTS */
RECORD_TYPE = STREAM
/* POINTERS TO DATA OBJECTS */
^COMPRESSED_FILE = "H1903_0005_SR3.JP2"
/* IDENTIFICATION DATA ELEMENTS */
DATA_SET_ID = "MEX-M-HRSC-5-REFDR-MAPPROJECTED-V3.0"
DATA_SET_NAME = "MARS EXPRESS HRSC MAP PROJECTED REFDR V3.0"
DETECTOR_ID = MEX_HRSC_SRC
EVENT_TYPE = "MARS-REGIONAL-MAPPING-Gl-Lc-La"
INSTRUMENT_HOST_ID = MEX
INSTRUMENT_HOST_NAME = "MARS EXPRESS"
INSTRUMENT_ID = HRSC
INSTRUMENT_NAME = "HIGH RESOLUTION STEREO CAMERA"
MISSION_NAME = "MARS EXPRESS"
MISSION_PHASE_NAME = MR_Phase_6
PROCESSING_LEVEL_ID = 3
PRODUCT_CREATION_TIME = 2016-03-09T16:25:58.000Z
PRODUCT_ID = "H1903_0005_SR3.JP2"
RELEASE_ID = 0025
REVISION_ID = 0000
/* QUALITY DATA ELEMENTS */
DATA_QUALITY_ID = 1
DATA_QUALITY_DESC = "Data calculated based on original SPICE kernels"
/* TIME DATA ELEMENTS */
SPACECRAFT_CLOCK_START_COUNT = "1/0068999285.57314"
SPACECRAFT_CLOCK_STOP_COUNT = "1/0068999608.41047"
IMAGE_TIME = 2005-07-09T14:30:54.718Z
START_TIME = 2005-07-09T14:30:54.716Z
STOP_TIME = 2005-07-09T14:30:54.721Z
/* ORBITAL DATA ELEMENTS */
ASCENDING_NODE_LONGITUDE = 188.44
MAXIMUM_RESOLUTION = 3.766
FOOTPRINT_POINT_LATITUDE = (2.10492,2.10822,2.11134,2.11357, 2.11738,2.11986,2.12285,2.12483,2.12699 ,2.12909,2.13246,2.13475,2.13679, 2.13984,2.14207,2.14391,2.14601,2.14855 ,2.15193,2.15587,2.15829,2.16007, 2.16268,2.16446,2.167,2.16702,2.16703, 2.16705,2.16706,2.16708,2.16709,2.16711 ,2.16713,2.16714,2.16716,2.16717, 2.16719,2.1672,2.16722,2.16723,2.16725, 2.16726,2.16728,2.1673,2.16731,2.16733, 2.16734,2.16736,2.16737,2.16669,2.16478 ,2.16122,2.15912,2.15689,2.15364, 2.15103,2.14906,2.14619,2.14416,2.1411, 2.13843,2.13652,2.13213,2.12907,2.12671 ,2.12468,2.12175,2.11946,2.11659, 2.11417,2.1115,2.10978,2.10755,2.10405, 2.10327,2.10326,2.10324,2.10323,2.10322 ,2.1032,2.10319,2.10318,2.10316,2.10315 ,2.10313,2.10312,2.10311,2.10309, 2.10308,2.10307,2.10305,2.10304,2.10303 ,2.10301,2.103,2.10299,2.10297,2.10296, 2.10295,2.10492)
FOOTPRINT_POINT_LONGITUDE = (337.149,337.149,337.149,337.149, 337.149,337.149,337.149,337.149,337.149 ,337.148,337.148,337.148,337.148, 337.148,337.148,337.148,337.148,337.148 ,337.148,337.148,337.148,337.148, 337.148,337.148,337.148,337.151,337.153 ,337.156,337.159,337.161,337.164, 337.166,337.169,337.171,337.174,337.176 ,337.179,337.182,337.184,337.187, 337.189,337.192,337.194,337.197,337.199 ,337.202,337.205,337.207,337.21,337.213 ,337.213,337.213,337.213,337.213, 337.213,337.213,337.213,337.213,337.213 ,337.213,337.213,337.213,337.213, 337.214,337.214,337.214,337.214,337.214 ,337.214,337.214,337.214,337.214, 337.214,337.214,337.21,337.208,337.205, 337.203,337.2,337.198,337.195,337.192, 337.19,337.187,337.185,337.182,337.18, 337.177,337.175,337.172,337.169,337.167 ,337.164,337.162,337.159,337.157, 337.154,337.152,337.149,337.149)
ORBIT_NUMBER = 1903
ORBITAL_ECCENTRICITY = 0.57
ORBITAL_INCLINATION = 86.58
ORBITAL_SEMIMAJOR_AXIS = 8605.57
PERIAPSIS_ALTITUDE = 307.37
PERIAPSIS_ARGUMENT_ANGLE = 24.46
PERIAPSIS_TIME = 2005-07-09T14:36:39.000Z
SPACECRAFT_ORIENTATION = (0.0,1.0,0.0)
^MEX_ORIENTATION_DESC = "MEX_ORIENTATION_DESC.TXT"
SPACECRAFT_POINTING_MODE = ACROSSTRACK
^MEX_POINTING_DESC = "MEX_POINTING_DESC.TXT"
RIGHT_ASCENSION = -1e+32
DECLINATION = -1e+32
OFFSET_ANGLE = -0.5
SPACECRAFT_SOLAR_DISTANCE = 2.06709e+08
TARGET_NAME = MARS
/* CAMERA DATA ELEMENTS */
BUFFER_MODE_ID = BUFFER_8
EXPOSURE_DURATION = 5.04
INST_CMPRS_NAME = NONE
INST_CMPRS_RATIO = 1.0
INST_CMPRS_QUALITY = -2147483648
INST_CMPRS_QUANTZ_TBL_ID = -2147483648
INSTRUMENT_TEMPERATURE = 11.2121
MISSING_FRAMES = 0
START_BIT = 0
/* RADIOMETRIC DATA ELEMENTS */
BANDWIDTH = 250.0
CENTER_FILTER_WAVELENGTH = 600.0
RADIANCE_OFFSET = -9.99e+31
RADIANCE_SCALING_FACTOR = -9.99e+31
REFLECTANCE_SCALING_FACTOR = -9.99e+31
MEX:REFLECTANCE_OFFSET = -9.99e+31
/* IMAGE OBJECT DEFINITIONS */
OBJECT = IMAGE
  INTERCHANGE_FORMAT = BINARY
  LINES = 804
  LINE_SAMPLES = 815
  SAMPLE_TYPE = UNSIGNED_INTEGER
  SAMPLE_BITS = 8
  BANDS = 1
  BAND_STORAGE_TYPE = BAND_SEQUENTIAL
  MAXIMUM = 1909
  MEAN = 1638.41
  MINIMUM = 1350
  STANDARD_DEVIATION = 52.3576
END_OBJECT = IMAGE
/* MAP OBJECT DEFINITIONS */
OBJECT = IMAGE_MAP_PROJECTION
  ^DATA_SET_MAP_PROJECTION_CATALOG= "DSMAP.CAT"
  A_AXIS_RADIUS = 3396.19
  B_AXIS_RADIUS = 3396.19
  C_AXIS_RADIUS = 3396.19
  CENTER_LATITUDE = 0.0
  CENTER_LONGITUDE = 337.0
  COORDINATE_SYSTEM_NAME = PLANETOGRAPHIC
  COORDINATE_SYSTEM_TYPE = "BODY-FIXED ROTATING"
  EASTERNMOST_LONGITUDE = 337.214
  FIRST_STANDARD_PARALLEL = "N/A"
  LINE_FIRST_PIXEL = 1
  LINE_LAST_PIXEL = 804
  LINE_PROJECTION_OFFSET = 25713.0
  MAP_PROJECTION_ROTATION = 0.0
  MAP_PROJECTION_TYPE = SINUSOIDAL
  MAP_RESOLUTION = 11854.9393024378
  MAP_SCALE = 0.005
  MAXIMUM_LATITUDE = 2.16737
  MINIMUM_LATITUDE = 2.10295
  POSITIVE_LONGITUDE_DIRECTION = EAST
  REFERENCE_LATITUDE = "N/A"
  REFERENCE_LONGITUDE = "N/A"
  SAMPLE_FIRST_PIXEL = 1
  SAMPLE_LAST_PIXEL = 815
  SAMPLE_PROJECTION_OFFSET = -1735.0
  SECOND_STANDARD_PARALLEL = "N/A"
  WESTERNMOST_LONGITUDE = 337.148
END_OBJECT = IMAGE_MAP_PROJECTION
/* The JPEG2000 image data file associated with this label. */
OBJECT = COMPRESSED_FILE
  FILE_NAME = "H1903_0005_SR3.JP2"
  RECORD_TYPE = UNDEFINED
  FILE_RECORDS = UNK
  ENCODING_TYPE = "JP2"
  INTERCHANGE_FORMAT = BINARY
  UNCOMPRESSED_FILE_NAME = "H1903_0005_SR3.IMG"
  REQUIRED_STORAGE_BYTES = "674005"
  ^DESCRIPTION = "JP2INFO.TXT"
END_OBJECT = COMPRESSED_FILE
END
