PDS_VERSION_ID = PDS3
/* FILE DATA ELEMENTS */
RECORD_TYPE = STREAM
/* POINTERS TO DATA OBJECTS */
^COMPRESSED_FILE = "H1903_0008_SR3.JP2"
/* IDENTIFICATION DATA ELEMENTS */
DATA_SET_ID = "MEX-M-HRSC-5-REFDR-MAPPROJECTED-V3.0"
DATA_SET_NAME = "MARS EXPRESS HRSC MAP PROJECTED REFDR V3.0"
DETECTOR_ID = MEX_HRSC_SRC
EVENT_TYPE = "MARS-REGIONAL-MAPPING-Gl-Lc-La"
INSTRUMENT_HOST_ID = MEX
INSTRUMENT_HOST_NAME = "MARS EXPRESS"
INSTRUMENT_ID = HRSC
INSTRUMENT_NAME = "HIGH RESOLUTION STEREO CAMERA"
MISSION_NAME = "MARS EXPRESS"
MISSION_PHASE_NAME = MR_Phase_6
PROCESSING_LEVEL_ID = 3
PRODUCT_CREATION_TIME = 2016-03-09T16:25:58.000Z
PRODUCT_ID = "H1903_0008_SR3.JP2"
RELEASE_ID = 0025
REVISION_ID = 0000
/* QUALITY DATA ELEMENTS */
DATA_QUALITY_ID = 1
DATA_QUALITY_DESC = "Data calculated based on original SPICE kernels"
/* TIME DATA ELEMENTS */
SPACECRAFT_CLOCK_START_COUNT = "1/0068999285.57314"
SPACECRAFT_CLOCK_STOP_COUNT = "1/0068999608.41047"
IMAGE_TIME = 2005-07-09T14:30:56.353Z
START_TIME = 2005-07-09T14:30:56.351Z
STOP_TIME = 2005-07-09T14:30:56.356Z
/* ORBITAL DATA ELEMENTS */
ASCENDING_NODE_LONGITUDE = 188.44
MAXIMUM_RESOLUTION = 3.757
FOOTPRINT_POINT_LATITUDE = (2.20819,2.21028,2.21346,2.21581, 2.21765,2.22057,2.22329,2.22533,2.22717 ,2.2299,2.23307,2.23573,2.23783,2.24056 ,2.24233,2.2464,2.24906,2.25122,2.25319 ,2.25636,2.25947,2.26302,2.26518, 2.26803,2.26894,2.26896,2.26897,2.26899 ,2.269,2.26902,2.26904,2.26905,2.26907, 2.26908,2.2691,2.26911,2.26913,2.26914, 2.26916,2.26917,2.26919,2.2692,2.26922, 2.26923,2.26925,2.26926,2.26928,2.26929 ,2.26823,2.26442,2.26214,2.25966, 2.25769,2.25458,2.25166,2.24962,2.24689 ,2.24467,2.24124,2.23864,2.23641, 2.23349,2.2314,2.22962,2.22739,2.22428, 2.22231,2.21965,2.21761,2.21482,2.21272 ,2.20999,2.20802,2.20535,2.20534, 2.20532,2.20531,2.2053,2.20529,2.20527, 2.20526,2.20525,2.20523,2.20522,2.20521 ,2.20519,2.20518,2.20517,2.20515, 2.20514,2.20513,2.20511,2.2051,2.20509, 2.20507,2.20506,2.20505,2.20503,2.20502 ,2.20819)
FOOTPRINT_POINT_LONGITUDE = (337.148,337.148,337.148,337.148, 337.148,337.148,337.148,337.148,337.148 ,337.148,337.148,337.148,337.148, 337.148,337.148,337.148,337.148,337.148 ,337.148,337.148,337.148,337.148, 337.148,337.148,337.152,337.154,337.157 ,337.159,337.162,337.164,337.167, 337.169,337.172,337.175,337.177,337.18, 337.182,337.185,337.187,337.19,337.192, 337.195,337.198,337.2,337.203,337.205, 337.208,337.21,337.213,337.213,337.213, 337.213,337.213,337.213,337.213,337.213 ,337.213,337.213,337.213,337.213, 337.213,337.213,337.213,337.213,337.213 ,337.213,337.213,337.213,337.213, 337.213,337.213,337.213,337.213,337.212 ,337.21,337.207,337.205,337.202,337.2, 337.197,337.195,337.192,337.189,337.187 ,337.184,337.182,337.179,337.177, 337.174,337.172,337.169,337.166,337.164 ,337.161,337.159,337.156,337.154, 337.151,337.149,337.148)
ORBIT_NUMBER = 1903
ORBITAL_ECCENTRICITY = 0.57
ORBITAL_INCLINATION = 86.58
ORBITAL_SEMIMAJOR_AXIS = 8605.57
PERIAPSIS_ALTITUDE = 307.37
PERIAPSIS_ARGUMENT_ANGLE = 24.46
PERIAPSIS_TIME = 2005-07-09T14:36:39.000Z
SPACECRAFT_ORIENTATION = (0.0,1.0,0.0)
^MEX_ORIENTATION_DESC = "MEX_ORIENTATION_DESC.TXT"
SPACECRAFT_POINTING_MODE = ACROSSTRACK
^MEX_POINTING_DESC = "MEX_POINTING_DESC.TXT"
RIGHT_ASCENSION = -1e+32
DECLINATION = -1e+32
OFFSET_ANGLE = -0.5
SPACECRAFT_SOLAR_DISTANCE = 2.06709e+08
TARGET_NAME = MARS
/* CAMERA DATA ELEMENTS */
BUFFER_MODE_ID = BUFFER_8
EXPOSURE_DURATION = 5.04
INST_CMPRS_NAME = NONE
INST_CMPRS_RATIO = 1.0
INST_CMPRS_QUALITY = -2147483648
INST_CMPRS_QUANTZ_TBL_ID = -2147483648
INSTRUMENT_TEMPERATURE = 11.2121
MISSING_FRAMES = 0
START_BIT = 0
/* RADIOMETRIC DATA ELEMENTS */
BANDWIDTH = 250.0
CENTER_FILTER_WAVELENGTH = 600.0
RADIANCE_OFFSET = -9.99e+31
RADIANCE_SCALING_FACTOR = -9.99e+31
REFLECTANCE_SCALING_FACTOR = -9.99e+31
MEX:REFLECTANCE_OFFSET = -9.99e+31
/* IMAGE OBJECT DEFINITIONS */
OBJECT = IMAGE
  INTERCHANGE_FORMAT = BINARY
  LINES = 802
  LINE_SAMPLES = 813
  SAMPLE_TYPE = UNSIGNED_INTEGER
  SAMPLE_BITS = 8
  BANDS = 1
  BAND_STORAGE_TYPE = BAND_SEQUENTIAL
  MAXIMUM = 1898
  MEAN = 1651.35
  MINIMUM = 1353
  STANDARD_DEVIATION = 52.9096
END_OBJECT = IMAGE
/* MAP OBJECT DEFINITIONS */
OBJECT = IMAGE_MAP_PROJECTION
  ^DATA_SET_MAP_PROJECTION_CATALOG= "DSMAP.CAT"
  A_AXIS_RADIUS = 3396.19
  B_AXIS_RADIUS = 3396.19
  C_AXIS_RADIUS = 3396.19
  CENTER_LATITUDE = 0.0
  CENTER_LONGITUDE = 337.0
  COORDINATE_SYSTEM_NAME = PLANETOGRAPHIC
  COORDINATE_SYSTEM_TYPE = "BODY-FIXED ROTATING"
  EASTERNMOST_LONGITUDE = 337.213
  FIRST_STANDARD_PARALLEL = "N/A"
  LINE_FIRST_PIXEL = 1
  LINE_LAST_PIXEL = 802
  LINE_PROJECTION_OFFSET = 26921.0
  MAP_PROJECTION_ROTATION = 0.0
  MAP_PROJECTION_TYPE = SINUSOIDAL
  MAP_RESOLUTION = 11854.9393024378
  MAP_SCALE = 0.005
  MAXIMUM_LATITUDE = 2.26929
  MINIMUM_LATITUDE = 2.20502
  POSITIVE_LONGITUDE_DIRECTION = EAST
  REFERENCE_LATITUDE = "N/A"
  REFERENCE_LONGITUDE = "N/A"
  SAMPLE_FIRST_PIXEL = 1
  SAMPLE_LAST_PIXEL = 813
  SAMPLE_PROJECTION_OFFSET = -1728.0
  SECOND_STANDARD_PARALLEL = "N/A"
  WESTERNMOST_LONGITUDE = 337.148
END_OBJECT = IMAGE_MAP_PROJECTION
/* The JPEG2000 image data file associated with this label. */
OBJECT = COMPRESSED_FILE
  FILE_NAME = "H1903_0008_SR3.JP2"
  RECORD_TYPE = UNDEFINED
  FILE_RECORDS = UNK
  ENCODING_TYPE = "JP2"
  INTERCHANGE_FORMAT = BINARY
  UNCOMPRESSED_FILE_NAME = "H1903_0008_SR3.IMG"
  REQUIRED_STORAGE_BYTES = "670725"
  ^DESCRIPTION = "JP2INFO.TXT"
END_OBJECT = COMPRESSED_FILE
END
