PDS_VERSION_ID = PDS3
/* FILE DATA ELEMENTS */
RECORD_TYPE = STREAM
/* POINTERS TO DATA OBJECTS */
^COMPRESSED_FILE = "H1905_0005_SR3.JP2"
/* IDENTIFICATION DATA ELEMENTS */
DATA_SET_ID = "MEX-M-HRSC-5-REFDR-MAPPROJECTED-V3.0"
DATA_SET_NAME = "MARS EXPRESS HRSC MAP PROJECTED REFDR V3.0"
DETECTOR_ID = MEX_HRSC_SRC
EVENT_TYPE = "MARS-LOCAL-STEREO-Vo-Te-Pf"
INSTRUMENT_HOST_ID = MEX
INSTRUMENT_HOST_NAME = "MARS EXPRESS"
INSTRUMENT_ID = HRSC
INSTRUMENT_NAME = "HIGH RESOLUTION STEREO CAMERA"
MISSION_NAME = "MARS EXPRESS"
MISSION_PHASE_NAME = MR_Phase_6
PROCESSING_LEVEL_ID = 3
PRODUCT_CREATION_TIME = 2016-03-09T16:25:58.000Z
PRODUCT_ID = "H1905_0005_SR3.JP2"
RELEASE_ID = 0025
REVISION_ID = 0000
/* QUALITY DATA ELEMENTS */
DATA_QUALITY_ID = 1
DATA_QUALITY_DESC = "Data calculated based on original SPICE kernels"
/* TIME DATA ELEMENTS */
SPACECRAFT_CLOCK_START_COUNT = "1/0069047615.56205"
SPACECRAFT_CLOCK_STOP_COUNT = "1/0069047941.16497"
IMAGE_TIME = 2005-07-10T03:55:43.827Z
START_TIME = 2005-07-10T03:55:43.824Z
STOP_TIME = 2005-07-10T03:55:43.829Z
/* ORBITAL DATA ELEMENTS */
ASCENDING_NODE_LONGITUDE = 188.38
MAXIMUM_RESOLUTION = 4.339
FOOTPRINT_POINT_LATITUDE = (-4.35348,-4.35062,-4.34865,-4.34476, -4.34191,-4.33986,-4.33744,-4.33422, -4.33026,-4.32697,-4.32389,-4.32184, -4.31744,-4.31488,-4.31122,-4.30799, -4.30499,-4.30294,-4.29986,-4.29679, -4.29298,-4.28961,-4.28741,-4.2839, -4.28009,-4.28007,-4.28004,-4.28003, -4.28001,-4.27999,-4.27997,-4.27995, -4.27992,-4.27989,-4.27988,-4.27985, -4.27983,-4.2798,-4.27978,-4.27976, -4.27973,-4.27971,-4.27969,-4.27967, -4.27965,-4.27962,-4.2796,-4.27958, -4.27956,-4.27954,-4.28128,-4.28479, -4.2875,-4.29102,-4.29395,-4.29615, -4.29827,-4.30083,-4.30494,-4.31021, -4.31226,-4.31541,-4.31871,-4.32222, -4.32479,-4.32903,-4.33108,-4.33489, -4.33746,-4.33958,-4.34354,-4.3461, -4.34815,-4.35225,-4.3533,-4.35332, -4.35334,-4.35337,-4.35339,-4.35341, -4.35343,-4.35346,-4.35348,-4.3535, -4.35352,-4.35355,-4.35357,-4.35359, -4.35361,-4.35363,-4.35365,-4.35367, -4.35369,-4.35372,-4.35374,-4.35376, -4.35378,-4.3538,-4.35382,-4.35348)
FOOTPRINT_POINT_LONGITUDE = (140.08,140.08,140.08,140.08,140.08, 140.08,140.08,140.08,140.08,140.08, 140.08,140.08,140.08,140.08,140.08, 140.08,140.08,140.08,140.08,140.08, 140.08,140.08,140.08,140.08,140.08, 140.083,140.086,140.088,140.09,140.092, 140.095,140.098,140.102,140.105,140.108 ,140.111,140.114,140.117,140.12,140.123 ,140.127,140.129,140.132,140.135, 140.138,140.141,140.144,140.146,140.149 ,140.152,140.154,140.154,140.154, 140.154,140.154,140.154,140.154,140.154 ,140.154,140.155,140.155,140.155, 140.155,140.155,140.155,140.155,140.155 ,140.155,140.155,140.155,140.155, 140.155,140.155,140.155,140.153,140.149 ,140.147,140.143,140.141,140.138, 140.135,140.131,140.128,140.125,140.123 ,140.12,140.117,140.114,140.111,140.109 ,140.106,140.103,140.1,140.097,140.094, 140.092,140.089,140.086,140.084,140.08)
ORBIT_NUMBER = 1905
ORBITAL_ECCENTRICITY = 0.57
ORBITAL_INCLINATION = 86.57
ORBITAL_SEMIMAJOR_AXIS = 8611.12
PERIAPSIS_ALTITUDE = 307.06
PERIAPSIS_ARGUMENT_ANGLE = 24.14
PERIAPSIS_TIME = 2005-07-10T04:03:08.000Z
SPACECRAFT_ORIENTATION = (0.0,1.0,0.0)
^MEX_ORIENTATION_DESC = "MEX_ORIENTATION_DESC.TXT"
SPACECRAFT_POINTING_MODE = NADIR
^MEX_POINTING_DESC = "MEX_POINTING_DESC.TXT"
RIGHT_ASCENSION = -1e+32
DECLINATION = -1e+32
OFFSET_ANGLE = -1e+32
SPACECRAFT_SOLAR_DISTANCE = 2.067e+08
TARGET_NAME = MARS
/* CAMERA DATA ELEMENTS */
BUFFER_MODE_ID = BUFFER_8
EXPOSURE_DURATION = 5.04
INST_CMPRS_NAME = NONE
INST_CMPRS_RATIO = 1.0
INST_CMPRS_QUALITY = -2147483648
INST_CMPRS_QUANTZ_TBL_ID = -2147483648
INSTRUMENT_TEMPERATURE = 11.2121
MISSING_FRAMES = 0
START_BIT = 0
/* RADIOMETRIC DATA ELEMENTS */
BANDWIDTH = 250.0
CENTER_FILTER_WAVELENGTH = 600.0
RADIANCE_OFFSET = -9.99e+31
RADIANCE_SCALING_FACTOR = -9.99e+31
REFLECTANCE_SCALING_FACTOR = -9.99e+31
MEX:REFLECTANCE_OFFSET = -9.99e+31
/* IMAGE OBJECT DEFINITIONS */
OBJECT = IMAGE
  INTERCHANGE_FORMAT = BINARY
  LINES = 922
  LINE_SAMPLES = 931
  SAMPLE_TYPE = UNSIGNED_INTEGER
  SAMPLE_BITS = 8
  BANDS = 1
  BAND_STORAGE_TYPE = BAND_SEQUENTIAL
  MAXIMUM = 2969
  MEAN = 2666.07
  MINIMUM = 2280
  STANDARD_DEVIATION = 62.6144
END_OBJECT = IMAGE
/* MAP OBJECT DEFINITIONS */
OBJECT = IMAGE_MAP_PROJECTION
  ^DATA_SET_MAP_PROJECTION_CATALOG= "DSMAP.CAT"
  A_AXIS_RADIUS = 3396.19
  B_AXIS_RADIUS = 3396.19
  C_AXIS_RADIUS = 3396.19
  CENTER_LATITUDE = 0.0
  CENTER_LONGITUDE = 140.0
  COORDINATE_SYSTEM_NAME = PLANETOGRAPHIC
  COORDINATE_SYSTEM_TYPE = "BODY-FIXED ROTATING"
  EASTERNMOST_LONGITUDE = 140.155
  FIRST_STANDARD_PARALLEL = "N/A"
  LINE_FIRST_PIXEL = 1
  LINE_LAST_PIXEL = 922
  LINE_PROJECTION_OFFSET = -50713.0
  MAP_PROJECTION_ROTATION = 0.0
  MAP_PROJECTION_TYPE = SINUSOIDAL
  MAP_RESOLUTION = 11854.9393024378
  MAP_SCALE = 0.005
  MAXIMUM_LATITUDE = -4.27954
  MINIMUM_LATITUDE = -4.35382
  POSITIVE_LONGITUDE_DIRECTION = EAST
  REFERENCE_LATITUDE = "N/A"
  REFERENCE_LONGITUDE = "N/A"
  SAMPLE_FIRST_PIXEL = 1
  SAMPLE_LAST_PIXEL = 931
  SAMPLE_PROJECTION_OFFSET = -921.0
  SECOND_STANDARD_PARALLEL = "N/A"
  WESTERNMOST_LONGITUDE = 140.08
END_OBJECT = IMAGE_MAP_PROJECTION
/* The JPEG2000 image data file associated with this label. */
OBJECT = COMPRESSED_FILE
  FILE_NAME = "H1905_0005_SR3.JP2"
  RECORD_TYPE = UNDEFINED
  FILE_RECORDS = UNK
  ENCODING_TYPE = "JP2"
  INTERCHANGE_FORMAT = BINARY
  UNCOMPRESSED_FILE_NAME = "H1905_0005_SR3.IMG"
  REQUIRED_STORAGE_BYTES = "876071"
  ^DESCRIPTION = "JP2INFO.TXT"
END_OBJECT = COMPRESSED_FILE
END
