PDS_VERSION_ID = PDS3
/* FILE DATA ELEMENTS */
RECORD_TYPE = STREAM
/* POINTERS TO DATA OBJECTS */
^COMPRESSED_FILE = "H1907_0006_SR3.JP2"
/* IDENTIFICATION DATA ELEMENTS */
DATA_SET_ID = "MEX-M-HRSC-5-REFDR-MAPPROJECTED-V3.0"
DATA_SET_NAME = "MARS EXPRESS HRSC MAP PROJECTED REFDR V3.0"
DETECTOR_ID = MEX_HRSC_SRC
EVENT_TYPE = "MARS-REGIONAL-STEREO-Vo-Lc-La"
INSTRUMENT_HOST_ID = MEX
INSTRUMENT_HOST_NAME = "MARS EXPRESS"
INSTRUMENT_ID = HRSC
INSTRUMENT_NAME = "HIGH RESOLUTION STEREO CAMERA"
MISSION_NAME = "MARS EXPRESS"
MISSION_PHASE_NAME = MR_Phase_6
PROCESSING_LEVEL_ID = 3
PRODUCT_CREATION_TIME = 2016-03-09T16:25:58.000Z
PRODUCT_ID = "H1907_0006_SR3.JP2"
RELEASE_ID = 0025
REVISION_ID = 0000
/* QUALITY DATA ELEMENTS */
DATA_QUALITY_ID = 1
DATA_QUALITY_DESC = "Data calculated based on original SPICE kernels"
/* TIME DATA ELEMENTS */
SPACECRAFT_CLOCK_START_COUNT = "1/0069095758.57163"
SPACECRAFT_CLOCK_STOP_COUNT = "1/0069096275.25313"
IMAGE_TIME = 2005-07-10T17:19:24.761Z
START_TIME = 2005-07-10T17:19:24.759Z
STOP_TIME = 2005-07-10T17:19:24.764Z
/* ORBITAL DATA ELEMENTS */
ASCENDING_NODE_LONGITUDE = 188.34
MAXIMUM_RESOLUTION = 5.693
FOOTPRINT_POINT_LATITUDE = (-14.4964,-14.4932,-14.4905,-14.4845, -14.4792,-14.4756,-14.4716,-14.4687, -14.4641,-14.4607,-14.4552,-14.4521, -14.4491,-14.4451,-14.4417,-14.4382, -14.4356,-14.4321,-14.429,-14.4253, -14.4224,-14.418,-14.4152,-14.4114, -14.4069,-14.4038,-14.4023,-14.4023, -14.4023,-14.4023,-14.4023,-14.4022, -14.4022,-14.4022,-14.4022,-14.4022, -14.4022,-14.4021,-14.4021,-14.4021, -14.4021,-14.4021,-14.402,-14.402, -14.402,-14.402,-14.402,-14.4019, -14.4019,-14.4019,-14.4019,-14.4052, -14.4079,-14.4111,-14.4157,-14.4201, -14.4261,-14.4294,-14.4348,-14.4383, -14.4418,-14.4446,-14.4501,-14.454, -14.4599,-14.4638,-14.47,-14.476, -14.4803,-14.486,-14.4892,-14.4919, -14.4961,-14.4988,-14.4988,-14.4988, -14.4988,-14.4989,-14.4989,-14.4989, -14.4989,-14.499,-14.499,-14.499, -14.499,-14.499,-14.4991,-14.4991, -14.4991,-14.4991,-14.4991,-14.4992, -14.4992,-14.4992,-14.4992,-14.4993, -14.4993,-14.4993,-14.4993,-14.4964)
FOOTPRINT_POINT_LONGITUDE = (302.725,302.725,302.725,302.725, 302.725,302.725,302.725,302.725,302.725 ,302.725,302.725,302.725,302.725, 302.725,302.725,302.725,302.725,302.725 ,302.725,302.725,302.725,302.725, 302.725,302.725,302.725,302.725,302.73, 302.734,302.738,302.742,302.746,302.75, 302.754,302.758,302.762,302.766,302.77, 302.774,302.778,302.782,302.786,302.79, 302.794,302.798,302.802,302.806,302.81, 302.814,302.818,302.822,302.826,302.826 ,302.826,302.826,302.826,302.826, 302.826,302.826,302.826,302.826,302.826 ,302.826,302.826,302.826,302.826, 302.827,302.827,302.827,302.827,302.827 ,302.827,302.827,302.827,302.826, 302.822,302.818,302.814,302.81,302.806, 302.802,302.798,302.794,302.79,302.786, 302.782,302.778,302.774,302.77,302.766, 302.762,302.758,302.754,302.75,302.746, 302.742,302.738,302.734,302.73,302.726, 302.725)
ORBIT_NUMBER = 1907
ORBITAL_ECCENTRICITY = 0.57
ORBITAL_INCLINATION = 86.58
ORBITAL_SEMIMAJOR_AXIS = 8609.45
PERIAPSIS_ALTITUDE = 306.49
PERIAPSIS_ARGUMENT_ANGLE = 23.78
PERIAPSIS_TIME = 2005-07-10T17:29:36.000Z
SPACECRAFT_ORIENTATION = (0.0,1.0,0.0)
^MEX_ORIENTATION_DESC = "MEX_ORIENTATION_DESC.TXT"
SPACECRAFT_POINTING_MODE = ACROSSTRACK
^MEX_POINTING_DESC = "MEX_POINTING_DESC.TXT"
RIGHT_ASCENSION = -1e+32
DECLINATION = -1e+32
OFFSET_ANGLE = 0.8
SPACECRAFT_SOLAR_DISTANCE = 2.06691e+08
TARGET_NAME = MARS
/* CAMERA DATA ELEMENTS */
BUFFER_MODE_ID = BUFFER_8
EXPOSURE_DURATION = 5.04
INST_CMPRS_NAME = NONE
INST_CMPRS_RATIO = 1.0
INST_CMPRS_QUALITY = -2147483648
INST_CMPRS_QUANTZ_TBL_ID = -2147483648
INSTRUMENT_TEMPERATURE = 11.2121
MISSING_FRAMES = 0
START_BIT = 0
/* RADIOMETRIC DATA ELEMENTS */
BANDWIDTH = 250.0
CENTER_FILTER_WAVELENGTH = 600.0
RADIANCE_OFFSET = -9.99e+31
RADIANCE_SCALING_FACTOR = -9.99e+31
REFLECTANCE_SCALING_FACTOR = -9.99e+31
MEX:REFLECTANCE_OFFSET = -9.99e+31
/* IMAGE OBJECT DEFINITIONS */
OBJECT = IMAGE
  INTERCHANGE_FORMAT = BINARY
  LINES = 1198
  LINE_SAMPLES = 1214
  SAMPLE_TYPE = UNSIGNED_INTEGER
  SAMPLE_BITS = 8
  BANDS = 1
  BAND_STORAGE_TYPE = BAND_SEQUENTIAL
  MAXIMUM = 3511
  MEAN = 3200.19
  MINIMUM = 2691
  STANDARD_DEVIATION = 68.4818
END_OBJECT = IMAGE
/* MAP OBJECT DEFINITIONS */
OBJECT = IMAGE_MAP_PROJECTION
  ^DATA_SET_MAP_PROJECTION_CATALOG= "DSMAP.CAT"
  A_AXIS_RADIUS = 3396.19
  B_AXIS_RADIUS = 3396.19
  C_AXIS_RADIUS = 3396.19
  CENTER_LATITUDE = 0.0
  CENTER_LONGITUDE = 303.0
  COORDINATE_SYSTEM_NAME = PLANETOGRAPHIC
  COORDINATE_SYSTEM_TYPE = "BODY-FIXED ROTATING"
  EASTERNMOST_LONGITUDE = 302.827
  FIRST_STANDARD_PARALLEL = "N/A"
  LINE_FIRST_PIXEL = 1
  LINE_LAST_PIXEL = 1198
  LINE_PROJECTION_OFFSET = -170690.0
  MAP_PROJECTION_ROTATION = 0.0
  MAP_PROJECTION_TYPE = SINUSOIDAL
  MAP_RESOLUTION = 11854.9393024378
  MAP_SCALE = 0.005
  MAXIMUM_LATITUDE = -14.4019
  MINIMUM_LATITUDE = -14.4993
  POSITIVE_LONGITUDE_DIRECTION = EAST
  REFERENCE_LATITUDE = "N/A"
  REFERENCE_LONGITUDE = "N/A"
  SAMPLE_FIRST_PIXEL = 1
  SAMPLE_LAST_PIXEL = 1214
  SAMPLE_PROJECTION_OFFSET = 3199.0
  SECOND_STANDARD_PARALLEL = "N/A"
  WESTERNMOST_LONGITUDE = 302.725
END_OBJECT = IMAGE_MAP_PROJECTION
/* The JPEG2000 image data file associated with this label. */
OBJECT = COMPRESSED_FILE
  FILE_NAME = "H1907_0006_SR3.JP2"
  RECORD_TYPE = UNDEFINED
  FILE_RECORDS = UNK
  ENCODING_TYPE = "JP2"
  INTERCHANGE_FORMAT = BINARY
  UNCOMPRESSED_FILE_NAME = "H1907_0006_SR3.IMG"
  REQUIRED_STORAGE_BYTES = "1473796"
  ^DESCRIPTION = "JP2INFO.TXT"
END_OBJECT = COMPRESSED_FILE
END
