PDS_VERSION_ID = PDS3
/* FILE DATA ELEMENTS */
RECORD_TYPE = STREAM
/* POINTERS TO DATA OBJECTS */
^COMPRESSED_FILE = "H1909_0003_SR3.JP2"
/* IDENTIFICATION DATA ELEMENTS */
DATA_SET_ID = "MEX-M-HRSC-5-REFDR-MAPPROJECTED-V3.0"
DATA_SET_NAME = "MARS EXPRESS HRSC MAP PROJECTED REFDR V3.0"
DETECTOR_ID = MEX_HRSC_SRC
EVENT_TYPE = "MARS-REGIONAL-MAPPING-Vo-Te-Fl"
INSTRUMENT_HOST_ID = MEX
INSTRUMENT_HOST_NAME = "MARS EXPRESS"
INSTRUMENT_ID = HRSC
INSTRUMENT_NAME = "HIGH RESOLUTION STEREO CAMERA"
MISSION_NAME = "MARS EXPRESS"
MISSION_PHASE_NAME = MR_Phase_6
PROCESSING_LEVEL_ID = 3
PRODUCT_CREATION_TIME = 2016-03-09T16:25:58.000Z
PRODUCT_ID = "H1909_0003_SR3.JP2"
RELEASE_ID = 0025
REVISION_ID = 0000
/* QUALITY DATA ELEMENTS */
DATA_QUALITY_ID = 1
DATA_QUALITY_DESC = "Data calculated based on original SPICE kernels"
/* TIME DATA ELEMENTS */
SPACECRAFT_CLOCK_START_COUNT = "1/0069143656.57954"
SPACECRAFT_CLOCK_STOP_COUNT = "1/0069144578.49692"
IMAGE_TIME = 2005-07-11T06:44:08.623Z
START_TIME = 2005-07-11T06:44:08.621Z
STOP_TIME = 2005-07-11T06:44:08.626Z
/* ORBITAL DATA ELEMENTS */
ASCENDING_NODE_LONGITUDE = 188.3
MAXIMUM_RESOLUTION = 6.595
FOOTPRINT_POINT_LATITUDE = (-20.5316,-20.5263,-20.5226,-20.5178, -20.5147,-20.5111,-20.5053,-20.5017, -20.498,-20.4931,-20.4894,-20.4853, -20.4785,-20.4727,-20.4658,-20.4627, -20.4596,-20.4555,-20.4524,-20.4481, -20.445,-20.4408,-20.4346,-20.4292, -20.4246,-20.4221,-20.4221,-20.422, -20.422,-20.4219,-20.4218,-20.4218, -20.4217,-20.4217,-20.4216,-20.4215, -20.4215,-20.4214,-20.4214,-20.4213, -20.4212,-20.4212,-20.4211,-20.421, -20.421,-20.4209,-20.4209,-20.4208, -20.4207,-20.4207,-20.4242,-20.4279, -20.4309,-20.4348,-20.4385,-20.4434, -20.4492,-20.4555,-20.4593,-20.4629, -20.4702,-20.4763,-20.4803,-20.4863, -20.4908,-20.4943,-20.4996,-20.5056, -20.5086,-20.5121,-20.5167,-20.5199, -20.525,-20.529,-20.5328,-20.5329, -20.5329,-20.533,-20.5331,-20.5331, -20.5332,-20.5333,-20.5333,-20.5334, -20.5334,-20.5335,-20.5336,-20.5336, -20.5337,-20.5337,-20.5338,-20.5338, -20.5339,-20.534,-20.534,-20.5341, -20.5341,-20.5342,-20.5342,-20.5316)
FOOTPRINT_POINT_LONGITUDE = (107.883,107.883,107.883,107.883, 107.883,107.883,107.883,107.883,107.883 ,107.883,107.883,107.882,107.882, 107.882,107.882,107.882,107.882,107.882 ,107.882,107.882,107.882,107.882, 107.882,107.882,107.882,107.888,107.892 ,107.897,107.902,107.907,107.911, 107.916,107.921,107.926,107.931,107.935 ,107.94,107.945,107.95,107.954,107.959, 107.964,107.969,107.973,107.978,107.983 ,107.988,107.993,107.997,108.003, 108.003,108.003,108.003,108.003,108.003 ,108.003,108.003,108.003,108.003, 108.003,108.004,108.004,108.004,108.004 ,108.004,108.004,108.004,108.004, 108.004,108.004,108.004,108.004,108.004 ,108.004,108.002,107.997,107.992, 107.988,107.983,107.978,107.971,107.966 ,107.961,107.957,107.952,107.947, 107.942,107.938,107.933,107.928,107.923 ,107.918,107.914,107.909,107.904, 107.899,107.895,107.89,107.885,107.883)
ORBIT_NUMBER = 1909
ORBITAL_ECCENTRICITY = 0.571
ORBITAL_INCLINATION = 86.57
ORBITAL_SEMIMAJOR_AXIS = 8616.0
PERIAPSIS_ALTITUDE = 306.39
PERIAPSIS_ARGUMENT_ANGLE = 23.38
PERIAPSIS_TIME = 2005-07-11T06:56:03.000Z
SPACECRAFT_ORIENTATION = (0.0,1.0,0.0)
^MEX_ORIENTATION_DESC = "MEX_ORIENTATION_DESC.TXT"
SPACECRAFT_POINTING_MODE = ACROSSTRACK
^MEX_POINTING_DESC = "MEX_POINTING_DESC.TXT"
RIGHT_ASCENSION = -1e+32
DECLINATION = -1e+32
OFFSET_ANGLE = -0.8
SPACECRAFT_SOLAR_DISTANCE = 2.06683e+08
TARGET_NAME = MARS
/* CAMERA DATA ELEMENTS */
BUFFER_MODE_ID = BUFFER_8
EXPOSURE_DURATION = 5.04
INST_CMPRS_NAME = NONE
INST_CMPRS_RATIO = 1.0
INST_CMPRS_QUALITY = -2147483648
INST_CMPRS_QUANTZ_TBL_ID = -2147483648
INSTRUMENT_TEMPERATURE = 20.2597
MISSING_FRAMES = 0
START_BIT = 0
/* RADIOMETRIC DATA ELEMENTS */
BANDWIDTH = 250.0
CENTER_FILTER_WAVELENGTH = 600.0
RADIANCE_OFFSET = -9.99e+31
RADIANCE_SCALING_FACTOR = -9.99e+31
REFLECTANCE_SCALING_FACTOR = -9.99e+31
MEX:REFLECTANCE_OFFSET = -9.99e+31
/* IMAGE OBJECT DEFINITIONS */
OBJECT = IMAGE
  INTERCHANGE_FORMAT = BINARY
  LINES = 1392
  LINE_SAMPLES = 1410
  SAMPLE_TYPE = UNSIGNED_INTEGER
  SAMPLE_BITS = 8
  BANDS = 1
  BAND_STORAGE_TYPE = BAND_SEQUENTIAL
  MAXIMUM = 3362
  MEAN = 3023.38
  MINIMUM = 2534
  STANDARD_DEVIATION = 80.9457
END_OBJECT = IMAGE
/* MAP OBJECT DEFINITIONS */
OBJECT = IMAGE_MAP_PROJECTION
  ^DATA_SET_MAP_PROJECTION_CATALOG= "DSMAP.CAT"
  A_AXIS_RADIUS = 3396.19
  B_AXIS_RADIUS = 3396.19
  C_AXIS_RADIUS = 3396.19
  CENTER_LATITUDE = 0.0
  CENTER_LONGITUDE = 108.0
  COORDINATE_SYSTEM_NAME = PLANETOGRAPHIC
  COORDINATE_SYSTEM_TYPE = "BODY-FIXED ROTATING"
  EASTERNMOST_LONGITUDE = 108.004
  FIRST_STANDARD_PARALLEL = "N/A"
  LINE_FIRST_PIXEL = 1
  LINE_LAST_PIXEL = 1392
  LINE_PROJECTION_OFFSET = -242007.0
  MAP_PROJECTION_ROTATION = 0.0
  MAP_PROJECTION_TYPE = SINUSOIDAL
  MAP_RESOLUTION = 11854.9393024378
  MAP_SCALE = 0.005
  MAXIMUM_LATITUDE = -20.4207
  MINIMUM_LATITUDE = -20.5342
  POSITIVE_LONGITUDE_DIRECTION = EAST
  REFERENCE_LATITUDE = "N/A"
  REFERENCE_LONGITUDE = "N/A"
  SAMPLE_FIRST_PIXEL = 1
  SAMPLE_LAST_PIXEL = 1410
  SAMPLE_PROJECTION_OFFSET = 1299.0
  SECOND_STANDARD_PARALLEL = "N/A"
  WESTERNMOST_LONGITUDE = 107.882
END_OBJECT = IMAGE_MAP_PROJECTION
/* The JPEG2000 image data file associated with this label. */
OBJECT = COMPRESSED_FILE
  FILE_NAME = "H1909_0003_SR3.JP2"
  RECORD_TYPE = UNDEFINED
  FILE_RECORDS = UNK
  ENCODING_TYPE = "JP2"
  INTERCHANGE_FORMAT = BINARY
  UNCOMPRESSED_FILE_NAME = "H1909_0003_SR3.IMG"
  REQUIRED_STORAGE_BYTES = "1982460"
  ^DESCRIPTION = "JP2INFO.TXT"
END_OBJECT = COMPRESSED_FILE
END
