PDS_VERSION_ID = PDS3
/* FILE DATA ELEMENTS */
RECORD_TYPE = STREAM
/* POINTERS TO DATA OBJECTS */
^COMPRESSED_FILE = "H1909_0005_SR3.JP2"
/* IDENTIFICATION DATA ELEMENTS */
DATA_SET_ID = "MEX-M-HRSC-5-REFDR-MAPPROJECTED-V3.0"
DATA_SET_NAME = "MARS EXPRESS HRSC MAP PROJECTED REFDR V3.0"
DETECTOR_ID = MEX_HRSC_SRC
EVENT_TYPE = "MARS-REGIONAL-MAPPING-Vo-Te-Fl"
INSTRUMENT_HOST_ID = MEX
INSTRUMENT_HOST_NAME = "MARS EXPRESS"
INSTRUMENT_ID = HRSC
INSTRUMENT_NAME = "HIGH RESOLUTION STEREO CAMERA"
MISSION_NAME = "MARS EXPRESS"
MISSION_PHASE_NAME = MR_Phase_6
PROCESSING_LEVEL_ID = 3
PRODUCT_CREATION_TIME = 2016-03-09T16:25:58.000Z
PRODUCT_ID = "H1909_0005_SR3.JP2"
RELEASE_ID = 0025
REVISION_ID = 0000
/* QUALITY DATA ELEMENTS */
DATA_QUALITY_ID = 1
DATA_QUALITY_DESC = "Data calculated based on original SPICE kernels"
/* TIME DATA ELEMENTS */
SPACECRAFT_CLOCK_START_COUNT = "1/0069143656.57954"
SPACECRAFT_CLOCK_STOP_COUNT = "1/0069144578.49692"
IMAGE_TIME = 2005-07-11T06:44:11.893Z
START_TIME = 2005-07-11T06:44:11.891Z
STOP_TIME = 2005-07-11T06:44:11.896Z
/* ORBITAL DATA ELEMENTS */
ASCENDING_NODE_LONGITUDE = 188.3
MAXIMUM_RESOLUTION = 6.563
FOOTPRINT_POINT_LATITUDE = (-20.3566,-20.3504,-20.3462,-20.343, -20.3384,-20.3337,-20.3298,-20.3265, -20.3227,-20.3173,-20.3124,-20.3088, -20.3044,-20.3007,-20.2974,-20.2931, -20.2884,-20.2853,-20.2798,-20.2755, -20.2693,-20.2658,-20.2613,-20.2564, -20.2525,-20.2481,-20.2481,-20.248, -20.248,-20.2479,-20.2478,-20.2478, -20.2477,-20.2477,-20.2476,-20.2475, -20.2475,-20.2474,-20.2474,-20.2473, -20.2472,-20.2472,-20.2471,-20.247, -20.247,-20.2469,-20.2468,-20.2468, -20.2467,-20.2467,-20.2498,-20.2545, -20.2576,-20.261,-20.2657,-20.2691, -20.2731,-20.278,-20.2822,-20.2884, -20.2935,-20.2986,-20.3018,-20.3079, -20.3118,-20.3169,-20.3214,-20.3252, -20.3315,-20.3363,-20.3423,-20.3464, -20.3511,-20.3564,-20.3583,-20.3583, -20.3584,-20.3584,-20.3585,-20.3586, -20.3586,-20.3587,-20.3587,-20.3588, -20.3589,-20.3589,-20.359,-20.359, -20.3591,-20.3591,-20.3592,-20.3593, -20.3593,-20.3594,-20.3594,-20.3595, -20.3595,-20.3596,-20.3596,-20.3566)
FOOTPRINT_POINT_LONGITUDE = (107.881,107.881,107.881,107.881, 107.881,107.881,107.881,107.881,107.881 ,107.881,107.881,107.88,107.88,107.88, 107.88,107.88,107.88,107.88,107.88, 107.88,107.88,107.88,107.88,107.88, 107.88,107.882,107.887,107.892,107.896, 107.901,107.906,107.911,107.915,107.92, 107.925,107.929,107.934,107.939,107.944 ,107.948,107.953,107.958,107.963, 107.967,107.972,107.978,107.983,107.988 ,107.992,107.997,108.0,108.0,108.0, 108.0,108.0,108.0,108.001,108.001, 108.001,108.001,108.001,108.001,108.001 ,108.001,108.001,108.001,108.001, 108.001,108.001,108.001,108.002,108.002 ,108.002,108.002,107.997,107.992, 107.987,107.983,107.978,107.973,107.968 ,107.964,107.959,107.954,107.949, 107.945,107.94,107.935,107.93,107.926, 107.921,107.916,107.911,107.907,107.902 ,107.897,107.893,107.888,107.883, 107.881)
ORBIT_NUMBER = 1909
ORBITAL_ECCENTRICITY = 0.571
ORBITAL_INCLINATION = 86.57
ORBITAL_SEMIMAJOR_AXIS = 8616.0
PERIAPSIS_ALTITUDE = 306.39
PERIAPSIS_ARGUMENT_ANGLE = 23.38
PERIAPSIS_TIME = 2005-07-11T06:56:03.000Z
SPACECRAFT_ORIENTATION = (0.0,1.0,0.0)
^MEX_ORIENTATION_DESC = "MEX_ORIENTATION_DESC.TXT"
SPACECRAFT_POINTING_MODE = ACROSSTRACK
^MEX_POINTING_DESC = "MEX_POINTING_DESC.TXT"
RIGHT_ASCENSION = -1e+32
DECLINATION = -1e+32
OFFSET_ANGLE = -0.8
SPACECRAFT_SOLAR_DISTANCE = 2.06683e+08
TARGET_NAME = MARS
/* CAMERA DATA ELEMENTS */
BUFFER_MODE_ID = BUFFER_8
EXPOSURE_DURATION = 5.04
INST_CMPRS_NAME = NONE
INST_CMPRS_RATIO = 1.0
INST_CMPRS_QUALITY = -2147483648
INST_CMPRS_QUANTZ_TBL_ID = -2147483648
INSTRUMENT_TEMPERATURE = 20.2597
MISSING_FRAMES = 0
START_BIT = 0
/* RADIOMETRIC DATA ELEMENTS */
BANDWIDTH = 250.0
CENTER_FILTER_WAVELENGTH = 600.0
RADIANCE_OFFSET = -9.99e+31
RADIANCE_SCALING_FACTOR = -9.99e+31
REFLECTANCE_SCALING_FACTOR = -9.99e+31
MEX:REFLECTANCE_OFFSET = -9.99e+31
/* IMAGE OBJECT DEFINITIONS */
OBJECT = IMAGE
  INTERCHANGE_FORMAT = BINARY
  LINES = 1386
  LINE_SAMPLES = 1404
  SAMPLE_TYPE = UNSIGNED_INTEGER
  SAMPLE_BITS = 8
  BANDS = 1
  BAND_STORAGE_TYPE = BAND_SEQUENTIAL
  MAXIMUM = 3514
  MEAN = 3049.87
  MINIMUM = 2538
  STANDARD_DEVIATION = 97.7043
END_OBJECT = IMAGE
/* MAP OBJECT DEFINITIONS */
OBJECT = IMAGE_MAP_PROJECTION
  ^DATA_SET_MAP_PROJECTION_CATALOG= "DSMAP.CAT"
  A_AXIS_RADIUS = 3396.19
  B_AXIS_RADIUS = 3396.19
  C_AXIS_RADIUS = 3396.19
  CENTER_LATITUDE = 0.0
  CENTER_LONGITUDE = 108.0
  COORDINATE_SYSTEM_NAME = PLANETOGRAPHIC
  COORDINATE_SYSTEM_TYPE = "BODY-FIXED ROTATING"
  EASTERNMOST_LONGITUDE = 108.002
  FIRST_STANDARD_PARALLEL = "N/A"
  LINE_FIRST_PIXEL = 1
  LINE_LAST_PIXEL = 1386
  LINE_PROJECTION_OFFSET = -239945.0
  MAP_PROJECTION_ROTATION = 0.0
  MAP_PROJECTION_TYPE = SINUSOIDAL
  MAP_RESOLUTION = 11854.9393024378
  MAP_SCALE = 0.005
  MAXIMUM_LATITUDE = -20.2467
  MINIMUM_LATITUDE = -20.3596
  POSITIVE_LONGITUDE_DIRECTION = EAST
  REFERENCE_LATITUDE = "N/A"
  REFERENCE_LONGITUDE = "N/A"
  SAMPLE_FIRST_PIXEL = 1
  SAMPLE_LAST_PIXEL = 1404
  SAMPLE_PROJECTION_OFFSET = 1323.0
  SECOND_STANDARD_PARALLEL = "N/A"
  WESTERNMOST_LONGITUDE = 107.88
END_OBJECT = IMAGE_MAP_PROJECTION
/* The JPEG2000 image data file associated with this label. */
OBJECT = COMPRESSED_FILE
  FILE_NAME = "H1909_0005_SR3.JP2"
  RECORD_TYPE = UNDEFINED
  FILE_RECORDS = UNK
  ENCODING_TYPE = "JP2"
  INTERCHANGE_FORMAT = BINARY
  UNCOMPRESSED_FILE_NAME = "H1909_0005_SR3.IMG"
  REQUIRED_STORAGE_BYTES = "1965600"
  ^DESCRIPTION = "JP2INFO.TXT"
END_OBJECT = COMPRESSED_FILE
END
