PDS_VERSION_ID = PDS3
/* FILE DATA ELEMENTS */
RECORD_TYPE = STREAM
/* POINTERS TO DATA OBJECTS */
^COMPRESSED_FILE = "H1910_0000_S13.JP2"
/* IDENTIFICATION DATA ELEMENTS */
DATA_SET_ID = "MEX-M-HRSC-5-REFDR-MAPPROJECTED-V3.0"
DATA_SET_NAME = "MARS EXPRESS HRSC MAP PROJECTED REFDR V3.0"
DETECTOR_ID = MEX_HRSC_S1
EVENT_TYPE = "MARS-GLOBAL-MAPPING-Im"
INSTRUMENT_HOST_ID = MEX
INSTRUMENT_HOST_NAME = "MARS EXPRESS"
INSTRUMENT_ID = HRSC
INSTRUMENT_NAME = "HIGH RESOLUTION STEREO CAMERA"
MISSION_NAME = "MARS EXPRESS"
MISSION_PHASE_NAME = MR_Phase_6
PROCESSING_LEVEL_ID = 3
PRODUCT_CREATION_TIME = 2016-03-09T16:25:58.000Z
PRODUCT_ID = "H1910_0000_S13.JP2"
RELEASE_ID = 0025
REVISION_ID = 0000
/* QUALITY DATA ELEMENTS */
DATA_QUALITY_ID = 1
DATA_QUALITY_DESC = "Data calculated based on original SPICE kernels"
/* TIME DATA ELEMENTS */
SPACECRAFT_CLOCK_START_COUNT = "1/0069167815.56180"
SPACECRAFT_CLOCK_STOP_COUNT = "1/0069168400.48244"
START_TIME = 2005-07-11T13:23:11.351Z
STOP_TIME = 2005-07-11T13:26:46.048Z
/* ORBITAL DATA ELEMENTS */
ASCENDING_NODE_LONGITUDE = 188.28
MAXIMUM_RESOLUTION = 65.5
FOOTPRINT_POINT_LATITUDE = (-39.086,-39.0893,-39.0922,-39.0944, -39.097,-39.0979,-39.0984,-39.0983, -39.0977,-39.0967,-39.0951,-39.093, -39.1359,-38.8605,-38.5866,-38.3147, -38.0457,-37.7769,-37.5107,-37.2451, -36.9805,-36.7184,-36.4576,-36.1979, -35.9389,-35.6818,-35.4266,-35.0447, -34.6662,-34.2915,-34.0448,-33.7997, -33.556,-33.313,-32.9498,-32.5881, -32.3503,-32.1207,-31.764,-31.522, -31.2903,-30.9433,-30.4845,-30.1435, -29.6928,-29.2471,-28.9188,-28.4769, -28.1488,-27.8285,-27.5084,-27.0228, -27.0267,-27.0254,-27.024,-27.0155, -27.0169,-27.0145,-27.0108,-27.0094, -27.4384,-27.7515,-28.1833,-28.6199, -29.1723,-29.6196,-29.9568,-30.1887, -30.6369,-30.8669,-31.097,-31.3295, -31.6815,-31.9161,-32.1531,-32.5132, -32.753,-32.991,-33.2336,-33.4765, -33.7183,-34.089,-34.3359,-34.5863, -34.8396,-35.0918,-35.3462,-35.6009, -35.9873,-36.244,-36.5057,-36.7691, -37.0318,-37.2967,-37.5621,-37.8295, -38.098,-38.3696,-38.642,-39.086)
FOOTPRINT_POINT_LONGITUDE = (11.0715,10.7095,10.348,9.98671,9.39991 ,9.03881,8.67797,8.31743,7.95667,7.5954 ,7.23372,6.87163,6.52032,6.54565, 6.57061,6.59483,6.618,6.6412,6.66352, 6.68569,6.70746,6.72848,6.74914,6.76948 ,6.7897,6.80925,6.82845,6.85698,6.88449 ,6.91095,6.92767,6.94384,6.95974, 6.97559,6.99908,7.02239,7.03681,7.04865 ,7.07114,7.08776,7.10102,7.12097, 7.14681,7.16554,7.1898,7.213,7.22884, 7.25199,7.26873,7.28303,7.29803,7.40906 ,7.7896,8.08333,8.3474,8.75774,9.19759, 9.60828,10.0484,10.3528,10.3797,10.3961 ,10.4224,10.4496,10.4845,10.5133, 10.5351,10.5518,10.5787,10.594,10.6091, 10.6248,10.6491,10.6651,10.6815,10.7075 ,10.7245,10.7404,10.7577,10.7751, 10.7916,10.8192,10.837,10.8561,10.8759, 10.8949,10.9147,10.9343,10.9649,10.9845 ,11.0057,11.0275,11.0487,11.0704, 11.0919,11.1142,11.1365,11.1599,11.1832 ,11.0715)
ORBIT_NUMBER = 1910
ORBITAL_ECCENTRICITY = 0.57
ORBITAL_INCLINATION = 86.56
ORBITAL_SEMIMAJOR_AXIS = 8611.68
PERIAPSIS_ALTITUDE = 306.77
PERIAPSIS_ARGUMENT_ANGLE = 23.22
PERIAPSIS_TIME = 2005-07-11T13:39:18.000Z
SPACECRAFT_ORIENTATION = (0.0,1.0,0.0)
^MEX_ORIENTATION_DESC = "MEX_ORIENTATION_DESC.TXT"
SPACECRAFT_POINTING_MODE = NADIR
^MEX_POINTING_DESC = "MEX_POINTING_DESC.TXT"
RIGHT_ASCENSION = -1e+32
DECLINATION = -1e+32
OFFSET_ANGLE = -1e+32
SPACECRAFT_SOLAR_DISTANCE = 2.06679e+08
TARGET_NAME = MARS
/* CAMERA DATA ELEMENTS */
DETECTOR_TEMPERATURE = 17.9627
FOCAL_PLANE_TEMPERATURE = 9.195
INST_CMPRS_NAME = "DISCRETE COSINE TRANSFORMATION (DCT)"
INST_CMPRS_RATIO = 11.7435
INST_CMPRS_QUALITY = 0
INST_CMPRS_QUANTZ_TBL_ID = 0
INSTRUMENT_TEMPERATURE = 11.6418
LENS_TEMPERATURE = 9.3989
MACROPIXEL_SIZE = 2
MISSING_FRAMES = 0
PIXEL_SUBSAMPLING_FLAG = N
SIGNAL_CHAIN_ID = 1
/* RADIOMETRIC DATA ELEMENTS */
BANDWIDTH = 180.0
CENTER_FILTER_WAVELENGTH = 677.0
RADIANCE_OFFSET = 3.8452
RADIANCE_SCALING_FACTOR = 0.0126422
REFLECTANCE_SCALING_FACTOR = 0.000281746
MEX:REFLECTANCE_OFFSET = 0.085695
/* IMAGE OBJECT DEFINITIONS */
OBJECT = IMAGE
  INTERCHANGE_FORMAT = BINARY
  LINES = 14385
  LINE_SAMPLES = 5078
  SAMPLE_TYPE = UNSIGNED_INTEGER
  SAMPLE_BITS = 8
  BANDS = 1
  BAND_STORAGE_TYPE = BAND_SEQUENTIAL
  MAXIMUM = 379
  MEAN = 214.099
  MINIMUM = 193
  STANDARD_DEVIATION = 99.4619
END_OBJECT = IMAGE
/* MAP OBJECT DEFINITIONS */
OBJECT = IMAGE_MAP_PROJECTION
  ^DATA_SET_MAP_PROJECTION_CATALOG= "DSMAP.CAT"
  A_AXIS_RADIUS = 3396.0
  B_AXIS_RADIUS = 3396.0
  C_AXIS_RADIUS = 3396.0
  CENTER_LATITUDE = 0.0
  CENTER_LONGITUDE = 9.0
  COORDINATE_SYSTEM_NAME = PLANETOGRAPHIC
  COORDINATE_SYSTEM_TYPE = "BODY-FIXED ROTATING"
  EASTERNMOST_LONGITUDE = 11.1832
  FIRST_STANDARD_PARALLEL = "N/A"
  LINE_FIRST_PIXEL = 1
  LINE_LAST_PIXEL = 14385
  LINE_PROJECTION_OFFSET = -31990.25
  MAP_PROJECTION_ROTATION = 0.0
  MAP_PROJECTION_TYPE = SINUSOIDAL
  MAP_RESOLUTION = 1185.42760773333
  MAP_SCALE = 0.05
  MAXIMUM_LATITUDE = -27.0094
  MINIMUM_LATITUDE = -39.1359
  POSITIVE_LONGITUDE_DIRECTION = EAST
  REFERENCE_LATITUDE = "N/A"
  REFERENCE_LONGITUDE = "N/A"
  SAMPLE_FIRST_PIXEL = 1
  SAMPLE_LAST_PIXEL = 5078
  SAMPLE_PROJECTION_OFFSET = 2675.25
  SECOND_STANDARD_PARALLEL = "N/A"
  WESTERNMOST_LONGITUDE = 6.52032
END_OBJECT = IMAGE_MAP_PROJECTION
/* The JPEG2000 image data file associated with this label. */
OBJECT = COMPRESSED_FILE
  FILE_NAME = "H1910_0000_S13.JP2"
  RECORD_TYPE = UNDEFINED
  FILE_RECORDS = UNK
  ENCODING_TYPE = "JP2"
  INTERCHANGE_FORMAT = BINARY
  UNCOMPRESSED_FILE_NAME = "H1910_0000_S13.IMG"
  REQUIRED_STORAGE_BYTES = "73072420"
  ^DESCRIPTION = "JP2INFO.TXT"
END_OBJECT = COMPRESSED_FILE
END
