PDS_VERSION_ID = PDS3
/* FILE DATA ELEMENTS */
RECORD_TYPE = STREAM
/* POINTERS TO DATA OBJECTS */
^COMPRESSED_FILE = "H1910_0003_SR3.JP2"
/* IDENTIFICATION DATA ELEMENTS */
DATA_SET_ID = "MEX-M-HRSC-5-REFDR-MAPPROJECTED-V3.0"
DATA_SET_NAME = "MARS EXPRESS HRSC MAP PROJECTED REFDR V3.0"
DETECTOR_ID = MEX_HRSC_SRC
EVENT_TYPE = "MARS-GLOBAL-MAPPING-Im"
INSTRUMENT_HOST_ID = MEX
INSTRUMENT_HOST_NAME = "MARS EXPRESS"
INSTRUMENT_ID = HRSC
INSTRUMENT_NAME = "HIGH RESOLUTION STEREO CAMERA"
MISSION_NAME = "MARS EXPRESS"
MISSION_PHASE_NAME = MR_Phase_6
PROCESSING_LEVEL_ID = 3
PRODUCT_CREATION_TIME = 2016-03-09T16:25:58.000Z
PRODUCT_ID = "H1910_0003_SR3.JP2"
RELEASE_ID = 0025
REVISION_ID = 0000
/* QUALITY DATA ELEMENTS */
DATA_QUALITY_ID = 1
DATA_QUALITY_DESC = "Data calculated based on original SPICE kernels"
/* TIME DATA ELEMENTS */
SPACECRAFT_CLOCK_START_COUNT = "1/0069167815.56180"
SPACECRAFT_CLOCK_STOP_COUNT = "1/0069168400.48244"
IMAGE_TIME = 2005-07-11T13:24:46.102Z
START_TIME = 2005-07-11T13:24:46.099Z
STOP_TIME = 2005-07-11T13:24:46.104Z
/* ORBITAL DATA ELEMENTS */
ASCENDING_NODE_LONGITUDE = 188.28
MAXIMUM_RESOLUTION = 8.251
FOOTPRINT_POINT_LATITUDE = (-28.7242,-28.7192,-28.7118,-28.7047, -28.6974,-28.6919,-28.6877,-28.683, -28.6788,-28.6747,-28.6687,-28.6651, -28.6581,-28.6522,-28.6483,-28.643, -28.636,-28.6314,-28.6264,-28.6186, -28.614,-28.6077,-28.6035,-28.5986, -28.5919,-28.5879,-28.5879,-28.5878, -28.5878,-28.5878,-28.5877,-28.5877, -28.5877,-28.5877,-28.5876,-28.5876, -28.5876,-28.5876,-28.5875,-28.5875, -28.5875,-28.5874,-28.5874,-28.5874, -28.5873,-28.5873,-28.5873,-28.5872, -28.5872,-28.5872,-28.5896,-28.5934, -28.5976,-28.6033,-28.609,-28.6129, -28.6174,-28.6221,-28.626,-28.6319, -28.6398,-28.647,-28.653,-28.6596, -28.6684,-28.6776,-28.6847,-28.69, -28.6943,-28.7,-28.7071,-28.7113, -28.7199,-28.7274,-28.7275,-28.7275, -28.7275,-28.7276,-28.7276,-28.7276, -28.7277,-28.7277,-28.7277,-28.7278, -28.7278,-28.7278,-28.7278,-28.7279, -28.7279,-28.7279,-28.728,-28.728, -28.728,-28.728,-28.7281,-28.7281, -28.7281,-28.7281,-28.7282,-28.7242)
FOOTPRINT_POINT_LONGITUDE = (8.77185,8.77182,8.77178,8.77174, 8.77171,8.77168,8.77165,8.77163,8.77161 ,8.77159,8.77155,8.77153,8.7715,8.77147 ,8.77145,8.77142,8.77138,8.77136, 8.77133,8.77129,8.77126,8.77123,8.77121 ,8.77118,8.77115,8.77607,8.78242, 8.78877,8.79511,8.80146,8.80781,8.81415 ,8.8205,8.82526,8.8316,8.83954,8.8443, 8.84906,8.8554,8.86175,8.8681,8.87444, 8.88079,8.88714,8.89348,8.89983,8.90618 ,8.91252,8.91887,8.92521,8.93253, 8.93256,8.93258,8.93262,8.93266,8.93269 ,8.93272,8.93275,8.93278,8.93282, 8.93287,8.93292,8.93297,8.93301,8.93307 ,8.93313,8.93318,8.93322,8.93325, 8.93329,8.93334,8.93337,8.93342,8.93173 ,8.92537,8.91902,8.91266,8.90631, 8.89995,8.8936,8.88724,8.88089,8.87453, 8.86818,8.86182,8.85547,8.84911,8.84435 ,8.8364,8.83005,8.82528,8.82052,8.81416 ,8.80781,8.80145,8.79509,8.78874, 8.78238,8.77603,8.77185)
ORBIT_NUMBER = 1910
ORBITAL_ECCENTRICITY = 0.57
ORBITAL_INCLINATION = 86.56
ORBITAL_SEMIMAJOR_AXIS = 8611.68
PERIAPSIS_ALTITUDE = 306.77
PERIAPSIS_ARGUMENT_ANGLE = 23.22
PERIAPSIS_TIME = 2005-07-11T13:39:18.000Z
SPACECRAFT_ORIENTATION = (0.0,1.0,0.0)
^MEX_ORIENTATION_DESC = "MEX_ORIENTATION_DESC.TXT"
SPACECRAFT_POINTING_MODE = NADIR
^MEX_POINTING_DESC = "MEX_POINTING_DESC.TXT"
RIGHT_ASCENSION = -1e+32
DECLINATION = -1e+32
OFFSET_ANGLE = -1e+32
SPACECRAFT_SOLAR_DISTANCE = 2.06679e+08
TARGET_NAME = MARS
/* CAMERA DATA ELEMENTS */
BUFFER_MODE_ID = BUFFER_8
EXPOSURE_DURATION = 5.04
INST_CMPRS_NAME = NONE
INST_CMPRS_RATIO = 1.0
INST_CMPRS_QUALITY = -2147483648
INST_CMPRS_QUANTZ_TBL_ID = -2147483648
INSTRUMENT_TEMPERATURE = 17.2727
MISSING_FRAMES = 0
START_BIT = 0
/* RADIOMETRIC DATA ELEMENTS */
BANDWIDTH = 250.0
CENTER_FILTER_WAVELENGTH = 600.0
RADIANCE_OFFSET = -9.99e+31
RADIANCE_SCALING_FACTOR = -9.99e+31
REFLECTANCE_SCALING_FACTOR = -9.99e+31
MEX:REFLECTANCE_OFFSET = -9.99e+31
/* IMAGE OBJECT DEFINITIONS */
OBJECT = IMAGE
  INTERCHANGE_FORMAT = BINARY
  LINES = 881
  LINE_SAMPLES = 890
  SAMPLE_TYPE = UNSIGNED_INTEGER
  SAMPLE_BITS = 8
  BANDS = 1
  BAND_STORAGE_TYPE = BAND_SEQUENTIAL
  MAXIMUM = 3988
  MEAN = 3631.55
  MINIMUM = 3088
  STANDARD_DEVIATION = 72.1027
END_OBJECT = IMAGE
/* MAP OBJECT DEFINITIONS */
OBJECT = IMAGE_MAP_PROJECTION
  ^DATA_SET_MAP_PROJECTION_CATALOG= "DSMAP.CAT"
  A_AXIS_RADIUS = 3396.19
  B_AXIS_RADIUS = 3396.19
  C_AXIS_RADIUS = 3396.19
  CENTER_LATITUDE = 0.0
  CENTER_LONGITUDE = 9.0
  COORDINATE_SYSTEM_NAME = PLANETOGRAPHIC
  COORDINATE_SYSTEM_TYPE = "BODY-FIXED ROTATING"
  EASTERNMOST_LONGITUDE = 8.93342
  FIRST_STANDARD_PARALLEL = "N/A"
  LINE_FIRST_PIXEL = 1
  LINE_LAST_PIXEL = 881
  LINE_PROJECTION_OFFSET = -169351.0
  MAP_PROJECTION_ROTATION = 0.0
  MAP_PROJECTION_TYPE = SINUSOIDAL
  MAP_RESOLUTION = 5927.46965121889
  MAP_SCALE = 0.01
  MAXIMUM_LATITUDE = -28.5872
  MINIMUM_LATITUDE = -28.7282
  POSITIVE_LONGITUDE_DIRECTION = EAST
  REFERENCE_LATITUDE = "N/A"
  REFERENCE_LONGITUDE = "N/A"
  SAMPLE_FIRST_PIXEL = 1
  SAMPLE_LAST_PIXEL = 890
  SAMPLE_PROJECTION_OFFSET = 1211.0
  SECOND_STANDARD_PARALLEL = "N/A"
  WESTERNMOST_LONGITUDE = 8.77115
END_OBJECT = IMAGE_MAP_PROJECTION
/* The JPEG2000 image data file associated with this label. */
OBJECT = COMPRESSED_FILE
  FILE_NAME = "H1910_0003_SR3.JP2"
  RECORD_TYPE = UNDEFINED
  FILE_RECORDS = UNK
  ENCODING_TYPE = "JP2"
  INTERCHANGE_FORMAT = BINARY
  UNCOMPRESSED_FILE_NAME = "H1910_0003_SR3.IMG"
  REQUIRED_STORAGE_BYTES = "802780"
  ^DESCRIPTION = "JP2INFO.TXT"
END_OBJECT = COMPRESSED_FILE
END
