PDS_VERSION_ID = PDS3
/* FILE DATA ELEMENTS */
RECORD_TYPE = STREAM
/* POINTERS TO DATA OBJECTS */
^COMPRESSED_FILE = "H1912_0000_IR3.JP2"
/* IDENTIFICATION DATA ELEMENTS */
DATA_SET_ID = "MEX-M-HRSC-5-REFDR-MAPPROJECTED-V3.0"
DATA_SET_NAME = "MARS EXPRESS HRSC MAP PROJECTED REFDR V3.0"
DETECTOR_ID = MEX_HRSC_IR
EVENT_TYPE = "MARS-REGIONAL-MAPPING-Vo-Fl-Mw"
INSTRUMENT_HOST_ID = MEX
INSTRUMENT_HOST_NAME = "MARS EXPRESS"
INSTRUMENT_ID = HRSC
INSTRUMENT_NAME = "HIGH RESOLUTION STEREO CAMERA"
MISSION_NAME = "MARS EXPRESS"
MISSION_PHASE_NAME = MR_Phase_6
PROCESSING_LEVEL_ID = 3
PRODUCT_CREATION_TIME = 2016-03-09T16:25:58.000Z
PRODUCT_ID = "H1912_0000_IR3.JP2"
RELEASE_ID = 0025
REVISION_ID = 0000
/* QUALITY DATA ELEMENTS */
DATA_QUALITY_ID = 2
DATA_QUALITY_DESC = "Data calculated based on photogrammetrically improved orbit and attitude data"
/* TIME DATA ELEMENTS */
SPACECRAFT_CLOCK_START_COUNT = "1/0069216564.57933"
SPACECRAFT_CLOCK_STOP_COUNT = "1/0069217282.07775"
START_TIME = 2005-07-12T02:52:55.761Z
STOP_TIME = 2005-07-12T03:01:22.014Z
/* ORBITAL DATA ELEMENTS */
ASCENDING_NODE_LONGITUDE = 188.23
MAXIMUM_RESOLUTION = 61.9
FOOTPRINT_POINT_LATITUDE = (-27.7406,-27.749,-27.7562,-27.7767, -26.8912,-26.0026,-25.1287,-24.2684, -23.4291,-22.6012,-21.7915,-21.0022, -20.2268,-19.4599,-18.7114,-17.9723, -17.2451,-16.5355,-15.8357,-15.1496, -14.4682,-13.8041,-13.1468,-12.4997, -11.8602,-11.236,-10.6173,-10.0068, -9.41021,-8.81586,-8.23189,-7.6546, -7.08728,-6.52464,-5.96778,-5.42306, -4.88063,-4.34851,-3.81873,-3.29867, -2.78032,-2.2718,-1.76424,-0.771156, 0.224121,0.722906,1.22225,1.72213, 2.22258,2.72346,3.63666,3.70294,3.71081 ,2.80897,2.30838,1.80817,1.30849, 0.809375,0.310851,-0.68338,-1.67609, -2.18185,-2.68962,-3.20651,-3.72606, -4.25389,-5.05587,-5.59718,-6.14618, -6.7005,-7.26712,-7.84072,-8.41522, -9.00371,-9.60129,-10.202,-10.8163, -11.4372,-12.0682,-12.7096,-13.357, -14.0191,-14.6885,-15.3647,-16.0588, -16.7639,-17.4818,-18.2091,-18.9505, -19.7033,-20.4692,-21.2579,-22.0581, -22.8717,-23.7046,-24.5534,-25.4174, -26.3042,-27.1879,-27.7406)
FOOTPRINT_POINT_LONGITUDE = (172.906,172.066,171.137,170.45,170.495 ,170.536,170.574,170.612,170.645, 170.678,170.707,170.733,170.757,170.782 ,170.804,170.826,170.847,170.865, 170.882,170.898,170.915,170.929,170.943 ,170.957,170.971,170.981,170.993, 171.003,171.013,171.023,171.032,171.041 ,171.05,171.058,171.067,171.074,171.08, 171.087,171.093,171.099,171.105,171.111 ,171.116,171.126,171.136,171.14,171.144 ,171.148,171.152,171.156,171.163, 171.722,172.461,172.476,172.485,172.494 ,172.503,172.513,172.523,172.543, 172.565,172.576,172.588,172.601,172.613 ,172.627,172.648,172.662,172.676, 172.692,172.708,172.726,172.742,172.76, 172.78,172.798,172.819,172.84,172.862, 172.885,172.907,172.932,172.957,172.981 ,173.009,173.038,173.068,173.098,173.13 ,173.162,173.196,173.235,173.273, 173.313,173.356,173.401,173.447,173.497 ,173.546,172.906)
ORBIT_NUMBER = 1912
ORBITAL_ECCENTRICITY = 0.57
ORBITAL_INCLINATION = 86.58
ORBITAL_SEMIMAJOR_AXIS = 8606.44
PERIAPSIS_ALTITUDE = 306.48
PERIAPSIS_ARGUMENT_ANGLE = 22.87
PERIAPSIS_TIME = 2005-07-12T03:05:48.000Z
SPACECRAFT_ORIENTATION = (0.0,1.0,0.0)
^MEX_ORIENTATION_DESC = "MEX_ORIENTATION_DESC.TXT"
SPACECRAFT_POINTING_MODE = ACROSSTRACK
^MEX_POINTING_DESC = "MEX_POINTING_DESC.TXT"
RIGHT_ASCENSION = -1e+32
DECLINATION = -1e+32
OFFSET_ANGLE = 0.2
SPACECRAFT_SOLAR_DISTANCE = 2.06672e+08
TARGET_NAME = MARS
/* CAMERA DATA ELEMENTS */
DETECTOR_TEMPERATURE = 17.7588
FOCAL_PLANE_TEMPERATURE = 9.8067
INST_CMPRS_NAME = "DISCRETE COSINE TRANSFORMATION (DCT)"
INST_CMPRS_RATIO = 7.56287
INST_CMPRS_QUALITY = 0
INST_CMPRS_QUANTZ_TBL_ID = 0
INSTRUMENT_TEMPERATURE = 11.6418
LENS_TEMPERATURE = 10.2145
MACROPIXEL_SIZE = 4
MISSING_FRAMES = 0
PIXEL_SUBSAMPLING_FLAG = N
SIGNAL_CHAIN_ID = 2
/* RADIOMETRIC DATA ELEMENTS */
BANDWIDTH = 81.0
CENTER_FILTER_WAVELENGTH = 955.5
RADIANCE_OFFSET = 0.556575
RADIANCE_SCALING_FACTOR = 0.00412052
REFLECTANCE_SCALING_FACTOR = 0.000379703
MEX:REFLECTANCE_OFFSET = 0.0512881
/* IMAGE OBJECT DEFINITIONS */
OBJECT = IMAGE
  INTERCHANGE_FORMAT = BINARY
  LINES = 37325
  LINE_SAMPLES = 3698
  SAMPLE_TYPE = UNSIGNED_INTEGER
  SAMPLE_BITS = 8
  BANDS = 1
  BAND_STORAGE_TYPE = BAND_SEQUENTIAL
  MAXIMUM = 325
  MEAN = 205.199
  MINIMUM = 101
  STANDARD_DEVIATION = 38.0369
END_OBJECT = IMAGE
/* MAP OBJECT DEFINITIONS */
OBJECT = IMAGE_MAP_PROJECTION
  ^DATA_SET_MAP_PROJECTION_CATALOG= "DSMAP.CAT"
  A_AXIS_RADIUS = 3396.0
  B_AXIS_RADIUS = 3396.0
  C_AXIS_RADIUS = 3396.0
  CENTER_LATITUDE = 0.0
  CENTER_LONGITUDE = 172.0
  COORDINATE_SYSTEM_NAME = PLANETOGRAPHIC
  COORDINATE_SYSTEM_TYPE = "BODY-FIXED ROTATING"
  EASTERNMOST_LONGITUDE = 173.546
  FIRST_STANDARD_PARALLEL = "N/A"
  LINE_FIRST_PIXEL = 1
  LINE_LAST_PIXEL = 37325
  LINE_PROJECTION_OFFSET = 4431.875
  MAP_PROJECTION_ROTATION = 0.0
  MAP_PROJECTION_TYPE = SINUSOIDAL
  MAP_RESOLUTION = 1185.42760773333
  MAP_SCALE = 0.05
  MAXIMUM_LATITUDE = 3.71081
  MINIMUM_LATITUDE = -27.7767
  POSITIVE_LONGITUDE_DIRECTION = EAST
  REFERENCE_LATITUDE = "N/A"
  REFERENCE_LONGITUDE = "N/A"
  SAMPLE_FIRST_PIXEL = 1
  SAMPLE_LAST_PIXEL = 3698
  SAMPLE_PROJECTION_OFFSET = 1847.125
  SECOND_STANDARD_PARALLEL = "N/A"
  WESTERNMOST_LONGITUDE = 170.45
END_OBJECT = IMAGE_MAP_PROJECTION
/* The JPEG2000 image data file associated with this label. */
OBJECT = COMPRESSED_FILE
  FILE_NAME = "H1912_0000_IR3.JP2"
  RECORD_TYPE = UNDEFINED
  FILE_RECORDS = UNK
  ENCODING_TYPE = "JP2"
  INTERCHANGE_FORMAT = BINARY
  UNCOMPRESSED_FILE_NAME = "H1912_0000_IR3.IMG"
  REQUIRED_STORAGE_BYTES = "138050038"
  ^DESCRIPTION = "JP2INFO.TXT"
END_OBJECT = COMPRESSED_FILE
END
