PDS_VERSION_ID = PDS3
/* FILE DATA ELEMENTS */
RECORD_TYPE = STREAM
/* POINTERS TO DATA OBJECTS */
^COMPRESSED_FILE = "H1914_0000_P13.JP2"
/* IDENTIFICATION DATA ELEMENTS */
DATA_SET_ID = "MEX-M-HRSC-5-REFDR-MAPPROJECTED-V3.0"
DATA_SET_NAME = "MARS EXPRESS HRSC MAP PROJECTED REFDR V3.0"
DETECTOR_ID = MEX_HRSC_P1
EVENT_TYPE = "MARS-REGIONAL-MAPPING-Fl-Gl-Lc"
INSTRUMENT_HOST_ID = MEX
INSTRUMENT_HOST_NAME = "MARS EXPRESS"
INSTRUMENT_ID = HRSC
INSTRUMENT_NAME = "HIGH RESOLUTION STEREO CAMERA"
MISSION_NAME = "MARS EXPRESS"
MISSION_PHASE_NAME = MR_Phase_6
PROCESSING_LEVEL_ID = 3
PRODUCT_CREATION_TIME = 2016-03-09T16:25:58.000Z
PRODUCT_ID = "H1914_0000_P13.JP2"
RELEASE_ID = 0025
REVISION_ID = 0000
/* QUALITY DATA ELEMENTS */
DATA_QUALITY_ID = 1
DATA_QUALITY_DESC = "Data calculated based on original SPICE kernels"
/* TIME DATA ELEMENTS */
SPACECRAFT_CLOCK_START_COUNT = "1/0069265215.56192"
SPACECRAFT_CLOCK_STOP_COUNT = "1/0069265636.37404"
START_TIME = 2005-07-12T16:22:19.968Z
STOP_TIME = 2005-07-12T16:27:10.586Z
/* ORBITAL DATA ELEMENTS */
ASCENDING_NODE_LONGITUDE = 188.2
MAXIMUM_RESOLUTION = 31.6
FOOTPRINT_POINT_LATITUDE = (-16.7271,-16.7287,-16.7313,-16.733, -16.7468,-16.2976,-15.851,-15.4092, -14.9758,-14.3298,-13.6923,-13.2729, -12.8577,-12.4478,-12.0402,-11.6379, -11.0375,-10.6419,-10.2532,-9.86525, -9.48469,-9.10301,-8.72917,-8.35258, -7.98562,-7.61742,-7.25379,-6.892, -6.53328,-6.18024,-5.82833,-5.48532, -4.96594,-4.61758,-4.27968,-3.93793, -3.60588,-3.11226,-2.77854,-2.45111, -2.12454,-1.8006,-1.4831,-1.1658, -0.848829,-0.530901,0.104019,0.422979, 0.744421,1.06331,1.38325,1.54367, 1.54521,1.54515,1.22226,0.586683, 0.267062,-0.211326,-0.530291,-0.848232, -1.16528,-1.79976,-2.12344,-2.44721, -2.7713,-3.10089,-3.43466,-3.93166, -4.27171,-4.60847,-4.95435,-5.30064, -5.64693,-5.99759,-6.35248,-6.70709, -7.06964,-7.61169,-7.98,-8.34722, -8.72267,-9.09792,-9.48214,-9.86264, -10.2506,-10.6393,-11.032,-11.4276, -11.8307,-12.4422,-12.8522,-13.2662, -13.6852,-14.3208,-14.7477,-15.1808, -15.6193,-16.0622,-16.5103,-16.7271)
FOOTPRINT_POINT_LONGITUDE = (336.436,336.098,335.466,335.024, 334.675,334.686,334.697,334.707,334.717 ,334.731,334.745,334.754,334.763, 334.771,334.779,334.786,334.799,334.806 ,334.813,334.819,334.825,334.832, 334.838,334.844,334.849,334.855,334.861 ,334.866,334.871,334.876,334.88,334.883 ,334.889,334.895,334.898,334.903, 334.907,334.911,334.916,334.921,334.925 ,334.929,334.932,334.935,334.938, 334.941,334.947,334.95,334.954,334.956, 334.959,335.468,335.937,336.308,336.315 ,336.326,336.333,336.343,336.35,336.357 ,336.364,336.378,336.385,336.392,336.4, 336.408,336.417,336.429,336.438,336.446 ,336.455,336.464,336.474,336.484, 336.494,336.505,336.516,336.532,336.543 ,336.555,336.567,336.579,336.594, 336.606,336.619,336.633,336.645,336.659 ,336.673,336.697,336.713,336.727, 336.744,336.768,336.785,336.801,336.819 ,336.838,336.857,336.436)
ORBIT_NUMBER = 1914
ORBITAL_ECCENTRICITY = 0.57
ORBITAL_INCLINATION = 86.58
ORBITAL_SEMIMAJOR_AXIS = 8608.03
PERIAPSIS_ALTITUDE = 306.3
PERIAPSIS_ARGUMENT_ANGLE = 22.49
PERIAPSIS_TIME = 2005-07-12T16:32:10.000Z
SPACECRAFT_ORIENTATION = (0.0,1.0,0.0)
^MEX_ORIENTATION_DESC = "MEX_ORIENTATION_DESC.TXT"
SPACECRAFT_POINTING_MODE = ACROSSTRACK
^MEX_POINTING_DESC = "MEX_POINTING_DESC.TXT"
RIGHT_ASCENSION = -1e+32
DECLINATION = -1e+32
OFFSET_ANGLE = -0.2
SPACECRAFT_SOLAR_DISTANCE = 2.06666e+08
TARGET_NAME = MARS
/* CAMERA DATA ELEMENTS */
DETECTOR_TEMPERATURE = 17.7588
FOCAL_PLANE_TEMPERATURE = 9.3989
INST_CMPRS_NAME = "DISCRETE COSINE TRANSFORMATION (DCT)"
INST_CMPRS_RATIO = 10.1346
INST_CMPRS_QUALITY = 0
INST_CMPRS_QUANTZ_TBL_ID = 0
INSTRUMENT_TEMPERATURE = 11.4379
LENS_TEMPERATURE = 9.8067
MACROPIXEL_SIZE = 2
MISSING_FRAMES = 1
PIXEL_SUBSAMPLING_FLAG = N
SIGNAL_CHAIN_ID = 3
/* RADIOMETRIC DATA ELEMENTS */
BANDWIDTH = 174.0
CENTER_FILTER_WAVELENGTH = 675.0
RADIANCE_OFFSET = 2.12275
RADIANCE_SCALING_FACTOR = 0.00797523
REFLECTANCE_SCALING_FACTOR = 0.000183217
MEX:REFLECTANCE_OFFSET = 0.0487666
/* IMAGE OBJECT DEFINITIONS */
OBJECT = IMAGE
  INTERCHANGE_FORMAT = BINARY
  LINES = 43362
  LINE_SAMPLES = 5435
  SAMPLE_TYPE = UNSIGNED_INTEGER
  SAMPLE_BITS = 8
  BANDS = 1
  BAND_STORAGE_TYPE = BAND_SEQUENTIAL
  MAXIMUM = 287
  MEAN = 204.778
  MINIMUM = 140
  STANDARD_DEVIATION = 26.5256
END_OBJECT = IMAGE
/* MAP OBJECT DEFINITIONS */
OBJECT = IMAGE_MAP_PROJECTION
  ^DATA_SET_MAP_PROJECTION_CATALOG= "DSMAP.CAT"
  A_AXIS_RADIUS = 3396.0
  B_AXIS_RADIUS = 3396.0
  C_AXIS_RADIUS = 3396.0
  CENTER_LATITUDE = 0.0
  CENTER_LONGITUDE = 336.0
  COORDINATE_SYSTEM_NAME = PLANETOGRAPHIC
  COORDINATE_SYSTEM_TYPE = "BODY-FIXED ROTATING"
  EASTERNMOST_LONGITUDE = 336.857
  FIRST_STANDARD_PARALLEL = "N/A"
  LINE_FIRST_PIXEL = 1
  LINE_LAST_PIXEL = 43362
  LINE_PROJECTION_OFFSET = 3707.25
  MAP_PROJECTION_ROTATION = 0.0
  MAP_PROJECTION_TYPE = SINUSOIDAL
  MAP_RESOLUTION = 2370.85521546667
  MAP_SCALE = 0.025
  MAXIMUM_LATITUDE = 1.54521
  MINIMUM_LATITUDE = -16.7468
  POSITIVE_LONGITUDE_DIRECTION = EAST
  REFERENCE_LATITUDE = "N/A"
  REFERENCE_LONGITUDE = "N/A"
  SAMPLE_FIRST_PIXEL = 1
  SAMPLE_LAST_PIXEL = 5435
  SAMPLE_PROJECTION_OFFSET = 3236.25
  SECOND_STANDARD_PARALLEL = "N/A"
  WESTERNMOST_LONGITUDE = 334.675
END_OBJECT = IMAGE_MAP_PROJECTION
/* The JPEG2000 image data file associated with this label. */
OBJECT = COMPRESSED_FILE
  FILE_NAME = "H1914_0000_P13.JP2"
  RECORD_TYPE = UNDEFINED
  FILE_RECORDS = UNK
  ENCODING_TYPE = "JP2"
  INTERCHANGE_FORMAT = BINARY
  UNCOMPRESSED_FILE_NAME = "H1914_0000_P13.IMG"
  REQUIRED_STORAGE_BYTES = "235699645"
  ^DESCRIPTION = "JP2INFO.TXT"
END_OBJECT = COMPRESSED_FILE
END
