PDS_VERSION_ID = PDS3
/* FILE DATA ELEMENTS */
RECORD_TYPE = STREAM
/* POINTERS TO DATA OBJECTS */
^COMPRESSED_FILE = "H1914_0000_S23.JP2"
/* IDENTIFICATION DATA ELEMENTS */
DATA_SET_ID = "MEX-M-HRSC-5-REFDR-MAPPROJECTED-V3.0"
DATA_SET_NAME = "MARS EXPRESS HRSC MAP PROJECTED REFDR V3.0"
DETECTOR_ID = MEX_HRSC_S2
EVENT_TYPE = "MARS-REGIONAL-MAPPING-Fl-Gl-Lc"
INSTRUMENT_HOST_ID = MEX
INSTRUMENT_HOST_NAME = "MARS EXPRESS"
INSTRUMENT_ID = HRSC
INSTRUMENT_NAME = "HIGH RESOLUTION STEREO CAMERA"
MISSION_NAME = "MARS EXPRESS"
MISSION_PHASE_NAME = MR_Phase_6
PROCESSING_LEVEL_ID = 3
PRODUCT_CREATION_TIME = 2016-03-09T16:25:58.000Z
PRODUCT_ID = "H1914_0000_S23.JP2"
RELEASE_ID = 0025
REVISION_ID = 0000
/* QUALITY DATA ELEMENTS */
DATA_QUALITY_ID = 1
DATA_QUALITY_DESC = "Data calculated based on original SPICE kernels"
/* TIME DATA ELEMENTS */
SPACECRAFT_CLOCK_START_COUNT = "1/0069265215.56192"
SPACECRAFT_CLOCK_STOP_COUNT = "1/0069265636.37404"
START_TIME = 2005-07-12T16:20:23.131Z
STOP_TIME = 2005-07-12T16:26:08.698Z
/* ORBITAL DATA ELEMENTS */
ASCENDING_NODE_LONGITUDE = 188.2
MAXIMUM_RESOLUTION = 35.8
FOOTPRINT_POINT_LATITUDE = (-16.6806,-16.6888,-16.6949,-16.699, -16.7013,-16.4571,-16.0154,-15.5666, -15.1335,-14.7005,-14.2763,-13.853, -13.4322,-13.0171,-12.6049,-12.1952, -11.7919,-11.3925,-10.9972,-10.4077, -10.02,-9.6334,-9.24949,-8.87183, -8.30977,-7.93795,-7.57013,-7.02287, -6.66348,-6.30282,-5.94541,-5.41173, -5.05713,-4.71794,-4.3678,-4.03283, -3.69028,-3.34891,-3.01884,-2.68946, -2.36543,-2.03802,-1.71331,-1.38904, -0.90936,-0.588615,-0.275181,0.041609, 0.355412,0.660323,0.96961,1.58132, 1.59643,1.59657,1.6016,0.990678, 0.682643,0.376274,0.0632552,-0.404929, -0.720766,-1.04112,-1.35968,-1.68398, -2.17057,-2.50262,-2.8327,-3.16524, -3.49745,-4.00813,-4.34833,-4.69489, -5.21395,-5.56454,-5.91802,-6.44778, -6.98969,-7.34484,-7.7188,-8.27398, -8.83564,-9.40264,-9.78237,-10.1695, -10.5596,-10.9557,-11.354,-11.7508, -12.1521,-12.5612,-12.9727,-13.3905, -13.8073,-14.2342,-14.6631,-15.095, -15.5314,-15.9708,-16.6385,-16.6806)
FOOTPRINT_POINT_LONGITUDE = (336.599,336.191,335.783,335.376, 334.944,334.456,334.474,334.488,334.505 ,334.52,334.536,334.551,334.565,334.578 ,334.591,334.604,334.616,334.629, 334.641,334.657,334.668,334.678,334.688 ,334.698,334.712,334.72,334.73,334.742, 334.75,334.758,334.765,334.774,334.78, 334.789,334.794,334.802,334.808,334.812 ,334.819,334.826,334.833,334.838, 334.844,334.849,334.856,334.861,334.866 ,334.87,334.875,334.88,334.884,334.892, 335.42,335.85,336.371,336.385,336.392, 336.4,336.408,336.422,336.43,336.439, 336.447,336.457,336.471,336.48,336.489, 336.5,336.511,336.527,336.537,336.548, 336.566,336.578,336.59,336.611,336.63, 336.647,336.659,336.681,336.704,336.729 ,336.746,336.763,336.781,336.797, 336.815,336.835,336.855,336.875,336.895 ,336.915,336.937,336.958,336.98,337.003 ,337.027,337.052,337.09,336.599)
ORBIT_NUMBER = 1914
ORBITAL_ECCENTRICITY = 0.57
ORBITAL_INCLINATION = 86.58
ORBITAL_SEMIMAJOR_AXIS = 8608.03
PERIAPSIS_ALTITUDE = 306.3
PERIAPSIS_ARGUMENT_ANGLE = 22.49
PERIAPSIS_TIME = 2005-07-12T16:32:10.000Z
SPACECRAFT_ORIENTATION = (0.0,1.0,0.0)
^MEX_ORIENTATION_DESC = "MEX_ORIENTATION_DESC.TXT"
SPACECRAFT_POINTING_MODE = ACROSSTRACK
^MEX_POINTING_DESC = "MEX_POINTING_DESC.TXT"
RIGHT_ASCENSION = -1e+32
DECLINATION = -1e+32
OFFSET_ANGLE = -0.2
SPACECRAFT_SOLAR_DISTANCE = 2.06666e+08
TARGET_NAME = MARS
/* CAMERA DATA ELEMENTS */
DETECTOR_TEMPERATURE = 19.1861
FOCAL_PLANE_TEMPERATURE = 9.3989
INST_CMPRS_NAME = "DISCRETE COSINE TRANSFORMATION (DCT)"
INST_CMPRS_RATIO = 11.2155
INST_CMPRS_QUALITY = 0
INST_CMPRS_QUANTZ_TBL_ID = 0
INSTRUMENT_TEMPERATURE = 11.4379
LENS_TEMPERATURE = 9.8067
MACROPIXEL_SIZE = 2
MISSING_FRAMES = 0
PIXEL_SUBSAMPLING_FLAG = N
SIGNAL_CHAIN_ID = 1
/* RADIOMETRIC DATA ELEMENTS */
BANDWIDTH = 178.0
CENTER_FILTER_WAVELENGTH = 679.0
RADIANCE_OFFSET = 2.17503
RADIANCE_SCALING_FACTOR = 0.0104019
REFLECTANCE_SCALING_FACTOR = 0.000235277
MEX:REFLECTANCE_OFFSET = 0.0491964
/* IMAGE OBJECT DEFINITIONS */
OBJECT = IMAGE
  INTERCHANGE_FORMAT = BINARY
  LINES = 43362
  LINE_SAMPLES = 5435
  SAMPLE_TYPE = UNSIGNED_INTEGER
  SAMPLE_BITS = 8
  BANDS = 1
  BAND_STORAGE_TYPE = BAND_SEQUENTIAL
  MAXIMUM = 288
  MEAN = 178.556
  MINIMUM = 120
  STANDARD_DEVIATION = 24.3395
END_OBJECT = IMAGE
/* MAP OBJECT DEFINITIONS */
OBJECT = IMAGE_MAP_PROJECTION
  ^DATA_SET_MAP_PROJECTION_CATALOG= "DSMAP.CAT"
  A_AXIS_RADIUS = 3396.0
  B_AXIS_RADIUS = 3396.0
  C_AXIS_RADIUS = 3396.0
  CENTER_LATITUDE = 0.0
  CENTER_LONGITUDE = 336.0
  COORDINATE_SYSTEM_NAME = PLANETOGRAPHIC
  COORDINATE_SYSTEM_TYPE = "BODY-FIXED ROTATING"
  EASTERNMOST_LONGITUDE = 337.09
  FIRST_STANDARD_PARALLEL = "N/A"
  LINE_FIRST_PIXEL = 1
  LINE_LAST_PIXEL = 43362
  LINE_PROJECTION_OFFSET = 3707.25
  MAP_PROJECTION_ROTATION = 0.0
  MAP_PROJECTION_TYPE = SINUSOIDAL
  MAP_RESOLUTION = 2370.85521546667
  MAP_SCALE = 0.025
  MAXIMUM_LATITUDE = 1.6016
  MINIMUM_LATITUDE = -16.7013
  POSITIVE_LONGITUDE_DIRECTION = EAST
  REFERENCE_LATITUDE = "N/A"
  REFERENCE_LONGITUDE = "N/A"
  SAMPLE_FIRST_PIXEL = 1
  SAMPLE_LAST_PIXEL = 5435
  SAMPLE_PROJECTION_OFFSET = 3236.25
  SECOND_STANDARD_PARALLEL = "N/A"
  WESTERNMOST_LONGITUDE = 334.456
END_OBJECT = IMAGE_MAP_PROJECTION
/* The JPEG2000 image data file associated with this label. */
OBJECT = COMPRESSED_FILE
  FILE_NAME = "H1914_0000_S23.JP2"
  RECORD_TYPE = UNDEFINED
  FILE_RECORDS = UNK
  ENCODING_TYPE = "JP2"
  INTERCHANGE_FORMAT = BINARY
  UNCOMPRESSED_FILE_NAME = "H1914_0000_S23.IMG"
  REQUIRED_STORAGE_BYTES = "235699645"
  ^DESCRIPTION = "JP2INFO.TXT"
END_OBJECT = COMPRESSED_FILE
END
