PDS_VERSION_ID = PDS3
/* FILE DATA ELEMENTS */
RECORD_TYPE = STREAM
/* POINTERS TO DATA OBJECTS */
^COMPRESSED_FILE = "H1914_0005_SR3.JP2"
/* IDENTIFICATION DATA ELEMENTS */
DATA_SET_ID = "MEX-M-HRSC-5-REFDR-MAPPROJECTED-V3.0"
DATA_SET_NAME = "MARS EXPRESS HRSC MAP PROJECTED REFDR V3.0"
DETECTOR_ID = MEX_HRSC_SRC
EVENT_TYPE = "MARS-REGIONAL-MAPPING-Fl-Gl-Lc"
INSTRUMENT_HOST_ID = MEX
INSTRUMENT_HOST_NAME = "MARS EXPRESS"
INSTRUMENT_ID = HRSC
INSTRUMENT_NAME = "HIGH RESOLUTION STEREO CAMERA"
MISSION_NAME = "MARS EXPRESS"
MISSION_PHASE_NAME = MR_Phase_6
PROCESSING_LEVEL_ID = 3
PRODUCT_CREATION_TIME = 2016-03-09T16:25:58.000Z
PRODUCT_ID = "H1914_0005_SR3.JP2"
RELEASE_ID = 0025
REVISION_ID = 0000
/* QUALITY DATA ELEMENTS */
DATA_QUALITY_ID = 1
DATA_QUALITY_DESC = "Data calculated based on original SPICE kernels"
/* TIME DATA ELEMENTS */
SPACECRAFT_CLOCK_START_COUNT = "1/0069265215.56192"
SPACECRAFT_CLOCK_STOP_COUNT = "1/0069265636.37404"
IMAGE_TIME = 2005-07-12T16:22:35.271Z
START_TIME = 2005-07-12T16:22:35.268Z
STOP_TIME = 2005-07-12T16:22:35.273Z
/* ORBITAL DATA ELEMENTS */
ASCENDING_NODE_LONGITUDE = 188.2
MAXIMUM_RESOLUTION = 5.34
FOOTPRINT_POINT_LATITUDE = (-13.6659,-13.6627,-13.658,-13.6552, -13.6511,-13.6481,-13.644,-13.6386, -13.634,-13.63,-13.6274,-13.6248, -13.6207,-13.6154,-13.6126,-13.6086, -13.6057,-13.6011,-13.5976,-13.5951, -13.5914,-13.5887,-13.5854,-13.5817, -13.5794,-13.5785,-13.5785,-13.5785, -13.5784,-13.5784,-13.5784,-13.5783, -13.5783,-13.5783,-13.5782,-13.5782, -13.5781,-13.5781,-13.5781,-13.578, -13.578,-13.578,-13.5779,-13.5779, -13.5779,-13.5778,-13.5778,-13.5778, -13.5777,-13.5791,-13.5819,-13.5856, -13.5913,-13.5944,-13.5969,-13.6013, -13.6041,-13.6066,-13.6103,-13.6131, -13.6176,-13.6215,-13.6248,-13.628, -13.6316,-13.6372,-13.6408,-13.6431, -13.6466,-13.6509,-13.655,-13.6579, -13.6605,-13.6657,-13.6686,-13.6686, -13.6686,-13.6687,-13.6687,-13.6687, -13.6688,-13.6688,-13.6688,-13.6688, -13.6689,-13.6689,-13.6689,-13.669, -13.6691,-13.6691,-13.6691,-13.6692, -13.6692,-13.6692,-13.6693,-13.6693, -13.6693,-13.6694,-13.6694,-13.6659)
FOOTPRINT_POINT_LONGITUDE = (335.7,335.699,335.699,335.699,335.699, 335.699,335.699,335.699,335.699,335.699 ,335.699,335.699,335.699,335.699, 335.699,335.699,335.699,335.699,335.699 ,335.699,335.699,335.699,335.699, 335.699,335.699,335.702,335.705,335.709 ,335.713,335.716,335.72,335.724,335.728 ,335.731,335.735,335.739,335.744, 335.748,335.752,335.755,335.759,335.763 ,335.767,335.77,335.774,335.778,335.781 ,335.785,335.789,335.793,335.793, 335.793,335.793,335.793,335.793,335.793 ,335.793,335.793,335.793,335.793, 335.793,335.793,335.793,335.794,335.794 ,335.794,335.794,335.794,335.794, 335.794,335.794,335.794,335.794,335.794 ,335.792,335.788,335.785,335.781, 335.777,335.773,335.77,335.766,335.762, 335.759,335.755,335.751,335.747,335.742 ,335.738,335.734,335.731,335.727, 335.723,335.72,335.716,335.712,335.708, 335.705,335.701,335.7)
ORBIT_NUMBER = 1914
ORBITAL_ECCENTRICITY = 0.57
ORBITAL_INCLINATION = 86.58
ORBITAL_SEMIMAJOR_AXIS = 8608.03
PERIAPSIS_ALTITUDE = 306.3
PERIAPSIS_ARGUMENT_ANGLE = 22.49
PERIAPSIS_TIME = 2005-07-12T16:32:10.000Z
SPACECRAFT_ORIENTATION = (0.0,1.0,0.0)
^MEX_ORIENTATION_DESC = "MEX_ORIENTATION_DESC.TXT"
SPACECRAFT_POINTING_MODE = ACROSSTRACK
^MEX_POINTING_DESC = "MEX_POINTING_DESC.TXT"
RIGHT_ASCENSION = -1e+32
DECLINATION = -1e+32
OFFSET_ANGLE = -0.2
SPACECRAFT_SOLAR_DISTANCE = 2.06666e+08
TARGET_NAME = MARS
/* CAMERA DATA ELEMENTS */
BUFFER_MODE_ID = BUFFER_8
EXPOSURE_DURATION = 5.04
INST_CMPRS_NAME = NONE
INST_CMPRS_RATIO = 1.0
INST_CMPRS_QUALITY = -2147483648
INST_CMPRS_QUANTZ_TBL_ID = -2147483648
INSTRUMENT_TEMPERATURE = 11.2121
MISSING_FRAMES = 0
START_BIT = 0
/* RADIOMETRIC DATA ELEMENTS */
BANDWIDTH = 250.0
CENTER_FILTER_WAVELENGTH = 600.0
RADIANCE_OFFSET = -9.99e+31
RADIANCE_SCALING_FACTOR = -9.99e+31
REFLECTANCE_SCALING_FACTOR = -9.99e+31
MEX:REFLECTANCE_OFFSET = -9.99e+31
/* IMAGE OBJECT DEFINITIONS */
OBJECT = IMAGE
  INTERCHANGE_FORMAT = BINARY
  LINES = 1129
  LINE_SAMPLES = 1142
  SAMPLE_TYPE = UNSIGNED_INTEGER
  SAMPLE_BITS = 8
  BANDS = 1
  BAND_STORAGE_TYPE = BAND_SEQUENTIAL
  MAXIMUM = 3534
  MEAN = 3059.96
  MINIMUM = 2544
  STANDARD_DEVIATION = 79.6641
END_OBJECT = IMAGE
/* MAP OBJECT DEFINITIONS */
OBJECT = IMAGE_MAP_PROJECTION
  ^DATA_SET_MAP_PROJECTION_CATALOG= "DSMAP.CAT"
  A_AXIS_RADIUS = 3396.19
  B_AXIS_RADIUS = 3396.19
  C_AXIS_RADIUS = 3396.19
  CENTER_LATITUDE = 0.0
  CENTER_LONGITUDE = 336.0
  COORDINATE_SYSTEM_NAME = PLANETOGRAPHIC
  COORDINATE_SYSTEM_TYPE = "BODY-FIXED ROTATING"
  EASTERNMOST_LONGITUDE = 335.794
  FIRST_STANDARD_PARALLEL = "N/A"
  LINE_FIRST_PIXEL = 1
  LINE_LAST_PIXEL = 1129
  LINE_PROJECTION_OFFSET = -160924.0
  MAP_PROJECTION_ROTATION = 0.0
  MAP_PROJECTION_TYPE = SINUSOIDAL
  MAP_RESOLUTION = 11854.9393024378
  MAP_SCALE = 0.005
  MAXIMUM_LATITUDE = -13.5777
  MINIMUM_LATITUDE = -13.6694
  POSITIVE_LONGITUDE_DIRECTION = EAST
  REFERENCE_LATITUDE = "N/A"
  REFERENCE_LONGITUDE = "N/A"
  SAMPLE_FIRST_PIXEL = 1
  SAMPLE_LAST_PIXEL = 1142
  SAMPLE_PROJECTION_OFFSET = 3488.0
  SECOND_STANDARD_PARALLEL = "N/A"
  WESTERNMOST_LONGITUDE = 335.699
END_OBJECT = IMAGE_MAP_PROJECTION
/* The JPEG2000 image data file associated with this label. */
OBJECT = COMPRESSED_FILE
  FILE_NAME = "H1914_0005_SR3.JP2"
  RECORD_TYPE = UNDEFINED
  FILE_RECORDS = UNK
  ENCODING_TYPE = "JP2"
  INTERCHANGE_FORMAT = BINARY
  UNCOMPRESSED_FILE_NAME = "H1914_0005_SR3.IMG"
  REQUIRED_STORAGE_BYTES = "1308732"
  ^DESCRIPTION = "JP2INFO.TXT"
END_OBJECT = COMPRESSED_FILE
END
