PDS_VERSION_ID = PDS3
/* FILE DATA ELEMENTS */
RECORD_TYPE = STREAM
/* POINTERS TO DATA OBJECTS */
^COMPRESSED_FILE = "H1916_0000_ND3.JP2"
/* IDENTIFICATION DATA ELEMENTS */
DATA_SET_ID = "MEX-M-HRSC-5-REFDR-MAPPROJECTED-V3.0"
DATA_SET_NAME = "MARS EXPRESS HRSC MAP PROJECTED REFDR V3.0"
DETECTOR_ID = MEX_HRSC_NADIR
EVENT_TYPE = "MARS-LOCAL-STEREO-Te-Im-La"
INSTRUMENT_HOST_ID = MEX
INSTRUMENT_HOST_NAME = "MARS EXPRESS"
INSTRUMENT_ID = HRSC
INSTRUMENT_NAME = "HIGH RESOLUTION STEREO CAMERA"
MISSION_NAME = "MARS EXPRESS"
MISSION_PHASE_NAME = MR_Phase_7
PROCESSING_LEVEL_ID = 3
PRODUCT_CREATION_TIME = 2016-03-09T16:25:58.000Z
PRODUCT_ID = "H1916_0000_ND3.JP2"
RELEASE_ID = 0025
REVISION_ID = 0000
/* QUALITY DATA ELEMENTS */
DATA_QUALITY_ID = 1
DATA_QUALITY_DESC = "Data calculated based on original SPICE kernels"
/* TIME DATA ELEMENTS */
SPACECRAFT_CLOCK_START_COUNT = "1/0069313781.57286"
SPACECRAFT_CLOCK_STOP_COUNT = "1/0069314099.32843"
START_TIME = 2005-07-13T05:50:42.731Z
STOP_TIME = 2005-07-13T05:54:33.721Z
/* ORBITAL DATA ELEMENTS */
ASCENDING_NODE_LONGITUDE = 188.14
MAXIMUM_RESOLUTION = 14.4
FOOTPRINT_POINT_LATITUDE = (-8.22631,-8.22953,-8.23142,-8.23357, -8.23563,-7.90868,-7.58063,-7.25853, -6.77578,-6.45913,-5.98451,-5.5179, -5.20677,-4.90151,-4.59571,-4.29209, -3.99253,-3.69244,-3.39514,-3.10138, -2.80711,-2.51427,-2.22642,-1.93815, -1.50774,-1.22577,-0.943401,-0.52126, -0.245308,0.0310516,0.307766,0.584849, 0.862309,1.14013,1.41832,1.69686, 1.97576,2.25501,2.5346,2.81454,3.09482, 3.60603,3.88724,4.16594,4.40207,4.63842 ,4.87499,5.11177,5.34877,5.58597, 5.82339,6.07537,6.07657,6.07763,6.07818 ,5.8407,5.60342,5.36635,5.12949,4.89285 ,4.65642,4.18421,3.90829,3.62724, 3.11631,2.8362,2.55641,2.27698,1.99789, 1.71914,1.44075,1.16271,0.885041, 0.607733,0.330799,0.0542365,-0.221968, -0.497758,-0.91922,-1.20149,-1.48331, -1.91306,-2.2012,-2.48893,-2.92842, -3.22219,-3.66573,-3.96561,-4.26507, -4.56809,-4.87369,-5.17876,-5.64508, -5.95591,-6.42979,-6.74624,-7.22839, -7.55036,-7.87786,-8.22631)
FOOTPRINT_POINT_LONGITUDE = (139.644,139.246,138.986,138.658, 138.294,138.066,138.072,138.077,138.086 ,138.089,138.092,138.102,138.108,138.11 ,138.112,138.12,138.124,138.128,138.133 ,138.137,138.141,138.146,138.149, 138.154,138.158,138.161,138.166,138.171 ,138.174,138.176,138.179,138.182, 138.185,138.188,138.191,138.194,138.197 ,138.199,138.202,138.205,138.208, 138.212,138.215,138.217,138.219,138.221 ,138.223,138.225,138.227,138.229, 138.231,138.332,138.694,139.093,139.498 ,139.501,139.504,139.507,139.511, 139.514,139.518,139.525,139.529,139.533 ,139.542,139.547,139.552,139.557, 139.563,139.568,139.573,139.579,139.584 ,139.59,139.596,139.601,139.607,139.613 ,139.623,139.629,139.636,139.645, 139.652,139.658,139.666,139.676,139.686 ,139.696,139.703,139.714,139.723,139.73 ,139.741,139.749,139.763,139.773, 139.787,139.797,139.807,139.644)
ORBIT_NUMBER = 1916
ORBITAL_ECCENTRICITY = 0.571
ORBITAL_INCLINATION = 86.57
ORBITAL_SEMIMAJOR_AXIS = 8613.64
PERIAPSIS_ALTITUDE = 305.85
PERIAPSIS_ARGUMENT_ANGLE = 22.16
PERIAPSIS_TIME = 2005-07-13T05:58:40.000Z
SPACECRAFT_ORIENTATION = (0.0,1.0,0.0)
^MEX_ORIENTATION_DESC = "MEX_ORIENTATION_DESC.TXT"
SPACECRAFT_POINTING_MODE = NADIR
^MEX_POINTING_DESC = "MEX_POINTING_DESC.TXT"
RIGHT_ASCENSION = -1e+32
DECLINATION = -1e+32
OFFSET_ANGLE = -1e+32
SPACECRAFT_SOLAR_DISTANCE = 2.0666e+08
TARGET_NAME = MARS
/* CAMERA DATA ELEMENTS */
DETECTOR_TEMPERATURE = 18.3705
FOCAL_PLANE_TEMPERATURE = 8.9911
INST_CMPRS_NAME = "DISCRETE COSINE TRANSFORMATION (DCT)"
INST_CMPRS_RATIO = 6.23486
INST_CMPRS_QUALITY = 0
INST_CMPRS_QUANTZ_TBL_ID = 0
INSTRUMENT_TEMPERATURE = 11.4379
LENS_TEMPERATURE = 9.3989
MACROPIXEL_SIZE = 1
MISSING_FRAMES = 45
PIXEL_SUBSAMPLING_FLAG = N
SIGNAL_CHAIN_ID = 0
/* RADIOMETRIC DATA ELEMENTS */
BANDWIDTH = 177.0
CENTER_FILTER_WAVELENGTH = 677.5
RADIANCE_OFFSET = 1.69563
RADIANCE_SCALING_FACTOR = 0.00884451
REFLECTANCE_SCALING_FACTOR = 0.000200665
MEX:REFLECTANCE_OFFSET = 0.0384706
/* IMAGE OBJECT DEFINITIONS */
OBJECT = IMAGE
  INTERCHANGE_FORMAT = BINARY
  LINES = 67878
  LINE_SAMPLES = 8585
  SAMPLE_TYPE = UNSIGNED_INTEGER
  SAMPLE_BITS = 8
  BANDS = 1
  BAND_STORAGE_TYPE = BAND_SEQUENTIAL
  MAXIMUM = 304
  MEAN = 172.047
  MINIMUM = 0
  STANDARD_DEVIATION = 26.9768
END_OBJECT = IMAGE
/* MAP OBJECT DEFINITIONS */
OBJECT = IMAGE_MAP_PROJECTION
  ^DATA_SET_MAP_PROJECTION_CATALOG= "DSMAP.CAT"
  A_AXIS_RADIUS = 3396.0
  B_AXIS_RADIUS = 3396.0
  C_AXIS_RADIUS = 3396.0
  CENTER_LATITUDE = 0.0
  CENTER_LONGITUDE = 139.0
  COORDINATE_SYSTEM_NAME = PLANETOGRAPHIC
  COORDINATE_SYSTEM_TYPE = "BODY-FIXED ROTATING"
  EASTERNMOST_LONGITUDE = 139.807
  FIRST_STANDARD_PARALLEL = "N/A"
  LINE_FIRST_PIXEL = 1
  LINE_LAST_PIXEL = 67878
  LINE_PROJECTION_OFFSET = 28820.0
  MAP_PROJECTION_ROTATION = 0.0
  MAP_PROJECTION_TYPE = SINUSOIDAL
  MAP_RESOLUTION = 4741.71043093333
  MAP_SCALE = 0.0125
  MAXIMUM_LATITUDE = 6.07818
  MINIMUM_LATITUDE = -8.23563
  POSITIVE_LONGITUDE_DIRECTION = EAST
  REFERENCE_LATITUDE = "N/A"
  REFERENCE_LONGITUDE = "N/A"
  SAMPLE_FIRST_PIXEL = 1
  SAMPLE_LAST_PIXEL = 8585
  SAMPLE_PROJECTION_OFFSET = 4589.0
  SECOND_STANDARD_PARALLEL = "N/A"
  WESTERNMOST_LONGITUDE = 138.066
END_OBJECT = IMAGE_MAP_PROJECTION
/* The JPEG2000 image data file associated with this label. */
OBJECT = COMPRESSED_FILE
  FILE_NAME = "H1916_0000_ND3.JP2"
  RECORD_TYPE = UNDEFINED
  FILE_RECORDS = UNK
  ENCODING_TYPE = "JP2"
  INTERCHANGE_FORMAT = BINARY
  UNCOMPRESSED_FILE_NAME = "H1916_0000_ND3.IMG"
  REQUIRED_STORAGE_BYTES = "582766970"
  ^DESCRIPTION = "JP2INFO.TXT"
END_OBJECT = COMPRESSED_FILE
END
