PDS_VERSION_ID = PDS3
/* FILE DATA ELEMENTS */
RECORD_TYPE = STREAM
/* POINTERS TO DATA OBJECTS */
^COMPRESSED_FILE = "H1916_0007_SR3.JP2"
/* IDENTIFICATION DATA ELEMENTS */
DATA_SET_ID = "MEX-M-HRSC-5-REFDR-MAPPROJECTED-V3.0"
DATA_SET_NAME = "MARS EXPRESS HRSC MAP PROJECTED REFDR V3.0"
DETECTOR_ID = MEX_HRSC_SRC
EVENT_TYPE = "MARS-LOCAL-STEREO-Te-Im-La"
INSTRUMENT_HOST_ID = MEX
INSTRUMENT_HOST_NAME = "MARS EXPRESS"
INSTRUMENT_ID = HRSC
INSTRUMENT_NAME = "HIGH RESOLUTION STEREO CAMERA"
MISSION_NAME = "MARS EXPRESS"
MISSION_PHASE_NAME = MR_Phase_7
PROCESSING_LEVEL_ID = 3
PRODUCT_CREATION_TIME = 2016-03-09T16:25:58.000Z
PRODUCT_ID = "H1916_0007_SR3.JP2"
RELEASE_ID = 0025
REVISION_ID = 0000
/* QUALITY DATA ELEMENTS */
DATA_QUALITY_ID = 1
DATA_QUALITY_DESC = "Data calculated based on original SPICE kernels"
/* TIME DATA ELEMENTS */
SPACECRAFT_CLOCK_START_COUNT = "1/0069313781.57286"
SPACECRAFT_CLOCK_STOP_COUNT = "1/0069314099.32843"
IMAGE_TIME = 2005-07-13T05:52:26.897Z
START_TIME = 2005-07-13T05:52:26.894Z
STOP_TIME = 2005-07-13T05:52:26.899Z
/* ORBITAL DATA ELEMENTS */
ASCENDING_NODE_LONGITUDE = 188.14
MAXIMUM_RESOLUTION = 3.894
FOOTPRINT_POINT_LATITUDE = (-1.97655,-1.9749,-1.97319,-1.97089, -1.96886,-1.96642,-1.96425,-1.96156, -1.95939,-1.95768,-1.95538,-1.95281, -1.95058,-1.94828,-1.94558,-1.94183, -1.93802,-1.93506,-1.93197,-1.92921, -1.92717,-1.92507,-1.92211,-1.91968, -1.91698,-1.91343,-1.91119,-1.91065, -1.91064,-1.91062,-1.9106,-1.91059, -1.91056,-1.91055,-1.91053,-1.91052, -1.9105,-1.91049,-1.91047,-1.91046, -1.91044,-1.91042,-1.9104,-1.91038, -1.91036,-1.91035,-1.91032,-1.91031, -1.9103,-1.91028,-1.91026,-1.91275, -1.91446,-1.91656,-1.91906,-1.9215, -1.92367,-1.92708,-1.92998,-1.93248, -1.93491,-1.93839,-1.94017,-1.94234, -1.94576,-1.94924,-1.95213,-1.95562, -1.95726,-1.95956,-1.96233,-1.96469, -1.96745,-1.97094,-1.97265,-1.97541, -1.97648,-1.9765,-1.97652,-1.97654, -1.97656,-1.97658,-1.9766,-1.97661, -1.97663,-1.97664,-1.97665,-1.97667, -1.9767,-1.97671,-1.97672,-1.97674, -1.97676,-1.97678,-1.9768,-1.97681, -1.97683,-1.97685,-1.97686,-1.97655)
FOOTPRINT_POINT_LONGITUDE = (138.871,138.871,138.871,138.871, 138.871,138.871,138.871,138.871,138.871 ,138.871,138.871,138.871,138.871, 138.871,138.871,138.871,138.871,138.871 ,138.871,138.871,138.871,138.871, 138.871,138.871,138.871,138.871,138.871 ,138.873,138.875,138.878,138.881, 138.884,138.888,138.89,138.892,138.895, 138.897,138.9,138.902,138.905,138.908, 138.911,138.913,138.917,138.92,138.923, 138.926,138.928,138.931,138.933,138.936 ,138.938,138.938,138.938,138.938, 138.938,138.938,138.938,138.938,138.938 ,138.938,138.938,138.938,138.938, 138.938,138.938,138.938,138.938,138.938 ,138.938,138.938,138.938,138.938, 138.938,138.938,138.938,138.935,138.932 ,138.929,138.925,138.922,138.919, 138.916,138.914,138.912,138.909,138.907 ,138.904,138.9,138.898,138.896,138.893, 138.89,138.887,138.884,138.881,138.879, 138.875,138.873,138.871)
ORBIT_NUMBER = 1916
ORBITAL_ECCENTRICITY = 0.571
ORBITAL_INCLINATION = 86.57
ORBITAL_SEMIMAJOR_AXIS = 8613.64
PERIAPSIS_ALTITUDE = 305.85
PERIAPSIS_ARGUMENT_ANGLE = 22.16
PERIAPSIS_TIME = 2005-07-13T05:58:40.000Z
SPACECRAFT_ORIENTATION = (0.0,1.0,0.0)
^MEX_ORIENTATION_DESC = "MEX_ORIENTATION_DESC.TXT"
SPACECRAFT_POINTING_MODE = NADIR
^MEX_POINTING_DESC = "MEX_POINTING_DESC.TXT"
RIGHT_ASCENSION = -1e+32
DECLINATION = -1e+32
OFFSET_ANGLE = -1e+32
SPACECRAFT_SOLAR_DISTANCE = 2.0666e+08
TARGET_NAME = MARS
/* CAMERA DATA ELEMENTS */
BUFFER_MODE_ID = BUFFER_8
EXPOSURE_DURATION = 5.04
INST_CMPRS_NAME = NONE
INST_CMPRS_RATIO = 1.0
INST_CMPRS_QUALITY = -2147483648
INST_CMPRS_QUANTZ_TBL_ID = -2147483648
INSTRUMENT_TEMPERATURE = 11.2121
MISSING_FRAMES = 0
START_BIT = 0
/* RADIOMETRIC DATA ELEMENTS */
BANDWIDTH = 250.0
CENTER_FILTER_WAVELENGTH = 600.0
RADIANCE_OFFSET = -9.99e+31
RADIANCE_SCALING_FACTOR = -9.99e+31
REFLECTANCE_SCALING_FACTOR = -9.99e+31
MEX:REFLECTANCE_OFFSET = -9.99e+31
/* IMAGE OBJECT DEFINITIONS */
OBJECT = IMAGE
  INTERCHANGE_FORMAT = BINARY
  LINES = 831
  LINE_SAMPLES = 839
  SAMPLE_TYPE = UNSIGNED_INTEGER
  SAMPLE_BITS = 8
  BANDS = 1
  BAND_STORAGE_TYPE = BAND_SEQUENTIAL
  MAXIMUM = 3253
  MEAN = 2944.11
  MINIMUM = 2519
  STANDARD_DEVIATION = 61.8083
END_OBJECT = IMAGE
/* MAP OBJECT DEFINITIONS */
OBJECT = IMAGE_MAP_PROJECTION
  ^DATA_SET_MAP_PROJECTION_CATALOG= "DSMAP.CAT"
  A_AXIS_RADIUS = 3396.19
  B_AXIS_RADIUS = 3396.19
  C_AXIS_RADIUS = 3396.19
  CENTER_LATITUDE = 0.0
  CENTER_LONGITUDE = 139.0
  COORDINATE_SYSTEM_NAME = PLANETOGRAPHIC
  COORDINATE_SYSTEM_TYPE = "BODY-FIXED ROTATING"
  EASTERNMOST_LONGITUDE = 138.938
  FIRST_STANDARD_PARALLEL = "N/A"
  LINE_FIRST_PIXEL = 1
  LINE_LAST_PIXEL = 831
  LINE_PROJECTION_OFFSET = -22626.0
  MAP_PROJECTION_ROTATION = 0.0
  MAP_PROJECTION_TYPE = SINUSOIDAL
  MAP_RESOLUTION = 11854.9393024378
  MAP_SCALE = 0.005
  MAXIMUM_LATITUDE = -1.91026
  MINIMUM_LATITUDE = -1.97686
  POSITIVE_LONGITUDE_DIRECTION = EAST
  REFERENCE_LATITUDE = "N/A"
  REFERENCE_LONGITUDE = "N/A"
  SAMPLE_FIRST_PIXEL = 1
  SAMPLE_LAST_PIXEL = 839
  SAMPLE_PROJECTION_OFFSET = 1553.0
  SECOND_STANDARD_PARALLEL = "N/A"
  WESTERNMOST_LONGITUDE = 138.871
END_OBJECT = IMAGE_MAP_PROJECTION
/* The JPEG2000 image data file associated with this label. */
OBJECT = COMPRESSED_FILE
  FILE_NAME = "H1916_0007_SR3.JP2"
  RECORD_TYPE = UNDEFINED
  FILE_RECORDS = UNK
  ENCODING_TYPE = "JP2"
  INTERCHANGE_FORMAT = BINARY
  UNCOMPRESSED_FILE_NAME = "H1916_0007_SR3.IMG"
  REQUIRED_STORAGE_BYTES = "715667"
  ^DESCRIPTION = "JP2INFO.TXT"
END_OBJECT = COMPRESSED_FILE
END
