PDS_VERSION_ID = PDS3
/* FILE DATA ELEMENTS */
RECORD_TYPE = STREAM
/* POINTERS TO DATA OBJECTS */
^COMPRESSED_FILE = "H1917_0001_SR3.JP2"
/* IDENTIFICATION DATA ELEMENTS */
DATA_SET_ID = "MEX-M-HRSC-5-REFDR-MAPPROJECTED-V3.0"
DATA_SET_NAME = "MARS EXPRESS HRSC MAP PROJECTED REFDR V3.0"
DETECTOR_ID = MEX_HRSC_SRC
EVENT_TYPE = "MARS-LOCAL-STEREO-Im-Fl-Ts"
INSTRUMENT_HOST_ID = MEX
INSTRUMENT_HOST_NAME = "MARS EXPRESS"
INSTRUMENT_ID = HRSC
INSTRUMENT_NAME = "HIGH RESOLUTION STEREO CAMERA"
MISSION_NAME = "MARS EXPRESS"
MISSION_PHASE_NAME = MR_Phase_7
PROCESSING_LEVEL_ID = 3
PRODUCT_CREATION_TIME = 2016-03-09T16:25:58.000Z
PRODUCT_ID = "H1917_0001_SR3.JP2"
RELEASE_ID = 0025
REVISION_ID = 0000
/* QUALITY DATA ELEMENTS */
DATA_QUALITY_ID = 1
DATA_QUALITY_DESC = "Data calculated based on original SPICE kernels"
/* TIME DATA ELEMENTS */
SPACECRAFT_CLOCK_START_COUNT = "1/0069337901.57298"
SPACECRAFT_CLOCK_STOP_COUNT = "1/0069338279.16704"
IMAGE_TIME = 2005-07-13T12:33:53.643Z
START_TIME = 2005-07-13T12:33:53.385Z
STOP_TIME = 2005-07-13T12:33:53.901Z
/* ORBITAL DATA ELEMENTS */
ASCENDING_NODE_LONGITUDE = 188.13
MAXIMUM_RESOLUTION = 4.565
FOOTPRINT_POINT_LATITUDE = (-8.59828,-8.59604,-8.59296,-8.5901, -8.58671,-8.58424,-8.58216,-8.57977, -8.57599,-8.57353,-8.57037,-8.5679, -8.56327,-8.55973,-8.55587,-8.55263, -8.55047,-8.54693,-8.54361,-8.53868, -8.53397,-8.53051,-8.52789,-8.52519, -8.52133,-8.52131,-8.5213,-8.52129, -8.52128,-8.52126,-8.52125,-8.52124, -8.52122,-8.52121,-8.5212,-8.52118, -8.52117,-8.52116,-8.52114,-8.52113, -8.52112,-8.52111,-8.52109,-8.52108, -8.52107,-8.52105,-8.52104,-8.52103, -8.52101,-8.521,-8.52493,-8.529, -8.53154,-8.53509,-8.53817,-8.54063, -8.54356,-8.54733,-8.54972,-8.55241, -8.55611,-8.55973,-8.56388,-8.56758, -8.57005,-8.57428,-8.57628,-8.57944, -8.58237,-8.58598,-8.58806,-8.59068, -8.59307,-8.59638,-8.59854,-8.59855, -8.59857,-8.59859,-8.59861,-8.59862, -8.59864,-8.59866,-8.59867,-8.59869, -8.59871,-8.59873,-8.59874,-8.59876, -8.59878,-8.59879,-8.59881,-8.59883, -8.59885,-8.59886,-8.59888,-8.5989, -8.59891,-8.59893,-8.59895,-8.59828)
FOOTPRINT_POINT_LONGITUDE = (39.6165,39.6164,39.6164,39.6164, 39.6164,39.6164,39.6164,39.6164,39.6164 ,39.6163,39.6163,39.6163,39.6163, 39.6163,39.6163,39.6162,39.6162,39.6162 ,39.6162,39.6162,39.6162,39.6161, 39.6166,39.6166,39.6167,39.6214,39.6245 ,39.6277,39.6308,39.634,39.6371,39.6403 ,39.6434,39.6466,39.6497,39.6529,39.656 ,39.6591,39.6623,39.6654,39.6686, 39.6717,39.6749,39.678,39.6811,39.6843, 39.6874,39.6906,39.6937,39.6965,39.6966 ,39.6966,39.6961,39.6961,39.6962, 39.6962,39.6962,39.6962,39.6962,39.6962 ,39.6962,39.6963,39.6963,39.6963, 39.6963,39.6963,39.6963,39.6964,39.6964 ,39.6964,39.6964,39.6964,39.6964, 39.6964,39.6964,39.6932,39.6901,39.6869 ,39.6838,39.6807,39.6775,39.6744, 39.6712,39.6681,39.6649,39.6618,39.6586 ,39.6555,39.6523,39.6492,39.6461, 39.6429,39.6398,39.6366,39.6335,39.6303 ,39.6272,39.624,39.6209,39.6165)
ORBIT_NUMBER = 1917
ORBITAL_ECCENTRICITY = 0.571
ORBITAL_INCLINATION = 86.57
ORBITAL_SEMIMAJOR_AXIS = 8616.71
PERIAPSIS_ALTITUDE = 304.98
PERIAPSIS_ARGUMENT_ANGLE = 21.99
PERIAPSIS_TIME = 2005-07-13T12:41:52.000Z
SPACECRAFT_ORIENTATION = (0.0,1.0,0.0)
^MEX_ORIENTATION_DESC = "MEX_ORIENTATION_DESC.TXT"
SPACECRAFT_POINTING_MODE = ACROSSTRACK
^MEX_POINTING_DESC = "MEX_POINTING_DESC.TXT"
RIGHT_ASCENSION = -1e+32
DECLINATION = -1e+32
OFFSET_ANGLE = 1.0
SPACECRAFT_SOLAR_DISTANCE = 2.06657e+08
TARGET_NAME = MARS
/* CAMERA DATA ELEMENTS */
BUFFER_MODE_ID = BUFFER_8
EXPOSURE_DURATION = 516.096
INST_CMPRS_NAME = NONE
INST_CMPRS_RATIO = 1.0
INST_CMPRS_QUALITY = -2147483648
INST_CMPRS_QUANTZ_TBL_ID = -2147483648
INSTRUMENT_TEMPERATURE = 11.2121
MISSING_FRAMES = 0
START_BIT = 0
/* RADIOMETRIC DATA ELEMENTS */
BANDWIDTH = 250.0
CENTER_FILTER_WAVELENGTH = 600.0
RADIANCE_OFFSET = -9.99e+31
RADIANCE_SCALING_FACTOR = -9.99e+31
REFLECTANCE_SCALING_FACTOR = -9.99e+31
MEX:REFLECTANCE_OFFSET = -9.99e+31
/* IMAGE OBJECT DEFINITIONS */
OBJECT = IMAGE
  INTERCHANGE_FORMAT = BINARY
  LINES = 965
  LINE_SAMPLES = 983
  SAMPLE_TYPE = UNSIGNED_INTEGER
  SAMPLE_BITS = 8
  BANDS = 1
  BAND_STORAGE_TYPE = BAND_SEQUENTIAL
  MAXIMUM = 13212
  MEAN = 2359.71
  MINIMUM = 0
  STANDARD_DEVIATION = 4553.39
END_OBJECT = IMAGE
/* MAP OBJECT DEFINITIONS */
OBJECT = IMAGE_MAP_PROJECTION
  ^DATA_SET_MAP_PROJECTION_CATALOG= "DSMAP.CAT"
  A_AXIS_RADIUS = 3396.19
  B_AXIS_RADIUS = 3396.19
  C_AXIS_RADIUS = 3396.19
  CENTER_LATITUDE = 0.0
  CENTER_LONGITUDE = 40.0
  COORDINATE_SYSTEM_NAME = PLANETOGRAPHIC
  COORDINATE_SYSTEM_TYPE = "BODY-FIXED ROTATING"
  EASTERNMOST_LONGITUDE = 39.6966
  FIRST_STANDARD_PARALLEL = "N/A"
  LINE_FIRST_PIXEL = 1
  LINE_LAST_PIXEL = 965
  LINE_PROJECTION_OFFSET = -100993.0
  MAP_PROJECTION_ROTATION = 0.0
  MAP_PROJECTION_TYPE = SINUSOIDAL
  MAP_RESOLUTION = 11854.9393024378
  MAP_SCALE = 0.005
  MAXIMUM_LATITUDE = -8.521000000000001
  MINIMUM_LATITUDE = -8.59895
  POSITIVE_LONGITUDE_DIRECTION = EAST
  REFERENCE_LATITUDE = "N/A"
  REFERENCE_LONGITUDE = "N/A"
  SAMPLE_FIRST_PIXEL = 1
  SAMPLE_LAST_PIXEL = 983
  SAMPLE_PROJECTION_OFFSET = 4521.0
  SECOND_STANDARD_PARALLEL = "N/A"
  WESTERNMOST_LONGITUDE = 39.6161
END_OBJECT = IMAGE_MAP_PROJECTION
/* The JPEG2000 image data file associated with this label. */
OBJECT = COMPRESSED_FILE
  FILE_NAME = "H1917_0001_SR3.JP2"
  RECORD_TYPE = UNDEFINED
  FILE_RECORDS = UNK
  ENCODING_TYPE = "JP2"
  INTERCHANGE_FORMAT = BINARY
  UNCOMPRESSED_FILE_NAME = "H1917_0001_SR3.IMG"
  REQUIRED_STORAGE_BYTES = "967272"
  ^DESCRIPTION = "JP2INFO.TXT"
END_OBJECT = COMPRESSED_FILE
END
