PDS_VERSION_ID = PDS3
/* FILE DATA ELEMENTS */
RECORD_TYPE = STREAM
/* POINTERS TO DATA OBJECTS */
^COMPRESSED_FILE = "H1918_0005_SR3.JP2"
/* IDENTIFICATION DATA ELEMENTS */
DATA_SET_ID = "MEX-M-HRSC-5-REFDR-MAPPROJECTED-V3.0"
DATA_SET_NAME = "MARS EXPRESS HRSC MAP PROJECTED REFDR V3.0"
DETECTOR_ID = MEX_HRSC_SRC
EVENT_TYPE = "MARS-REGIONAL-MAPPING-Vo-Te-Fl"
INSTRUMENT_HOST_ID = MEX
INSTRUMENT_HOST_NAME = "MARS EXPRESS"
INSTRUMENT_ID = HRSC
INSTRUMENT_NAME = "HIGH RESOLUTION STEREO CAMERA"
MISSION_NAME = "MARS EXPRESS"
MISSION_PHASE_NAME = MR_Phase_7
PROCESSING_LEVEL_ID = 3
PRODUCT_CREATION_TIME = 2016-03-09T16:25:58.000Z
PRODUCT_ID = "H1918_0005_SR3.JP2"
RELEASE_ID = 0025
REVISION_ID = 0000
/* QUALITY DATA ELEMENTS */
DATA_QUALITY_ID = 1
DATA_QUALITY_DESC = "Data calculated based on original SPICE kernels"
/* TIME DATA ELEMENTS */
SPACECRAFT_CLOCK_START_COUNT = "1/0069361935.56202"
SPACECRAFT_CLOCK_STOP_COUNT = "1/0069362441.62979"
IMAGE_TIME = 2005-07-13T19:18:23.081Z
START_TIME = 2005-07-13T19:18:23.078Z
STOP_TIME = 2005-07-13T19:18:23.083Z
/* ORBITAL DATA ELEMENTS */
ASCENDING_NODE_LONGITUDE = 188.11
MAXIMUM_RESOLUTION = 4.069
FOOTPRINT_POINT_LATITUDE = (-4.35235,-4.35036,-4.34713,-4.34432, -4.3415,-4.33965,-4.33656,-4.33401, -4.33147,-4.32941,-4.3257,-4.32302, -4.3209,-4.31774,-4.31568,-4.31272, -4.31039,-4.30688,-4.30379,-4.30043, -4.29809,-4.29617,-4.29383,-4.29026, -4.28751,-4.28462,-4.2846,-4.28459, -4.28457,-4.28456,-4.28455,-4.28453, -4.28452,-4.2845,-4.28449,-4.28447, -4.28446,-4.28444,-4.28443,-4.28441, -4.2844,-4.28439,-4.28437,-4.28436, -4.28434,-4.28433,-4.28431,-4.2843, -4.28428,-4.28426,-4.28597,-4.28858, -4.29181,-4.29373,-4.29668,-4.30018, -4.30306,-4.30643,-4.30897,-4.31158, -4.31384,-4.31577,-4.31879,-4.32133, -4.32455,-4.32895,-4.33245,-4.3354, -4.33753,-4.34124,-4.34412,-4.34666, -4.34941,-4.3514,-4.3534,-4.35339, -4.3534,-4.35342,-4.35344,-4.35346, -4.35347,-4.35349,-4.35351,-4.35352, -4.35354,-4.35356,-4.35358,-4.35359, -4.35361,-4.35363,-4.35364,-4.35366, -4.35368,-4.3537,-4.35371,-4.35373, -4.35375,-4.35376,-4.35378,-4.35235)
FOOTPRINT_POINT_LONGITUDE = (301.595,301.595,301.595,301.595, 301.595,301.595,301.595,301.595,301.595 ,301.595,301.595,301.595,301.595, 301.595,301.595,301.595,301.595,301.595 ,301.595,301.595,301.595,301.595, 301.595,301.595,301.595,301.597,301.6, 301.602,301.605,301.608,301.611,301.613 ,301.616,301.619,301.622,301.625, 301.627,301.63,301.633,301.636,301.638, 301.641,301.644,301.647,301.649,301.652 ,301.655,301.658,301.661,301.663, 301.665,301.665,301.665,301.665,301.665 ,301.665,301.665,301.665,301.665, 301.665,301.665,301.665,301.665,301.665 ,301.665,301.665,301.665,301.665, 301.665,301.665,301.665,301.665,301.665 ,301.665,301.664,301.661,301.659, 301.656,301.653,301.65,301.647,301.645, 301.642,301.639,301.636,301.634,301.631 ,301.628,301.625,301.622,301.62,301.617 ,301.614,301.611,301.609,301.606, 301.603,301.6,301.598,301.595)
ORBIT_NUMBER = 1918
ORBITAL_ECCENTRICITY = 0.571
ORBITAL_INCLINATION = 86.58
ORBITAL_SEMIMAJOR_AXIS = 8612.2
PERIAPSIS_ALTITUDE = 305.08
PERIAPSIS_ARGUMENT_ANGLE = 21.8
PERIAPSIS_TIME = 2005-07-13T19:25:09.000Z
SPACECRAFT_ORIENTATION = (0.0,1.0,0.0)
^MEX_ORIENTATION_DESC = "MEX_ORIENTATION_DESC.TXT"
SPACECRAFT_POINTING_MODE = ACROSSTRACK
^MEX_POINTING_DESC = "MEX_POINTING_DESC.TXT"
RIGHT_ASCENSION = -1e+32
DECLINATION = -1e+32
OFFSET_ANGLE = 0.7
SPACECRAFT_SOLAR_DISTANCE = 2.06655e+08
TARGET_NAME = MARS
/* CAMERA DATA ELEMENTS */
BUFFER_MODE_ID = BUFFER_8
EXPOSURE_DURATION = 5.04
INST_CMPRS_NAME = NONE
INST_CMPRS_RATIO = 1.0
INST_CMPRS_QUALITY = -2147483648
INST_CMPRS_QUANTZ_TBL_ID = -2147483648
INSTRUMENT_TEMPERATURE = 14.2424
MISSING_FRAMES = 0
START_BIT = 0
/* RADIOMETRIC DATA ELEMENTS */
BANDWIDTH = 250.0
CENTER_FILTER_WAVELENGTH = 600.0
RADIANCE_OFFSET = -9.99e+31
RADIANCE_SCALING_FACTOR = -9.99e+31
REFLECTANCE_SCALING_FACTOR = -9.99e+31
MEX:REFLECTANCE_OFFSET = -9.99e+31
/* IMAGE OBJECT DEFINITIONS */
OBJECT = IMAGE
  INTERCHANGE_FORMAT = BINARY
  LINES = 865
  LINE_SAMPLES = 879
  SAMPLE_TYPE = UNSIGNED_INTEGER
  SAMPLE_BITS = 8
  BANDS = 1
  BAND_STORAGE_TYPE = BAND_SEQUENTIAL
  MAXIMUM = 3206
  MEAN = 2898.11
  MINIMUM = 2469
  STANDARD_DEVIATION = 67.2826
END_OBJECT = IMAGE
/* MAP OBJECT DEFINITIONS */
OBJECT = IMAGE_MAP_PROJECTION
  ^DATA_SET_MAP_PROJECTION_CATALOG= "DSMAP.CAT"
  A_AXIS_RADIUS = 3396.19
  B_AXIS_RADIUS = 3396.19
  C_AXIS_RADIUS = 3396.19
  CENTER_LATITUDE = 0.0
  CENTER_LONGITUDE = 302.0
  COORDINATE_SYSTEM_NAME = PLANETOGRAPHIC
  COORDINATE_SYSTEM_TYPE = "BODY-FIXED ROTATING"
  EASTERNMOST_LONGITUDE = 301.665
  FIRST_STANDARD_PARALLEL = "N/A"
  LINE_FIRST_PIXEL = 1
  LINE_LAST_PIXEL = 865
  LINE_PROJECTION_OFFSET = -50770.0
  MAP_PROJECTION_ROTATION = 0.0
  MAP_PROJECTION_TYPE = SINUSOIDAL
  MAP_RESOLUTION = 11854.9393024378
  MAP_SCALE = 0.005
  MAXIMUM_LATITUDE = -4.28426
  MINIMUM_LATITUDE = -4.35378
  POSITIVE_LONGITUDE_DIRECTION = EAST
  REFERENCE_LATITUDE = "N/A"
  REFERENCE_LONGITUDE = "N/A"
  SAMPLE_FIRST_PIXEL = 1
  SAMPLE_LAST_PIXEL = 879
  SAMPLE_PROJECTION_OFFSET = 4814.0
  SECOND_STANDARD_PARALLEL = "N/A"
  WESTERNMOST_LONGITUDE = 301.595
END_OBJECT = IMAGE_MAP_PROJECTION
/* The JPEG2000 image data file associated with this label. */
OBJECT = COMPRESSED_FILE
  FILE_NAME = "H1918_0005_SR3.JP2"
  RECORD_TYPE = UNDEFINED
  FILE_RECORDS = UNK
  ENCODING_TYPE = "JP2"
  INTERCHANGE_FORMAT = BINARY
  UNCOMPRESSED_FILE_NAME = "H1918_0005_SR3.IMG"
  REQUIRED_STORAGE_BYTES = "778794"
  ^DESCRIPTION = "JP2INFO.TXT"
END_OBJECT = COMPRESSED_FILE
END
