PDS_VERSION_ID = PDS3
/* FILE DATA ELEMENTS */
RECORD_TYPE = STREAM
/* POINTERS TO DATA OBJECTS */
^COMPRESSED_FILE = "H1925_0000_ND3.JP2"
/* IDENTIFICATION DATA ELEMENTS */
DATA_SET_ID = "MEX-M-HRSC-5-REFDR-MAPPROJECTED-V3.0"
DATA_SET_NAME = "MARS EXPRESS HRSC MAP PROJECTED REFDR V3.0"
DETECTOR_ID = MEX_HRSC_NADIR
EVENT_TYPE = "MARS-REGIONAL-MAPPING-Fl-Gl-Lc"
INSTRUMENT_HOST_ID = MEX
INSTRUMENT_HOST_NAME = "MARS EXPRESS"
INSTRUMENT_ID = HRSC
INSTRUMENT_NAME = "HIGH RESOLUTION STEREO CAMERA"
MISSION_NAME = "MARS EXPRESS"
MISSION_PHASE_NAME = MR_Phase_7
PROCESSING_LEVEL_ID = 3
PRODUCT_CREATION_TIME = 2016-03-09T16:25:58.000Z
PRODUCT_ID = "H1925_0000_ND3.JP2"
RELEASE_ID = 0025
REVISION_ID = 0000
/* QUALITY DATA ELEMENTS */
DATA_QUALITY_ID = 1
DATA_QUALITY_DESC = "Data calculated based on original SPICE kernels"
/* TIME DATA ELEMENTS */
SPACECRAFT_CLOCK_START_COUNT = "1/0069531385.57305"
SPACECRAFT_CLOCK_STOP_COUNT = "1/0069531794.00706"
START_TIME = 2005-07-15T18:17:43.490Z
STOP_TIME = 2005-07-15T18:22:46.469Z
/* ORBITAL DATA ELEMENTS */
ASCENDING_NODE_LONGITUDE = 187.96
MAXIMUM_RESOLUTION = 15.2
FOOTPRINT_POINT_LATITUDE = (-16.5948,-16.5993,-16.604,-16.6055, -16.3821,-15.9397,-15.5012,-15.0665, -14.6384,-14.2139,-13.7927,-13.3761, -12.9643,-12.5546,-12.1503,-11.5501, -10.9582,-10.5668,-10.1813,-9.79747, -9.41813,-9.04115,-8.66826,-8.29711, -7.93072,-7.56516,-7.20539,-6.66775, -6.31453,-5.96051,-5.61411,-5.267, -4.91741,-4.57729,-4.06923,-3.73609, -3.40238,-3.07183,-2.74556,-2.41875, -2.0944,-1.45521,-1.13498,-0.81416, -0.492843,-0.171058,0.15121,0.473951, 0.797182,1.12086,1.44498,1.62351, 1.62621,1.46516,1.14118,0.817638, 0.49462,0.172063,-0.150099,-0.471771, -0.792911,-1.11359,-1.43376,-2.07253, -2.39631,-2.72289,-3.04906,-3.37926, -3.7128,-4.04582,-4.55319,-5.06893, -5.4158,-5.93574,-6.28913,-6.81874, -7.17919,-7.53882,-7.90383,-8.27003, -8.64053,-9.0133,-9.38984,-9.76915, -10.1525,-10.5379,-10.9288,-11.5203, -11.9181,-12.3222,-12.728,-13.1384, -13.5531,-13.9707,-14.3932,-14.8205, -15.2517,-15.6867,-16.1268,-16.5948)
FOOTPRINT_POINT_LONGITUDE = (335.292,334.799,334.07,333.62,333.328, 333.341,333.353,333.364,333.378,333.389 ,333.4,333.41,333.42,333.429,333.438, 333.451,333.464,333.473,333.48,333.489, 333.495,333.502,333.509,333.515,333.522 ,333.528,333.534,333.539,333.547,333.55 ,333.555,333.56,333.568,333.571,333.579 ,333.582,333.586,333.594,333.598, 333.602,333.606,333.612,333.617,333.62, 333.623,333.627,333.63,333.634,333.637, 333.64,333.643,334.01,334.612,334.973, 334.978,334.984,334.991,334.998,335.004 ,335.01,335.016,335.023,335.03,335.044, 335.052,335.061,335.068,335.077,335.085 ,335.092,335.107,335.121,335.13,335.14, 335.15,335.165,335.176,335.186,335.197, 335.21,335.223,335.235,335.246,335.257, 335.269,335.282,335.296,335.317,335.332 ,335.346,335.361,335.376,335.393, 335.409,335.424,335.441,335.457,335.475 ,335.494,335.292)
ORBIT_NUMBER = 1925
ORBITAL_ECCENTRICITY = 0.57
ORBITAL_INCLINATION = 86.58
ORBITAL_SEMIMAJOR_AXIS = 8609.94
PERIAPSIS_ALTITUDE = 304.45
PERIAPSIS_ARGUMENT_ANGLE = 20.52
PERIAPSIS_TIME = 2005-07-15T18:27:37.000Z
SPACECRAFT_ORIENTATION = (0.0,1.0,0.0)
^MEX_ORIENTATION_DESC = "MEX_ORIENTATION_DESC.TXT"
SPACECRAFT_POINTING_MODE = NADIR
^MEX_POINTING_DESC = "MEX_POINTING_DESC.TXT"
RIGHT_ASCENSION = -1e+32
DECLINATION = -1e+32
OFFSET_ANGLE = -1e+32
SPACECRAFT_SOLAR_DISTANCE = 2.06643e+08
TARGET_NAME = MARS
/* CAMERA DATA ELEMENTS */
DETECTOR_TEMPERATURE = 18.5744
FOCAL_PLANE_TEMPERATURE = 9.195
INST_CMPRS_NAME = "DISCRETE COSINE TRANSFORMATION (DCT)"
INST_CMPRS_RATIO = 6.65897
INST_CMPRS_QUALITY = 0
INST_CMPRS_QUANTZ_TBL_ID = 0
INSTRUMENT_TEMPERATURE = 11.4379
LENS_TEMPERATURE = 9.6028
MACROPIXEL_SIZE = 1
MISSING_FRAMES = 3
PIXEL_SUBSAMPLING_FLAG = N
SIGNAL_CHAIN_ID = 0
/* RADIOMETRIC DATA ELEMENTS */
BANDWIDTH = 177.0
CENTER_FILTER_WAVELENGTH = 677.5
RADIANCE_OFFSET = 2.21439
RADIANCE_SCALING_FACTOR = 0.00932448
REFLECTANCE_SCALING_FACTOR = 0.00021152
MEX:REFLECTANCE_OFFSET = 0.0502319
/* IMAGE OBJECT DEFINITIONS */
OBJECT = IMAGE
  INTERCHANGE_FORMAT = BINARY
  LINES = 86456
  LINE_SAMPLES = 10274
  SAMPLE_TYPE = UNSIGNED_INTEGER
  SAMPLE_BITS = 8
  BANDS = 1
  BAND_STORAGE_TYPE = BAND_SEQUENTIAL
  MAXIMUM = 273
  MEAN = 170.67
  MINIMUM = 117
  STANDARD_DEVIATION = 19.2609
END_OBJECT = IMAGE
/* MAP OBJECT DEFINITIONS */
OBJECT = IMAGE_MAP_PROJECTION
  ^DATA_SET_MAP_PROJECTION_CATALOG= "DSMAP.CAT"
  A_AXIS_RADIUS = 3396.0
  B_AXIS_RADIUS = 3396.0
  C_AXIS_RADIUS = 3396.0
  CENTER_LATITUDE = 0.0
  CENTER_LONGITUDE = 334.0
  COORDINATE_SYSTEM_NAME = PLANETOGRAPHIC
  COORDINATE_SYSTEM_TYPE = "BODY-FIXED ROTATING"
  EASTERNMOST_LONGITUDE = 335.494
  FIRST_STANDARD_PARALLEL = "N/A"
  LINE_FIRST_PIXEL = 1
  LINE_LAST_PIXEL = 86456
  LINE_PROJECTION_OFFSET = 7714.0
  MAP_PROJECTION_ROTATION = 0.0
  MAP_PROJECTION_TYPE = SINUSOIDAL
  MAP_RESOLUTION = 4741.71043093333
  MAP_SCALE = 0.0125
  MAXIMUM_LATITUDE = 1.62621
  MINIMUM_LATITUDE = -16.6055
  POSITIVE_LONGITUDE_DIRECTION = EAST
  REFERENCE_LATITUDE = "N/A"
  REFERENCE_LONGITUDE = "N/A"
  SAMPLE_FIRST_PIXEL = 1
  SAMPLE_LAST_PIXEL = 10274
  SAMPLE_PROJECTION_OFFSET = 3232.0
  SECOND_STANDARD_PARALLEL = "N/A"
  WESTERNMOST_LONGITUDE = 333.328
END_OBJECT = IMAGE_MAP_PROJECTION
/* The JPEG2000 image data file associated with this label. */
OBJECT = COMPRESSED_FILE
  FILE_NAME = "H1925_0000_ND3.JP2"
  RECORD_TYPE = UNDEFINED
  FILE_RECORDS = UNK
  ENCODING_TYPE = "JP2"
  INTERCHANGE_FORMAT = BINARY
  UNCOMPRESSED_FILE_NAME = "H1925_0000_ND3.IMG"
  REQUIRED_STORAGE_BYTES = "888279766"
  ^DESCRIPTION = "JP2INFO.TXT"
END_OBJECT = COMPRESSED_FILE
END
