PDS_VERSION_ID = PDS3
/* FILE DATA ELEMENTS */
RECORD_TYPE = STREAM
/* POINTERS TO DATA OBJECTS */
^COMPRESSED_FILE = "H1927_0006_SR3.JP2"
/* IDENTIFICATION DATA ELEMENTS */
DATA_SET_ID = "MEX-M-HRSC-5-REFDR-MAPPROJECTED-V3.0"
DATA_SET_NAME = "MARS EXPRESS HRSC MAP PROJECTED REFDR V3.0"
DETECTOR_ID = MEX_HRSC_SRC
EVENT_TYPE = "MARS-LOCAL-STEREO-Te-Im-La"
INSTRUMENT_HOST_ID = MEX
INSTRUMENT_HOST_NAME = "MARS EXPRESS"
INSTRUMENT_ID = HRSC
INSTRUMENT_NAME = "HIGH RESOLUTION STEREO CAMERA"
MISSION_NAME = "MARS EXPRESS"
MISSION_PHASE_NAME = MR_Phase_7
PROCESSING_LEVEL_ID = 3
PRODUCT_CREATION_TIME = 2016-03-09T16:25:58.000Z
PRODUCT_ID = "H1927_0006_SR3.JP2"
RELEASE_ID = 0025
REVISION_ID = 0000
/* QUALITY DATA ELEMENTS */
DATA_QUALITY_ID = 1
DATA_QUALITY_DESC = "Data calculated based on original SPICE kernels"
/* TIME DATA ELEMENTS */
SPACECRAFT_CLOCK_START_COUNT = "1/0069579945.57326"
SPACECRAFT_CLOCK_STOP_COUNT = "1/0069580254.16606"
IMAGE_TIME = 2005-07-16T07:47:24.936Z
START_TIME = 2005-07-16T07:47:24.934Z
STOP_TIME = 2005-07-16T07:47:24.939Z
/* ORBITAL DATA ELEMENTS */
ASCENDING_NODE_LONGITUDE = 187.91
MAXIMUM_RESOLUTION = 4.033
FOOTPRINT_POINT_LATITUDE = (-5.56618,-5.56414,-5.56175,-5.55978, -5.55631,-5.55284,-5.55038,-5.54753, -5.5431,-5.54017,-5.5365,-5.53384, -5.53125,-5.52935,-5.5269,-5.52315, -5.5205,-5.5173,-5.51383,-5.51138, -5.50824,-5.50627,-5.5015,-5.49803, -5.49801,-5.49799,-5.49797,-5.49795, -5.49793,-5.49792,-5.4979,-5.49789, -5.49787,-5.49785,-5.49783,-5.49782, -5.4978,-5.49779,-5.49777,-5.49776, -5.49774,-5.49773,-5.49771,-5.49769, -5.49767,-5.49765,-5.49763,-5.49762, -5.4976,-5.49909,-5.50093,-5.50392, -5.50678,-5.50883,-5.51107,-5.5142, -5.51672,-5.51999,-5.5234,-5.52578, -5.52918,-5.53361,-5.53545,-5.5381, -5.54205,-5.5447,-5.54654,-5.54872, -5.55069,-5.55369,-5.55757,-5.56057, -5.56288,-5.56615,-5.56617,-5.56619, -5.56621,-5.56623,-5.56624,-5.56626, -5.56628,-5.5663,-5.56631,-5.56633, -5.56634,-5.56635,-5.56637,-5.56639, -5.5664,-5.56642,-5.56644,-5.56645, -5.56646,-5.56648,-5.5665,-5.56652, -5.56653,-5.56655,-5.56657,-5.56618)
FOOTPRINT_POINT_LONGITUDE = (137.725,137.725,137.725,137.725, 137.725,137.725,137.725,137.725,137.725 ,137.725,137.725,137.725,137.725, 137.725,137.725,137.725,137.725,137.725 ,137.725,137.725,137.725,137.725, 137.725,137.725,137.728,137.731,137.735 ,137.738,137.741,137.743,137.745, 137.748,137.751,137.754,137.756,137.759 ,137.762,137.764,137.766,137.769, 137.771,137.773,137.776,137.779,137.782 ,137.785,137.788,137.79,137.793,137.794 ,137.794,137.794,137.794,137.794, 137.794,137.794,137.794,137.794,137.794 ,137.794,137.794,137.795,137.795, 137.795,137.795,137.795,137.795,137.795 ,137.795,137.795,137.795,137.795, 137.795,137.794,137.791,137.788,137.786 ,137.782,137.78,137.777,137.774,137.771 ,137.769,137.767,137.765,137.762,137.76 ,137.757,137.754,137.752,137.749, 137.747,137.745,137.742,137.739,137.737 ,137.734,137.73,137.728,137.725)
ORBIT_NUMBER = 1927
ORBITAL_ECCENTRICITY = 0.571
ORBITAL_INCLINATION = 86.57
ORBITAL_SEMIMAJOR_AXIS = 8615.64
PERIAPSIS_ALTITUDE = 304.02
PERIAPSIS_ARGUMENT_ANGLE = 20.19
PERIAPSIS_TIME = 2005-07-16T07:54:04.000Z
SPACECRAFT_ORIENTATION = (0.0,1.0,0.0)
^MEX_ORIENTATION_DESC = "MEX_ORIENTATION_DESC.TXT"
SPACECRAFT_POINTING_MODE = NADIR
^MEX_POINTING_DESC = "MEX_POINTING_DESC.TXT"
RIGHT_ASCENSION = -1e+32
DECLINATION = -1e+32
OFFSET_ANGLE = -1e+32
SPACECRAFT_SOLAR_DISTANCE = 2.06641e+08
TARGET_NAME = MARS
/* CAMERA DATA ELEMENTS */
BUFFER_MODE_ID = BUFFER_8
EXPOSURE_DURATION = 5.04
INST_CMPRS_NAME = NONE
INST_CMPRS_RATIO = 1.0
INST_CMPRS_QUALITY = -2147483648
INST_CMPRS_QUANTZ_TBL_ID = -2147483648
INSTRUMENT_TEMPERATURE = 11.0878
MISSING_FRAMES = 0
START_BIT = 0
/* RADIOMETRIC DATA ELEMENTS */
BANDWIDTH = 250.0
CENTER_FILTER_WAVELENGTH = 600.0
RADIANCE_OFFSET = -9.99e+31
RADIANCE_SCALING_FACTOR = -9.99e+31
REFLECTANCE_SCALING_FACTOR = -9.99e+31
MEX:REFLECTANCE_OFFSET = -9.99e+31
/* IMAGE OBJECT DEFINITIONS */
OBJECT = IMAGE
  INTERCHANGE_FORMAT = BINARY
  LINES = 858
  LINE_SAMPLES = 867
  SAMPLE_TYPE = UNSIGNED_INTEGER
  SAMPLE_BITS = 8
  BANDS = 1
  BAND_STORAGE_TYPE = BAND_SEQUENTIAL
  MAXIMUM = 3840
  MEAN = 3469.08
  MINIMUM = 2886
  STANDARD_DEVIATION = 80.7094
END_OBJECT = IMAGE
/* MAP OBJECT DEFINITIONS */
OBJECT = IMAGE_MAP_PROJECTION
  ^DATA_SET_MAP_PROJECTION_CATALOG= "DSMAP.CAT"
  A_AXIS_RADIUS = 3396.19
  B_AXIS_RADIUS = 3396.19
  C_AXIS_RADIUS = 3396.19
  CENTER_LATITUDE = 0.0
  CENTER_LONGITUDE = 138.0
  COORDINATE_SYSTEM_NAME = PLANETOGRAPHIC
  COORDINATE_SYSTEM_TYPE = "BODY-FIXED ROTATING"
  EASTERNMOST_LONGITUDE = 137.795
  FIRST_STANDARD_PARALLEL = "N/A"
  LINE_FIRST_PIXEL = 1
  LINE_LAST_PIXEL = 858
  LINE_PROJECTION_OFFSET = -65153.0
  MAP_PROJECTION_ROTATION = 0.0
  MAP_PROJECTION_TYPE = SINUSOIDAL
  MAP_RESOLUTION = 11854.9393024378
  MAP_SCALE = 0.005
  MAXIMUM_LATITUDE = -5.4976
  MINIMUM_LATITUDE = -5.56657
  POSITIVE_LONGITUDE_DIRECTION = EAST
  REFERENCE_LATITUDE = "N/A"
  REFERENCE_LONGITUDE = "N/A"
  SAMPLE_FIRST_PIXEL = 1
  SAMPLE_LAST_PIXEL = 867
  SAMPLE_PROJECTION_OFFSET = 3268.0
  SECOND_STANDARD_PARALLEL = "N/A"
  WESTERNMOST_LONGITUDE = 137.725
END_OBJECT = IMAGE_MAP_PROJECTION
/* The JPEG2000 image data file associated with this label. */
OBJECT = COMPRESSED_FILE
  FILE_NAME = "H1927_0006_SR3.JP2"
  RECORD_TYPE = UNDEFINED
  FILE_RECORDS = UNK
  ENCODING_TYPE = "JP2"
  INTERCHANGE_FORMAT = BINARY
  UNCOMPRESSED_FILE_NAME = "H1927_0006_SR3.IMG"
  REQUIRED_STORAGE_BYTES = "762093"
  ^DESCRIPTION = "JP2INFO.TXT"
END_OBJECT = COMPRESSED_FILE
END
