PDS_VERSION_ID = PDS3
/* FILE DATA ELEMENTS */
RECORD_TYPE = STREAM
/* POINTERS TO DATA OBJECTS */
^COMPRESSED_FILE = "H1930_0006_SR3.JP2"
/* IDENTIFICATION DATA ELEMENTS */
DATA_SET_ID = "MEX-M-HRSC-5-REFDR-MAPPROJECTED-V3.0"
DATA_SET_NAME = "MARS EXPRESS HRSC MAP PROJECTED REFDR V3.0"
DETECTOR_ID = MEX_HRSC_SRC
EVENT_TYPE = "MARS-REGIONAL-MAPPING-Te-Im-Eo"
INSTRUMENT_HOST_ID = MEX
INSTRUMENT_HOST_NAME = "MARS EXPRESS"
INSTRUMENT_ID = HRSC
INSTRUMENT_NAME = "HIGH RESOLUTION STEREO CAMERA"
MISSION_NAME = "MARS EXPRESS"
MISSION_PHASE_NAME = MR_Phase_7
PROCESSING_LEVEL_ID = 3
PRODUCT_CREATION_TIME = 2016-03-09T16:25:58.000Z
PRODUCT_ID = "H1930_0006_SR3.JP2"
RELEASE_ID = 0025
REVISION_ID = 0000
/* QUALITY DATA ELEMENTS */
DATA_QUALITY_ID = 1
DATA_QUALITY_DESC = "Data calculated based on original SPICE kernels"
/* TIME DATA ELEMENTS */
SPACECRAFT_CLOCK_START_COUNT = "1/0069652488.57972"
SPACECRAFT_CLOCK_STOP_COUNT = "1/0069652931.40597"
IMAGE_TIME = 2005-07-17T03:56:45.354Z
START_TIME = 2005-07-17T03:56:45.352Z
STOP_TIME = 2005-07-17T03:56:45.357Z
/* ORBITAL DATA ELEMENTS */
ASCENDING_NODE_LONGITUDE = 187.85
MAXIMUM_RESOLUTION = 4.125
FOOTPRINT_POINT_LATITUDE = (-7.06284,-7.06027,-7.05651,-7.0531, -7.05073,-7.04892,-7.04634,-7.0437, -7.03994,-7.03673,-7.03416,-7.03026, -7.02685,-7.02441,-7.02232,-7.01891, -7.0155,-7.0125,-7.0093,-7.00672, -7.00269,-6.9999,-6.99795,-6.99579, -6.9946,-6.99458,-6.99456,-6.99454, -6.99452,-6.9945,-6.99448,-6.99446, -6.99444,-6.99443,-6.99441,-6.99439, -6.99437,-6.99435,-6.99433,-6.99431, -6.99429,-6.99427,-6.99425,-6.99423, -6.99421,-6.99419,-6.99417,-6.99415, -6.99413,-6.99509,-6.99725,-7.00011, -7.0022,-7.00519,-7.00923,-7.01139, -7.01584,-7.01919,-7.0233,-7.02699, -7.02935,-7.03291,-7.03534,-7.03792, -7.04001,-7.04342,-7.04558,-7.0476, -7.05004,-7.05282,-7.05463,-7.05721, -7.05999,-7.06306,-7.06426,-7.06428, -7.0643,-7.06432,-7.06434,-7.06436, -7.06438,-7.06439,-7.06441,-7.06443, -7.06445,-7.06447,-7.06449,-7.06451, -7.06453,-7.06455,-7.06457,-7.06458, -7.0646,-7.06462,-7.06464,-7.06466, -7.06468,-7.0647,-7.06472,-7.06284)
FOOTPRINT_POINT_LONGITUDE = (202.993,202.993,202.993,202.993, 202.993,202.993,202.993,202.993,202.993 ,202.993,202.993,202.993,202.993, 202.993,202.993,202.993,202.993,202.993 ,202.993,202.993,202.993,202.993, 202.993,202.993,202.994,202.997,203.0, 203.003,203.005,203.008,203.011,203.014 ,203.017,203.019,203.022,203.025, 203.028,203.031,203.033,203.036,203.039 ,203.042,203.045,203.048,203.05,203.053 ,203.056,203.059,203.062,203.064, 203.064,203.064,203.064,203.064,203.064 ,203.064,203.064,203.064,203.064, 203.064,203.064,203.064,203.064,203.064 ,203.064,203.064,203.064,203.064, 203.064,203.064,203.064,203.064,203.064 ,203.064,203.062,203.059,203.056, 203.053,203.05,203.048,203.045,203.042, 203.039,203.036,203.034,203.031,203.028 ,203.025,203.022,203.02,203.017,203.014 ,203.011,203.008,203.005,203.003,203.0, 202.997,202.994,202.993)
ORBIT_NUMBER = 1930
ORBITAL_ECCENTRICITY = 0.571
ORBITAL_INCLINATION = 86.57
ORBITAL_SEMIMAJOR_AXIS = 8612.93
PERIAPSIS_ALTITUDE = 303.49
PERIAPSIS_ARGUMENT_ANGLE = 19.62
PERIAPSIS_TIME = 2005-07-17T04:03:40.000Z
SPACECRAFT_ORIENTATION = (0.0,1.0,0.0)
^MEX_ORIENTATION_DESC = "MEX_ORIENTATION_DESC.TXT"
SPACECRAFT_POINTING_MODE = ACROSSTRACK
^MEX_POINTING_DESC = "MEX_POINTING_DESC.TXT"
RIGHT_ASCENSION = -1e+32
DECLINATION = -1e+32
OFFSET_ANGLE = -0.1
SPACECRAFT_SOLAR_DISTANCE = 2.06639e+08
TARGET_NAME = MARS
/* CAMERA DATA ELEMENTS */
BUFFER_MODE_ID = BUFFER_8
EXPOSURE_DURATION = 5.04
INST_CMPRS_NAME = NONE
INST_CMPRS_RATIO = 1.0
INST_CMPRS_QUALITY = -2147483648
INST_CMPRS_QUANTZ_TBL_ID = -2147483648
INSTRUMENT_TEMPERATURE = 11.2121
MISSING_FRAMES = 0
START_BIT = 0
/* RADIOMETRIC DATA ELEMENTS */
BANDWIDTH = 250.0
CENTER_FILTER_WAVELENGTH = 600.0
RADIANCE_OFFSET = -9.99e+31
RADIANCE_SCALING_FACTOR = -9.99e+31
REFLECTANCE_SCALING_FACTOR = -9.99e+31
MEX:REFLECTANCE_OFFSET = -9.99e+31
/* IMAGE OBJECT DEFINITIONS */
OBJECT = IMAGE
  INTERCHANGE_FORMAT = BINARY
  LINES = 879
  LINE_SAMPLES = 886
  SAMPLE_TYPE = UNSIGNED_INTEGER
  SAMPLE_BITS = 8
  BANDS = 1
  BAND_STORAGE_TYPE = BAND_SEQUENTIAL
  MAXIMUM = 4321
  MEAN = 3949.2
  MINIMUM = 3329
  STANDARD_DEVIATION = 79.1508
END_OBJECT = IMAGE
/* MAP OBJECT DEFINITIONS */
OBJECT = IMAGE_MAP_PROJECTION
  ^DATA_SET_MAP_PROJECTION_CATALOG= "DSMAP.CAT"
  A_AXIS_RADIUS = 3396.19
  B_AXIS_RADIUS = 3396.19
  C_AXIS_RADIUS = 3396.19
  CENTER_LATITUDE = 0.0
  CENTER_LONGITUDE = 203.0
  COORDINATE_SYSTEM_NAME = PLANETOGRAPHIC
  COORDINATE_SYSTEM_TYPE = "BODY-FIXED ROTATING"
  EASTERNMOST_LONGITUDE = 203.064
  FIRST_STANDARD_PARALLEL = "N/A"
  LINE_FIRST_PIXEL = 1
  LINE_LAST_PIXEL = 879
  LINE_PROJECTION_OFFSET = -82892.0
  MAP_PROJECTION_ROTATION = 0.0
  MAP_PROJECTION_TYPE = SINUSOIDAL
  MAP_RESOLUTION = 11854.9393024378
  MAP_SCALE = 0.005
  MAXIMUM_LATITUDE = -6.99413
  MINIMUM_LATITUDE = -7.06472
  POSITIVE_LONGITUDE_DIRECTION = EAST
  REFERENCE_LATITUDE = "N/A"
  REFERENCE_LONGITUDE = "N/A"
  SAMPLE_FIRST_PIXEL = 1
  SAMPLE_LAST_PIXEL = 886
  SAMPLE_PROJECTION_OFFSET = 105.0
  SECOND_STANDARD_PARALLEL = "N/A"
  WESTERNMOST_LONGITUDE = 202.993
END_OBJECT = IMAGE_MAP_PROJECTION
/* The JPEG2000 image data file associated with this label. */
OBJECT = COMPRESSED_FILE
  FILE_NAME = "H1930_0006_SR3.JP2"
  RECORD_TYPE = UNDEFINED
  FILE_RECORDS = UNK
  ENCODING_TYPE = "JP2"
  INTERCHANGE_FORMAT = BINARY
  UNCOMPRESSED_FILE_NAME = "H1930_0006_SR3.IMG"
  REQUIRED_STORAGE_BYTES = "797400"
  ^DESCRIPTION = "JP2INFO.TXT"
END_OBJECT = COMPRESSED_FILE
END
