PDS_VERSION_ID = PDS3
/* FILE DATA ELEMENTS */
RECORD_TYPE = STREAM
/* POINTERS TO DATA OBJECTS */
^COMPRESSED_FILE = "H1932_0001_GR3.JP2"
/* IDENTIFICATION DATA ELEMENTS */
DATA_SET_ID = "MEX-M-HRSC-5-REFDR-MAPPROJECTED-V3.0"
DATA_SET_NAME = "MARS EXPRESS HRSC MAP PROJECTED REFDR V3.0"
DETECTOR_ID = MEX_HRSC_GREEN
EVENT_TYPE = "MARS-REGIONAL-MAPPING-Im-Fl-La"
INSTRUMENT_HOST_ID = MEX
INSTRUMENT_HOST_NAME = "MARS EXPRESS"
INSTRUMENT_ID = HRSC
INSTRUMENT_NAME = "HIGH RESOLUTION STEREO CAMERA"
MISSION_NAME = "MARS EXPRESS"
MISSION_PHASE_NAME = MR_Phase_7
PROCESSING_LEVEL_ID = 3
PRODUCT_CREATION_TIME = 2016-03-09T16:25:58.000Z
PRODUCT_ID = "H1932_0001_GR3.JP2"
RELEASE_ID = 0025
REVISION_ID = 0000
/* QUALITY DATA ELEMENTS */
DATA_QUALITY_ID = 1
DATA_QUALITY_DESC = "Data calculated based on original SPICE kernels"
/* TIME DATA ELEMENTS */
SPACECRAFT_CLOCK_START_COUNT = "1/0069700810.57151"
SPACECRAFT_CLOCK_STOP_COUNT = "1/0069701240.15746"
START_TIME = 2005-07-17T17:21:28.411Z
STOP_TIME = 2005-07-17T17:27:01.482Z
/* ORBITAL DATA ELEMENTS */
ASCENDING_NODE_LONGITUDE = 187.81
MAXIMUM_RESOLUTION = 53.5
FOOTPRINT_POINT_LATITUDE = (-14.1409,-14.1454,-14.1472,-14.148, -13.6289,-13.1155,-12.6074,-12.0941, -11.5994,-11.0995,-10.613,-9.88656, -9.41711,-8.94967,-8.48866,-7.80542, -7.35342,-6.91042,-6.46606,-6.03147, -5.59579,-5.16978,-4.53173,-4.11503, -3.49109,-3.08328,-2.67472,-2.26554, -1.85544,-1.44467,-1.03341,-0.621392, -0.208616,0.204791,0.618813,1.23046, 1.57863,1.92714,2.27614,2.62542,2.97526 ,3.32543,3.67614,4.02715,4.37847, 4.73025,5.08036,5.43345,5.78712,6.13535 ,6.7035,6.70366,6.70239,6.36048,6.01893 ,5.66676,5.13852,4.78673,4.43514,4.0839 ,3.73303,3.3826,3.03243,2.68275,2.33349 ,1.98458,1.63621,1.28807,0.68754, 0.273557,-0.139826,-0.55242,-0.964382, -1.37567,-1.78621,-2.19607,-2.60533, -3.01377,-3.42149,-4.0437,-4.46028, -5.09655,-5.52197,-5.95616,-6.39098, -6.83298,-7.27646,-7.72671,-8.17885, -8.63882,-9.3354,-9.80425,-10.5295, -11.2668,-11.76,-12.2577,-12.7701, -13.2811,-13.7976,-14.1409)
FOOTPRINT_POINT_LONGITUDE = (7.25985,6.49649,6.03603,5.51589, 5.52754,5.53866,5.54937,5.56023,5.57038 ,5.58025,5.58954,5.60261,5.61053, 5.61843,5.62614,5.63724,5.6443,5.6502, 5.65804,5.66416,5.67035,5.67624,5.68419 ,5.68917,5.69657,5.70133,5.70597,5.7103 ,5.71488,5.71925,5.72318,5.72713, 5.73113,5.73498,5.73869,5.74438,5.74735 ,5.75012,5.75295,5.75551,5.7583,5.76094 ,5.7638,5.76647,5.76899,5.77166,5.77076 ,5.77442,5.77846,5.78003,5.98915, 6.35894,6.95152,6.9549,6.95827,6.96196, 6.96743,6.97138,6.97579,6.98036,6.98506 ,6.98973,6.99484,6.99984,7.00493, 7.01028,7.01547,7.02123,7.03096,7.03816 ,7.04566,7.05304,7.06069,7.06855, 7.07649,7.08466,7.0933,7.10192,7.11079, 7.12488,7.13408,7.14895,7.15905,7.17011 ,7.18178,7.19368,7.20573,7.21805, 7.23094,7.24378,7.26507,7.27834,7.30031 ,7.32355,7.33963,7.35646,7.37378, 7.39115,7.40992,7.25985)
ORBIT_NUMBER = 1932
ORBITAL_ECCENTRICITY = 0.571
ORBITAL_INCLINATION = 86.56
ORBITAL_SEMIMAJOR_AXIS = 8615.54
PERIAPSIS_ALTITUDE = 303.48
PERIAPSIS_ARGUMENT_ANGLE = 19.26
PERIAPSIS_TIME = 2005-07-17T17:30:08.000Z
SPACECRAFT_ORIENTATION = (0.0,1.0,0.0)
^MEX_ORIENTATION_DESC = "MEX_ORIENTATION_DESC.TXT"
SPACECRAFT_POINTING_MODE = ACROSSTRACK
^MEX_POINTING_DESC = "MEX_POINTING_DESC.TXT"
RIGHT_ASCENSION = -1e+32
DECLINATION = -1e+32
OFFSET_ANGLE = -0.08
SPACECRAFT_SOLAR_DISTANCE = 2.06639e+08
TARGET_NAME = MARS
/* CAMERA DATA ELEMENTS */
DETECTOR_TEMPERATURE = 20.2056
FOCAL_PLANE_TEMPERATURE = 9.195
INST_CMPRS_NAME = "DISCRETE COSINE TRANSFORMATION (DCT)"
INST_CMPRS_RATIO = 13.2524
INST_CMPRS_QUALITY = 0
INST_CMPRS_QUANTZ_TBL_ID = 0
INSTRUMENT_TEMPERATURE = 14.4964
LENS_TEMPERATURE = 9.8067
MACROPIXEL_SIZE = 4
MISSING_FRAMES = 3
PIXEL_SUBSAMPLING_FLAG = N
SIGNAL_CHAIN_ID = 2
/* RADIOMETRIC DATA ELEMENTS */
BANDWIDTH = 88.0
CENTER_FILTER_WAVELENGTH = 538.0
RADIANCE_OFFSET = 0.989258
RADIANCE_SCALING_FACTOR = 0.00328806
REFLECTANCE_SCALING_FACTOR = 0.00012088
MEX:REFLECTANCE_OFFSET = 0.0363683
/* IMAGE OBJECT DEFINITIONS */
OBJECT = IMAGE
  INTERCHANGE_FORMAT = BINARY
  LINES = 24719
  LINE_SAMPLES = 2322
  SAMPLE_TYPE = UNSIGNED_INTEGER
  SAMPLE_BITS = 8
  BANDS = 1
  BAND_STORAGE_TYPE = BAND_SEQUENTIAL
  MAXIMUM = 317
  MEAN = 221.657
  MINIMUM = 163
  STANDARD_DEVIATION = 25.582
END_OBJECT = IMAGE
/* MAP OBJECT DEFINITIONS */
OBJECT = IMAGE_MAP_PROJECTION
  ^DATA_SET_MAP_PROJECTION_CATALOG= "DSMAP.CAT"
  A_AXIS_RADIUS = 3396.0
  B_AXIS_RADIUS = 3396.0
  C_AXIS_RADIUS = 3396.0
  CENTER_LATITUDE = 0.0
  CENTER_LONGITUDE = 6.0
  COORDINATE_SYSTEM_NAME = PLANETOGRAPHIC
  COORDINATE_SYSTEM_TYPE = "BODY-FIXED ROTATING"
  EASTERNMOST_LONGITUDE = 7.40992
  FIRST_STANDARD_PARALLEL = "N/A"
  LINE_FIRST_PIXEL = 1
  LINE_LAST_PIXEL = 24719
  LINE_PROJECTION_OFFSET = 7930.375
  MAP_PROJECTION_ROTATION = 0.0
  MAP_PROJECTION_TYPE = SINUSOIDAL
  MAP_RESOLUTION = 1185.42760773333
  MAP_SCALE = 0.05
  MAXIMUM_LATITUDE = 6.70366
  MINIMUM_LATITUDE = -14.148
  POSITIVE_LONGITUDE_DIRECTION = EAST
  REFERENCE_LATITUDE = "N/A"
  REFERENCE_LONGITUDE = "N/A"
  SAMPLE_FIRST_PIXEL = 1
  SAMPLE_LAST_PIXEL = 2322
  SAMPLE_PROJECTION_OFFSET = 622.625
  SECOND_STANDARD_PARALLEL = "N/A"
  WESTERNMOST_LONGITUDE = 5.51589
END_OBJECT = IMAGE_MAP_PROJECTION
/* The JPEG2000 image data file associated with this label. */
OBJECT = COMPRESSED_FILE
  FILE_NAME = "H1932_0001_GR3.JP2"
  RECORD_TYPE = UNDEFINED
  FILE_RECORDS = UNK
  ENCODING_TYPE = "JP2"
  INTERCHANGE_FORMAT = BINARY
  UNCOMPRESSED_FILE_NAME = "H1932_0001_GR3.IMG"
  REQUIRED_STORAGE_BYTES = "57420738"
  ^DESCRIPTION = "JP2INFO.TXT"
END_OBJECT = COMPRESSED_FILE
END
