PDS_VERSION_ID = PDS3
/* FILE DATA ELEMENTS */
RECORD_TYPE = STREAM
/* POINTERS TO DATA OBJECTS */
^COMPRESSED_FILE = "H1932_0001_ND3.JP2"
/* IDENTIFICATION DATA ELEMENTS */
DATA_SET_ID = "MEX-M-HRSC-5-REFDR-MAPPROJECTED-V3.0"
DATA_SET_NAME = "MARS EXPRESS HRSC MAP PROJECTED REFDR V3.0"
DETECTOR_ID = MEX_HRSC_NADIR
EVENT_TYPE = "MARS-REGIONAL-MAPPING-Im-Fl-La"
INSTRUMENT_HOST_ID = MEX
INSTRUMENT_HOST_NAME = "MARS EXPRESS"
INSTRUMENT_ID = HRSC
INSTRUMENT_NAME = "HIGH RESOLUTION STEREO CAMERA"
MISSION_NAME = "MARS EXPRESS"
MISSION_PHASE_NAME = MR_Phase_7
PROCESSING_LEVEL_ID = 3
PRODUCT_CREATION_TIME = 2016-03-09T16:25:58.000Z
PRODUCT_ID = "H1932_0001_ND3.JP2"
RELEASE_ID = 0025
REVISION_ID = 0000
/* QUALITY DATA ELEMENTS */
DATA_QUALITY_ID = 1
DATA_QUALITY_DESC = "Data calculated based on original SPICE kernels"
/* TIME DATA ELEMENTS */
SPACECRAFT_CLOCK_START_COUNT = "1/0069700810.57151"
SPACECRAFT_CLOCK_STOP_COUNT = "1/0069701240.15746"
START_TIME = 2005-07-17T17:21:19.236Z
STOP_TIME = 2005-07-17T17:26:56.197Z
/* ORBITAL DATA ELEMENTS */
ASCENDING_NODE_LONGITUDE = 187.81
MAXIMUM_RESOLUTION = 13.5
FOOTPRINT_POINT_LATITUDE = (-14.1495,-14.1527,-14.1562,-14.1594, -14.1606,-13.6383,-13.1236,-12.6144, -12.1105,-11.6114,-11.1205,-10.3926, -9.67665,-8.97231,-8.50774,-8.0499, -7.37094,-6.92155,-6.4809,-6.03979, -5.60763,-5.17442,-4.75075,-4.11581, -3.70092,-3.07998,-2.67388,-2.26695, -1.85925,-1.45074,-1.04142,-0.631337, -0.220544,0.191009,0.603283,1.01628, 1.62071,1.96814,2.31603,2.66439,3.01318 ,3.36243,3.71209,4.06219,4.41272,4.9395 ,5.29106,5.64275,5.9951,6.34741,6.68865 ,6.68985,6.69034,6.6906,6.34914,5.99703 ,5.46899,5.11743,4.76627,4.41553,4.0652 ,3.71529,3.3658,3.01675,2.66814,2.31998 ,1.97228,1.62503,1.02078,0.608005, 0.195935,-0.215392,-0.626004,-1.03584, -1.44495,-1.85326,-2.26078,-2.66749, -3.0734,-3.69405,-4.10873,-4.74341, -5.16687,-5.59992,-6.03189,-6.47275, -6.91328,-7.3624,-8.04108,-8.49876, -8.96316,-9.66721,-10.3828,-11.1106, -11.6013,-12.1002,-12.6041,-13.1131, -13.6276,-14.1495)
FOOTPRINT_POINT_LONGITUDE = (7.43433,7.08921,6.64891,6.07573, 5.75088,5.50394,5.51573,5.52702,5.53831 ,5.54903,5.55924,5.57376,5.58684, 5.59951,5.60767,5.61573,5.62711,5.63325 ,5.64138,5.64777,5.65433,5.6607,5.66644 ,5.67443,5.67966,5.68734,5.69216,5.6967 ,5.70163,5.70612,5.71018,5.71418, 5.71862,5.72274,5.72684,5.73079,5.73631 ,5.73921,5.74216,5.74492,5.74785, 5.75059,5.75365,5.75641,5.75909,5.76026 ,5.76252,5.76791,5.76978,5.77171, 5.77393,6.25018,6.51782,6.95476,6.95824 ,6.96182,6.96749,6.97124,6.97535, 6.97984,6.98452,6.98933,6.99415,6.99931 ,7.00438,7.00964,7.0151,7.02039,7.03031 ,7.03748,7.04476,7.05248,7.06002, 7.06803,7.07578,7.08399,7.09233,7.10103 ,7.10978,7.12391,7.1335,7.14773,7.15831 ,7.16896,7.18019,7.19246,7.2045,7.21712 ,7.2364,7.24952,7.26328,7.28469,7.30678 ,7.32979,7.34612,7.36323,7.38073, 7.39864,7.41722,7.43433)
ORBIT_NUMBER = 1932
ORBITAL_ECCENTRICITY = 0.571
ORBITAL_INCLINATION = 86.56
ORBITAL_SEMIMAJOR_AXIS = 8615.54
PERIAPSIS_ALTITUDE = 303.48
PERIAPSIS_ARGUMENT_ANGLE = 19.26
PERIAPSIS_TIME = 2005-07-17T17:30:08.000Z
SPACECRAFT_ORIENTATION = (0.0,1.0,0.0)
^MEX_ORIENTATION_DESC = "MEX_ORIENTATION_DESC.TXT"
SPACECRAFT_POINTING_MODE = ACROSSTRACK
^MEX_POINTING_DESC = "MEX_POINTING_DESC.TXT"
RIGHT_ASCENSION = -1e+32
DECLINATION = -1e+32
OFFSET_ANGLE = -0.08
SPACECRAFT_SOLAR_DISTANCE = 2.06639e+08
TARGET_NAME = MARS
/* CAMERA DATA ELEMENTS */
DETECTOR_TEMPERATURE = 20.2056
FOCAL_PLANE_TEMPERATURE = 9.195
INST_CMPRS_NAME = "DISCRETE COSINE TRANSFORMATION (DCT)"
INST_CMPRS_RATIO = 6.36177
INST_CMPRS_QUALITY = 0
INST_CMPRS_QUANTZ_TBL_ID = 0
INSTRUMENT_TEMPERATURE = 14.4964
LENS_TEMPERATURE = 9.8067
MACROPIXEL_SIZE = 1
MISSING_FRAMES = 0
PIXEL_SUBSAMPLING_FLAG = N
SIGNAL_CHAIN_ID = 0
/* RADIOMETRIC DATA ELEMENTS */
BANDWIDTH = 177.0
CENTER_FILTER_WAVELENGTH = 677.5
RADIANCE_OFFSET = 2.25754
RADIANCE_SCALING_FACTOR = 0.0100535
REFLECTANCE_SCALING_FACTOR = 0.000228049
MEX:REFLECTANCE_OFFSET = 0.0512088
/* IMAGE OBJECT DEFINITIONS */
OBJECT = IMAGE
  INTERCHANGE_FORMAT = BINARY
  LINES = 98873
  LINE_SAMPLES = 9287
  SAMPLE_TYPE = UNSIGNED_INTEGER
  SAMPLE_BITS = 8
  BANDS = 1
  BAND_STORAGE_TYPE = BAND_SEQUENTIAL
  MAXIMUM = 264
  MEAN = 160.666
  MINIMUM = 38
  STANDARD_DEVIATION = 20.6006
END_OBJECT = IMAGE
/* MAP OBJECT DEFINITIONS */
OBJECT = IMAGE_MAP_PROJECTION
  ^DATA_SET_MAP_PROJECTION_CATALOG= "DSMAP.CAT"
  A_AXIS_RADIUS = 3396.0
  B_AXIS_RADIUS = 3396.0
  C_AXIS_RADIUS = 3396.0
  CENTER_LATITUDE = 0.0
  CENTER_LONGITUDE = 6.0
  COORDINATE_SYSTEM_NAME = PLANETOGRAPHIC
  COORDINATE_SYSTEM_TYPE = "BODY-FIXED ROTATING"
  EASTERNMOST_LONGITUDE = 7.43433
  FIRST_STANDARD_PARALLEL = "N/A"
  LINE_FIRST_PIXEL = 1
  LINE_LAST_PIXEL = 98873
  LINE_PROJECTION_OFFSET = 31723.0
  MAP_PROJECTION_ROTATION = 0.0
  MAP_PROJECTION_TYPE = SINUSOIDAL
  MAP_RESOLUTION = 4741.71043093333
  MAP_SCALE = 0.0125
  MAXIMUM_LATITUDE = 6.6906
  MINIMUM_LATITUDE = -14.1606
  POSITIVE_LONGITUDE_DIRECTION = EAST
  REFERENCE_LATITUDE = "N/A"
  REFERENCE_LONGITUDE = "N/A"
  SAMPLE_FIRST_PIXEL = 1
  SAMPLE_LAST_PIXEL = 9287
  SAMPLE_PROJECTION_OFFSET = 2492.0
  SECOND_STANDARD_PARALLEL = "N/A"
  WESTERNMOST_LONGITUDE = 5.50394
END_OBJECT = IMAGE_MAP_PROJECTION
/* The JPEG2000 image data file associated with this label. */
OBJECT = COMPRESSED_FILE
  FILE_NAME = "H1932_0001_ND3.JP2"
  RECORD_TYPE = UNDEFINED
  FILE_RECORDS = UNK
  ENCODING_TYPE = "JP2"
  INTERCHANGE_FORMAT = BINARY
  UNCOMPRESSED_FILE_NAME = "H1932_0001_ND3.IMG"
  REQUIRED_STORAGE_BYTES = "918270699"
  ^DESCRIPTION = "JP2INFO.TXT"
END_OBJECT = COMPRESSED_FILE
END
