PDS_VERSION_ID = PDS3
/* FILE DATA ELEMENTS */
RECORD_TYPE = STREAM
/* POINTERS TO DATA OBJECTS */
^COMPRESSED_FILE = "H1933_0001_S13.JP2"
/* IDENTIFICATION DATA ELEMENTS */
DATA_SET_ID = "MEX-M-HRSC-5-REFDR-MAPPROJECTED-V3.0"
DATA_SET_NAME = "MARS EXPRESS HRSC MAP PROJECTED REFDR V3.0"
DETECTOR_ID = MEX_HRSC_S1
EVENT_TYPE = "MARS-REGIONAL-MAPPING-Vo-Te"
INSTRUMENT_HOST_ID = MEX
INSTRUMENT_HOST_NAME = "MARS EXPRESS"
INSTRUMENT_ID = HRSC
INSTRUMENT_NAME = "HIGH RESOLUTION STEREO CAMERA"
MISSION_NAME = "MARS EXPRESS"
MISSION_PHASE_NAME = MR_Phase_7
PROCESSING_LEVEL_ID = 3
PRODUCT_CREATION_TIME = 2016-03-09T16:25:58.000Z
PRODUCT_ID = "H1933_0001_S13.JP2"
RELEASE_ID = 0025
REVISION_ID = 0000
/* QUALITY DATA ELEMENTS */
DATA_QUALITY_ID = 1
DATA_QUALITY_DESC = "Data calculated based on original SPICE kernels"
/* TIME DATA ELEMENTS */
SPACECRAFT_CLOCK_START_COUNT = "1/0069725263.56200"
SPACECRAFT_CLOCK_STOP_COUNT = "1/0069725507.30681"
START_TIME = 2005-07-18T00:09:01.446Z
STOP_TIME = 2005-07-18T00:11:52.701Z
/* ORBITAL DATA ELEMENTS */
ASCENDING_NODE_LONGITUDE = 187.78
MAXIMUM_RESOLUTION = 26
FOOTPRINT_POINT_LATITUDE = (-0.185988,-0.183887,-0.182035, -0.180407,-0.179018,-0.149887,0.0874878 ,0.444045,0.681741,0.919547,1.27618, 1.63314,1.99031,2.22836,2.58631,2.82493 ,3.06338,3.18307,3.42175,3.77938, 4.01804,4.25351,4.48433,4.71524,5.06136 ,5.4072,5.63719,5.86774,6.09796,6.32652 ,6.66018,6.88264,7.10572,7.32856, 7.55159,7.88594,8.10873,8.33159,8.55436 ,8.77731,9.10788,9.32296,9.53827, 9.75333,9.96828,10.2908,10.5059,10.8284 ,11.0435,11.2696,11.2678,11.265,11.2622 ,11.2572,11.2507,11.0361,10.8208, 10.6056,10.3908,10.1758,9.96103,9.74589 ,9.4231,9.20796,8.99256,8.65904,8.43613 ,8.2132,7.99005,7.65552,7.43248,7.20902 ,6.87399,6.53979,6.31835,5.9747,5.7441, 5.39887,5.16834,4.93753,4.7069,4.47662, 4.24626,4.01131,3.77277,3.53449,3.17716 ,2.93939,2.70104,2.34435,2.10642, 1.86883,1.63116,1.27469,0.918516, 0.680992,0.324738,0.0869103,-0.150324, -0.185988)
FOOTPRINT_POINT_LONGITUDE = (268.511,268.314,268.117,267.921, 267.725,267.568,267.57,267.573,267.575, 267.576,267.579,267.581,267.584,267.585 ,267.588,267.589,267.591,267.592, 267.593,267.595,267.597,267.598,267.599 ,267.601,267.603,267.604,267.605, 267.606,267.607,267.608,267.61,267.611, 267.612,267.613,267.614,267.615,267.616 ,267.617,267.618,267.618,267.62,267.621 ,267.621,267.622,267.623,267.624, 267.625,267.626,267.627,267.69,267.826, 268.005,268.174,268.439,268.72,268.72, 268.721,268.721,268.722,268.722,268.723 ,268.724,268.725,268.726,268.727, 268.728,268.729,268.731,268.732,268.734 ,268.736,268.737,268.74,268.742,268.743 ,268.746,268.748,268.751,268.753, 268.755,268.757,268.759,268.762,268.764 ,268.767,268.77,268.774,268.777,268.78, 268.785,268.788,268.791,268.794,268.799 ,268.804,268.808,268.813,268.817, 268.821,268.511)
ORBIT_NUMBER = 1933
ORBITAL_ECCENTRICITY = 0.571
ORBITAL_INCLINATION = 86.58
ORBITAL_SEMIMAJOR_AXIS = 8625.25
PERIAPSIS_ALTITUDE = 302.67
PERIAPSIS_ARGUMENT_ANGLE = 19.1
PERIAPSIS_TIME = 2005-07-18T00:13:25.000Z
SPACECRAFT_ORIENTATION = (0.0,1.0,0.0)
^MEX_ORIENTATION_DESC = "MEX_ORIENTATION_DESC.TXT"
SPACECRAFT_POINTING_MODE = ACROSSTRACK
^MEX_POINTING_DESC = "MEX_POINTING_DESC.TXT"
RIGHT_ASCENSION = -1e+32
DECLINATION = -1e+32
OFFSET_ANGLE = -0.2
SPACECRAFT_SOLAR_DISTANCE = 2.06639e+08
TARGET_NAME = MARS
/* CAMERA DATA ELEMENTS */
DETECTOR_TEMPERATURE = 19.7978
FOCAL_PLANE_TEMPERATURE = 10.0106
INST_CMPRS_NAME = "DISCRETE COSINE TRANSFORMATION (DCT)"
INST_CMPRS_RATIO = 9.57516
INST_CMPRS_QUALITY = 0
INST_CMPRS_QUANTZ_TBL_ID = 0
INSTRUMENT_TEMPERATURE = 14.2925
LENS_TEMPERATURE = 10.2145
MACROPIXEL_SIZE = 2
MISSING_FRAMES = 0
PIXEL_SUBSAMPLING_FLAG = N
SIGNAL_CHAIN_ID = 1
/* RADIOMETRIC DATA ELEMENTS */
BANDWIDTH = 180.0
CENTER_FILTER_WAVELENGTH = 677.0
RADIANCE_OFFSET = 2.55763
RADIANCE_SCALING_FACTOR = 0.0110329
REFLECTANCE_SCALING_FACTOR = 0.000245787
MEX:REFLECTANCE_OFFSET = 0.0569778
/* IMAGE OBJECT DEFINITIONS */
OBJECT = IMAGE
  INTERCHANGE_FORMAT = BINARY
  LINES = 27097
  LINE_SAMPLES = 3318
  SAMPLE_TYPE = UNSIGNED_INTEGER
  SAMPLE_BITS = 8
  BANDS = 1
  BAND_STORAGE_TYPE = BAND_SEQUENTIAL
  MAXIMUM = 265
  MEAN = 162.367
  MINIMUM = 106
  STANDARD_DEVIATION = 21.4228
END_OBJECT = IMAGE
/* MAP OBJECT DEFINITIONS */
OBJECT = IMAGE_MAP_PROJECTION
  ^DATA_SET_MAP_PROJECTION_CATALOG= "DSMAP.CAT"
  A_AXIS_RADIUS = 3396.0
  B_AXIS_RADIUS = 3396.0
  C_AXIS_RADIUS = 3396.0
  CENTER_LATITUDE = 0.0
  CENTER_LONGITUDE = 268.0
  COORDINATE_SYSTEM_NAME = PLANETOGRAPHIC
  COORDINATE_SYSTEM_TYPE = "BODY-FIXED ROTATING"
  EASTERNMOST_LONGITUDE = 268.821
  FIRST_STANDARD_PARALLEL = "N/A"
  LINE_FIRST_PIXEL = 1
  LINE_LAST_PIXEL = 27097
  LINE_PROJECTION_OFFSET = 26635.0
  MAP_PROJECTION_ROTATION = 0.0
  MAP_PROJECTION_TYPE = SINUSOIDAL
  MAP_RESOLUTION = 2370.85521546667
  MAP_SCALE = 0.025
  MAXIMUM_LATITUDE = 11.2696
  MINIMUM_LATITUDE = -0.185988
  POSITIVE_LONGITUDE_DIRECTION = EAST
  REFERENCE_LATITUDE = "N/A"
  REFERENCE_LONGITUDE = "N/A"
  SAMPLE_FIRST_PIXEL = 1
  SAMPLE_LAST_PIXEL = 3318
  SAMPLE_PROJECTION_OFFSET = 1162.0
  SECOND_STANDARD_PARALLEL = "N/A"
  WESTERNMOST_LONGITUDE = 267.568
END_OBJECT = IMAGE_MAP_PROJECTION
/* The JPEG2000 image data file associated with this label. */
OBJECT = COMPRESSED_FILE
  FILE_NAME = "H1933_0001_S13.JP2"
  RECORD_TYPE = UNDEFINED
  FILE_RECORDS = UNK
  ENCODING_TYPE = "JP2"
  INTERCHANGE_FORMAT = BINARY
  UNCOMPRESSED_FILE_NAME = "H1933_0001_S13.IMG"
  REQUIRED_STORAGE_BYTES = "89931072"
  ^DESCRIPTION = "JP2INFO.TXT"
END_OBJECT = COMPRESSED_FILE
END
