PDS_VERSION_ID = PDS3
/* FILE DATA ELEMENTS */
RECORD_TYPE = STREAM
/* POINTERS TO DATA OBJECTS */
^COMPRESSED_FILE = "H1936_0008_SR3.JP2"
/* IDENTIFICATION DATA ELEMENTS */
DATA_SET_ID = "MEX-M-HRSC-5-REFDR-MAPPROJECTED-V3.0"
DATA_SET_NAME = "MARS EXPRESS HRSC MAP PROJECTED REFDR V3.0"
DETECTOR_ID = MEX_HRSC_SRC
EVENT_TYPE = "MARS-REGIONAL-MAPPING-Fl-Gl-Lc"
INSTRUMENT_HOST_ID = MEX
INSTRUMENT_HOST_NAME = "MARS EXPRESS"
INSTRUMENT_ID = HRSC
INSTRUMENT_NAME = "HIGH RESOLUTION STEREO CAMERA"
MISSION_NAME = "MARS EXPRESS"
MISSION_PHASE_NAME = MR_Phase_7
PROCESSING_LEVEL_ID = 3
PRODUCT_CREATION_TIME = 2016-03-09T16:25:58.000Z
PRODUCT_ID = "H1936_0008_SR3.JP2"
RELEASE_ID = 0025
REVISION_ID = 0000
/* QUALITY DATA ELEMENTS */
DATA_QUALITY_ID = 1
DATA_QUALITY_DESC = "Data calculated based on original SPICE kernels"
/* TIME DATA ELEMENTS */
SPACECRAFT_CLOCK_START_COUNT = "1/0069797685.57308"
SPACECRAFT_CLOCK_STOP_COUNT = "1/0069798023.06850"
IMAGE_TIME = 2005-07-18T20:17:15.624Z
START_TIME = 2005-07-18T20:17:15.621Z
STOP_TIME = 2005-07-18T20:17:15.626Z
/* ORBITAL DATA ELEMENTS */
ASCENDING_NODE_LONGITUDE = 187.72
MAXIMUM_RESOLUTION = 3.695
FOOTPRINT_POINT_LATITUDE = (-3.44016,-3.43735,-3.43411,-3.43205, -3.42955,-3.42662,-3.42481,-3.42225, -3.42032,-3.41677,-3.41427,-3.41202, -3.40934,-3.40554,-3.40254,-3.39967, -3.39699,-3.39487,-3.39231,-3.38963, -3.38738,-3.38476,-3.38314,-3.3809, -3.37983,-3.37981,-3.3798,-3.37978, -3.37976,-3.37975,-3.37973,-3.37972, -3.3797,-3.37968,-3.37967,-3.37965, -3.37963,-3.37962,-3.3796,-3.37959, -3.37957,-3.37955,-3.37954,-3.37952, -3.37951,-3.37949,-3.37947,-3.37946, -3.37944,-3.37999,-3.38355,-3.38617, -3.38785,-3.39066,-3.39416,-3.39647, -3.3989,-3.40052,-3.40321,-3.40676, -3.40907,-3.41082,-3.41325,-3.41519, -3.41812,-3.41987,-3.42255,-3.42474, -3.42742,-3.42967,-3.43154,-3.43472, -3.43797,-3.44184,-3.44229,-3.44231, -3.44232,-3.44234,-3.44235,-3.44237, -3.44238,-3.44239,-3.44241,-3.44242, -3.44244,-3.44245,-3.44247,-3.44248, -3.4425,-3.44251,-3.44253,-3.44254, -3.44256,-3.44257,-3.44259,-3.4426, -3.44262,-3.44263,-3.44265,-3.44016)
FOOTPRINT_POINT_LONGITUDE = (333.523,333.523,333.523,333.523, 333.523,333.523,333.523,333.523,333.523 ,333.523,333.523,333.523,333.523, 333.523,333.523,333.523,333.523,333.523 ,333.523,333.523,333.523,333.523, 333.523,333.523,333.524,333.527,333.529 ,333.532,333.534,333.537,333.539, 333.542,333.544,333.547,333.549,333.552 ,333.554,333.557,333.559,333.562, 333.564,333.567,333.57,333.572,333.575, 333.577,333.58,333.582,333.585,333.587, 333.587,333.587,333.587,333.587,333.587 ,333.587,333.587,333.587,333.587, 333.587,333.587,333.587,333.587,333.587 ,333.587,333.587,333.587,333.587, 333.587,333.587,333.587,333.587,333.587 ,333.587,333.585,333.582,333.58,333.577 ,333.575,333.572,333.57,333.567,333.565 ,333.562,333.56,333.557,333.555,333.552 ,333.55,333.547,333.545,333.542,333.54, 333.537,333.535,333.532,333.53,333.527, 333.525,333.523)
ORBIT_NUMBER = 1936
ORBITAL_ECCENTRICITY = 0.571
ORBITAL_INCLINATION = 86.58
ORBITAL_SEMIMAJOR_AXIS = 8611.92
PERIAPSIS_ALTITUDE = 303.13
PERIAPSIS_ARGUMENT_ANGLE = 18.54
PERIAPSIS_TIME = 2005-07-18T20:22:54.000Z
SPACECRAFT_ORIENTATION = (0.0,1.0,0.0)
^MEX_ORIENTATION_DESC = "MEX_ORIENTATION_DESC.TXT"
SPACECRAFT_POINTING_MODE = ACROSSTRACK
^MEX_POINTING_DESC = "MEX_POINTING_DESC.TXT"
RIGHT_ASCENSION = -1e+32
DECLINATION = -1e+32
OFFSET_ANGLE = -0.35
SPACECRAFT_SOLAR_DISTANCE = 2.06641e+08
TARGET_NAME = MARS
/* CAMERA DATA ELEMENTS */
BUFFER_MODE_ID = BUFFER_8
EXPOSURE_DURATION = 5.04
INST_CMPRS_NAME = NONE
INST_CMPRS_RATIO = 1.0
INST_CMPRS_QUALITY = -2147483648
INST_CMPRS_QUANTZ_TBL_ID = -2147483648
INSTRUMENT_TEMPERATURE = 11.2121
MISSING_FRAMES = 0
START_BIT = 0
/* RADIOMETRIC DATA ELEMENTS */
BANDWIDTH = 250.0
CENTER_FILTER_WAVELENGTH = 600.0
RADIANCE_OFFSET = -9.99e+31
RADIANCE_SCALING_FACTOR = -9.99e+31
REFLECTANCE_SCALING_FACTOR = -9.99e+31
MEX:REFLECTANCE_OFFSET = -9.99e+31
/* IMAGE OBJECT DEFINITIONS */
OBJECT = IMAGE
  INTERCHANGE_FORMAT = BINARY
  LINES = 1540
  LINE_SAMPLES = 1557
  SAMPLE_TYPE = UNSIGNED_INTEGER
  SAMPLE_BITS = 8
  BANDS = 1
  BAND_STORAGE_TYPE = BAND_SEQUENTIAL
  MAXIMUM = 3603
  MEAN = 3172.95
  MINIMUM = 2660
  STANDARD_DEVIATION = 80.5658
END_OBJECT = IMAGE
/* MAP OBJECT DEFINITIONS */
OBJECT = IMAGE_MAP_PROJECTION
  ^DATA_SET_MAP_PROJECTION_CATALOG= "DSMAP.CAT"
  A_AXIS_RADIUS = 3396.19
  B_AXIS_RADIUS = 3396.19
  C_AXIS_RADIUS = 3396.19
  CENTER_LATITUDE = 0.0
  CENTER_LONGITUDE = 334.0
  COORDINATE_SYSTEM_NAME = PLANETOGRAPHIC
  COORDINATE_SYSTEM_TYPE = "BODY-FIXED ROTATING"
  EASTERNMOST_LONGITUDE = 333.587
  FIRST_STANDARD_PARALLEL = "N/A"
  LINE_FIRST_PIXEL = 1
  LINE_LAST_PIXEL = 1540
  LINE_PROJECTION_OFFSET = -80105.0
  MAP_PROJECTION_ROTATION = 0.0
  MAP_PROJECTION_TYPE = SINUSOIDAL
  MAP_RESOLUTION = 23709.8786048756
  MAP_SCALE = 0.0025
  MAXIMUM_LATITUDE = -3.37944
  MINIMUM_LATITUDE = -3.44265
  POSITIVE_LONGITUDE_DIRECTION = EAST
  REFERENCE_LATITUDE = "N/A"
  REFERENCE_LONGITUDE = "N/A"
  SAMPLE_FIRST_PIXEL = 1
  SAMPLE_LAST_PIXEL = 1557
  SAMPLE_PROJECTION_OFFSET = 11309.0
  SECOND_STANDARD_PARALLEL = "N/A"
  WESTERNMOST_LONGITUDE = 333.523
END_OBJECT = IMAGE_MAP_PROJECTION
/* The JPEG2000 image data file associated with this label. */
OBJECT = COMPRESSED_FILE
  FILE_NAME = "H1936_0008_SR3.JP2"
  RECORD_TYPE = UNDEFINED
  FILE_RECORDS = UNK
  ENCODING_TYPE = "JP2"
  INTERCHANGE_FORMAT = BINARY
  UNCOMPRESSED_FILE_NAME = "H1936_0008_SR3.IMG"
  REQUIRED_STORAGE_BYTES = "2418021"
  ^DESCRIPTION = "JP2INFO.TXT"
END_OBJECT = COMPRESSED_FILE
END
