PDS_VERSION_ID = PDS3
/* FILE DATA ELEMENTS */
RECORD_TYPE = STREAM
/* POINTERS TO DATA OBJECTS */
^COMPRESSED_FILE = "H1937_0006_SR3.JP2"
/* IDENTIFICATION DATA ELEMENTS */
DATA_SET_ID = "MEX-M-HRSC-5-REFDR-MAPPROJECTED-V3.0"
DATA_SET_NAME = "MARS EXPRESS HRSC MAP PROJECTED REFDR V3.0"
DETECTOR_ID = MEX_HRSC_SRC
EVENT_TYPE = "MARS-REGIONAL-STEREO-Vo-Te-Im"
INSTRUMENT_HOST_ID = MEX
INSTRUMENT_HOST_NAME = "MARS EXPRESS"
INSTRUMENT_ID = HRSC
INSTRUMENT_NAME = "HIGH RESOLUTION STEREO CAMERA"
MISSION_NAME = "MARS EXPRESS"
MISSION_PHASE_NAME = MR_Phase_7
PROCESSING_LEVEL_ID = 3
PRODUCT_CREATION_TIME = 2016-03-09T16:25:58.000Z
PRODUCT_ID = "H1937_0006_SR3.JP2"
RELEASE_ID = 0025
REVISION_ID = 0000
/* QUALITY DATA ELEMENTS */
DATA_QUALITY_ID = 1
DATA_QUALITY_DESC = "Data calculated based on original SPICE kernels"
/* TIME DATA ELEMENTS */
SPACECRAFT_CLOCK_START_COUNT = "1/0069821192.57964"
SPACECRAFT_CLOCK_STOP_COUNT = "1/0069821947.54575"
IMAGE_TIME = 2005-07-19T02:55:05.578Z
START_TIME = 2005-07-19T02:55:05.576Z
STOP_TIME = 2005-07-19T02:55:05.581Z
/* ORBITAL DATA ELEMENTS */
ASCENDING_NODE_LONGITUDE = 187.7
MAXIMUM_RESOLUTION = 6.012
FOOTPRINT_POINT_LATITUDE = (-22.5126,-22.5099,-22.5043,-22.4994, -22.4955,-22.4926,-22.4881,-22.4842, -22.4806,-22.4776,-22.4729,-22.4679, -22.465,-22.4617,-22.4568,-22.4512, -22.4434,-22.4396,-22.4349,-22.43, -22.4261,-22.4214,-22.418,-22.4153, -22.4145,-22.4144,-22.4144,-22.4144, -22.4144,-22.4144,-22.4144,-22.4144, -22.4143,-22.4143,-22.4143,-22.4143, -22.4143,-22.4143,-22.4143,-22.4142, -22.4142,-22.4142,-22.4142,-22.4142, -22.4142,-22.4141,-22.4141,-22.4141, -22.4141,-22.4188,-22.4218,-22.4258, -22.4299,-22.4345,-22.4375,-22.4412, -22.4464,-22.4504,-22.455,-22.4577, -22.4632,-22.4675,-22.4709,-22.474, -22.4771,-22.4809,-22.4868,-22.492, -22.4957,-22.5001,-22.5031,-22.5072, -22.5127,-22.5162,-22.5162,-22.5162, -22.5163,-22.5163,-22.5163,-22.5163, -22.5163,-22.5163,-22.5163,-22.5164, -22.5164,-22.5164,-22.5164,-22.5164, -22.5164,-22.5165,-22.5165,-22.5165, -22.5165,-22.5165,-22.5165,-22.5165, -22.5166,-22.5166,-22.5166,-22.5126)
FOOTPRINT_POINT_LONGITUDE = (234.865,234.865,234.864,234.864, 234.864,234.864,234.864,234.864,234.864 ,234.864,234.864,234.864,234.864, 234.864,234.864,234.864,234.864,234.864 ,234.864,234.864,234.864,234.864, 234.864,234.864,234.87,234.874,234.879, 234.883,234.887,234.892,234.896,234.9, 234.905,234.909,234.914,234.918,234.922 ,234.927,234.931,234.936,234.94,234.944 ,234.949,234.953,234.957,234.962, 234.966,234.971,234.975,234.976,234.976 ,234.976,234.976,234.976,234.976, 234.976,234.976,234.976,234.976,234.976 ,234.976,234.976,234.976,234.976, 234.976,234.976,234.976,234.976,234.976 ,234.976,234.976,234.976,234.976, 234.974,234.969,234.965,234.961,234.956 ,234.952,234.947,234.943,234.939, 234.934,234.93,234.925,234.921,234.917, 234.912,234.908,234.903,234.899,234.895 ,234.89,234.886,234.882,234.877,234.873 ,234.868,234.865,234.865)
ORBIT_NUMBER = 1937
ORBITAL_ECCENTRICITY = 0.572
ORBITAL_INCLINATION = 86.57
ORBITAL_SEMIMAJOR_AXIS = 8627.92
PERIAPSIS_ALTITUDE = 302.61
PERIAPSIS_ARGUMENT_ANGLE = 18.37
PERIAPSIS_TIME = 2005-07-19T03:06:04.000Z
SPACECRAFT_ORIENTATION = (0.0,1.0,0.0)
^MEX_ORIENTATION_DESC = "MEX_ORIENTATION_DESC.TXT"
SPACECRAFT_POINTING_MODE = ACROSSTRACK
^MEX_POINTING_DESC = "MEX_POINTING_DESC.TXT"
RIGHT_ASCENSION = -1e+32
DECLINATION = -1e+32
OFFSET_ANGLE = 0.1
SPACECRAFT_SOLAR_DISTANCE = 2.06641e+08
TARGET_NAME = MARS
/* CAMERA DATA ELEMENTS */
BUFFER_MODE_ID = BUFFER_8
EXPOSURE_DURATION = 5.04
INST_CMPRS_NAME = NONE
INST_CMPRS_RATIO = 1.0
INST_CMPRS_QUALITY = -2147483648
INST_CMPRS_QUANTZ_TBL_ID = -2147483648
INSTRUMENT_TEMPERATURE = 19.8243
MISSING_FRAMES = 0
START_BIT = 0
/* RADIOMETRIC DATA ELEMENTS */
BANDWIDTH = 250.0
CENTER_FILTER_WAVELENGTH = 600.0
RADIANCE_OFFSET = -9.99e+31
RADIANCE_SCALING_FACTOR = -9.99e+31
REFLECTANCE_SCALING_FACTOR = -9.99e+31
MEX:REFLECTANCE_OFFSET = -9.99e+31
/* IMAGE OBJECT DEFINITIONS */
OBJECT = IMAGE
  INTERCHANGE_FORMAT = BINARY
  LINES = 1261
  LINE_SAMPLES = 1273
  SAMPLE_TYPE = UNSIGNED_INTEGER
  SAMPLE_BITS = 8
  BANDS = 1
  BAND_STORAGE_TYPE = BAND_SEQUENTIAL
  MAXIMUM = 5255
  MEAN = 4790.33
  MINIMUM = 4057
  STANDARD_DEVIATION = 82.4399
END_OBJECT = IMAGE
/* MAP OBJECT DEFINITIONS */
OBJECT = IMAGE_MAP_PROJECTION
  ^DATA_SET_MAP_PROJECTION_CATALOG= "DSMAP.CAT"
  A_AXIS_RADIUS = 3396.19
  B_AXIS_RADIUS = 3396.19
  C_AXIS_RADIUS = 3396.19
  CENTER_LATITUDE = 0.0
  CENTER_LONGITUDE = 235.0
  COORDINATE_SYSTEM_NAME = PLANETOGRAPHIC
  COORDINATE_SYSTEM_TYPE = "BODY-FIXED ROTATING"
  EASTERNMOST_LONGITUDE = 234.976
  FIRST_STANDARD_PARALLEL = "N/A"
  LINE_FIRST_PIXEL = 1
  LINE_LAST_PIXEL = 1261
  LINE_PROJECTION_OFFSET = -265620.0
  MAP_PROJECTION_ROTATION = 0.0
  MAP_PROJECTION_TYPE = SINUSOIDAL
  MAP_RESOLUTION = 11854.9393024378
  MAP_SCALE = 0.005
  MAXIMUM_LATITUDE = -22.4141
  MINIMUM_LATITUDE = -22.5166
  POSITIVE_LONGITUDE_DIRECTION = EAST
  REFERENCE_LATITUDE = "N/A"
  REFERENCE_LONGITUDE = "N/A"
  SAMPLE_FIRST_PIXEL = 1
  SAMPLE_LAST_PIXEL = 1273
  SAMPLE_PROJECTION_OFFSET = 1516.0
  SECOND_STANDARD_PARALLEL = "N/A"
  WESTERNMOST_LONGITUDE = 234.864
END_OBJECT = IMAGE_MAP_PROJECTION
/* The JPEG2000 image data file associated with this label. */
OBJECT = COMPRESSED_FILE
  FILE_NAME = "H1937_0006_SR3.JP2"
  RECORD_TYPE = UNDEFINED
  FILE_RECORDS = UNK
  ENCODING_TYPE = "JP2"
  INTERCHANGE_FORMAT = BINARY
  UNCOMPRESSED_FILE_NAME = "H1937_0006_SR3.IMG"
  REQUIRED_STORAGE_BYTES = "1624348"
  ^DESCRIPTION = "JP2INFO.TXT"
END_OBJECT = COMPRESSED_FILE
END
