PDS_VERSION_ID = PDS3
/* FILE DATA ELEMENTS */
RECORD_TYPE = STREAM
/* POINTERS TO DATA OBJECTS */
^COMPRESSED_FILE = "H1937_0007_SR3.JP2"
/* IDENTIFICATION DATA ELEMENTS */
DATA_SET_ID = "MEX-M-HRSC-5-REFDR-MAPPROJECTED-V3.0"
DATA_SET_NAME = "MARS EXPRESS HRSC MAP PROJECTED REFDR V3.0"
DETECTOR_ID = MEX_HRSC_SRC
EVENT_TYPE = "MARS-REGIONAL-STEREO-Vo-Te-Im"
INSTRUMENT_HOST_ID = MEX
INSTRUMENT_HOST_NAME = "MARS EXPRESS"
INSTRUMENT_ID = HRSC
INSTRUMENT_NAME = "HIGH RESOLUTION STEREO CAMERA"
MISSION_NAME = "MARS EXPRESS"
MISSION_PHASE_NAME = MR_Phase_7
PROCESSING_LEVEL_ID = 3
PRODUCT_CREATION_TIME = 2016-03-09T16:25:58.000Z
PRODUCT_ID = "H1937_0007_SR3.JP2"
RELEASE_ID = 0025
REVISION_ID = 0000
/* QUALITY DATA ELEMENTS */
DATA_QUALITY_ID = 1
DATA_QUALITY_DESC = "Data calculated based on original SPICE kernels"
/* TIME DATA ELEMENTS */
SPACECRAFT_CLOCK_START_COUNT = "1/0069821192.57964"
SPACECRAFT_CLOCK_STOP_COUNT = "1/0069821947.54575"
IMAGE_TIME = 2005-07-19T02:55:07.213Z
START_TIME = 2005-07-19T02:55:07.211Z
STOP_TIME = 2005-07-19T02:55:07.216Z
/* ORBITAL DATA ELEMENTS */
ASCENDING_NODE_LONGITUDE = 187.7
MAXIMUM_RESOLUTION = 5.996
FOOTPRINT_POINT_LATITUDE = (-22.4259,-22.4232,-22.419,-22.4147, -22.4115,-22.4083,-22.4037,-22.3974, -22.3934,-22.3871,-22.3841,-22.3796, -22.3744,-22.3698,-22.3665,-22.3626, -22.357,-22.3538,-22.3509,-22.3478, -22.3435,-22.3394,-22.3343,-22.3288, -22.3258,-22.325,-22.3249,-22.3249, -22.3249,-22.3249,-22.3249,-22.3249, -22.3249,-22.3248,-22.3248,-22.3248, -22.3248,-22.3248,-22.3248,-22.3248, -22.3247,-22.3247,-22.3247,-22.3247, -22.3247,-22.3247,-22.3246,-22.3246, -22.3246,-22.3268,-22.3313,-22.3348, -22.3402,-22.3435,-22.3468,-22.3516, -22.3549,-22.3591,-22.3626,-22.3654, -22.3688,-22.3738,-22.3768,-22.3814, -22.3842,-22.3886,-22.3938,-22.3973, -22.4018,-22.4082,-22.4123,-22.4161, -22.4211,-22.4247,-22.4264,-22.4264, -22.4265,-22.4265,-22.4265,-22.4265, -22.4265,-22.4265,-22.4266,-22.4266, -22.4266,-22.4266,-22.4266,-22.4266, -22.4267,-22.4267,-22.4267,-22.4267, -22.4267,-22.4267,-22.4267,-22.4268, -22.4268,-22.4268,-22.4268,-22.4259)
FOOTPRINT_POINT_LONGITUDE = (234.864,234.864,234.864,234.864, 234.864,234.864,234.864,234.864,234.864 ,234.864,234.864,234.864,234.864, 234.864,234.864,234.864,234.864,234.864 ,234.864,234.864,234.864,234.864, 234.864,234.864,234.864,234.869,234.873 ,234.877,234.882,234.886,234.89,234.895 ,234.899,234.904,234.908,234.912, 234.917,234.921,234.925,234.93,234.934, 234.938,234.943,234.947,234.952,234.956 ,234.96,234.965,234.969,234.975,234.975 ,234.975,234.975,234.975,234.975, 234.975,234.975,234.975,234.975,234.975 ,234.975,234.975,234.975,234.975, 234.975,234.975,234.975,234.975,234.975 ,234.975,234.975,234.975,234.975, 234.975,234.973,234.969,234.964,234.96, 234.956,234.951,234.947,234.943,234.938 ,234.934,234.929,234.925,234.921, 234.916,234.912,234.907,234.903,234.899 ,234.894,234.89,234.886,234.881,234.877 ,234.872,234.868,234.864)
ORBIT_NUMBER = 1937
ORBITAL_ECCENTRICITY = 0.572
ORBITAL_INCLINATION = 86.57
ORBITAL_SEMIMAJOR_AXIS = 8627.92
PERIAPSIS_ALTITUDE = 302.61
PERIAPSIS_ARGUMENT_ANGLE = 18.37
PERIAPSIS_TIME = 2005-07-19T03:06:04.000Z
SPACECRAFT_ORIENTATION = (0.0,1.0,0.0)
^MEX_ORIENTATION_DESC = "MEX_ORIENTATION_DESC.TXT"
SPACECRAFT_POINTING_MODE = ACROSSTRACK
^MEX_POINTING_DESC = "MEX_POINTING_DESC.TXT"
RIGHT_ASCENSION = -1e+32
DECLINATION = -1e+32
OFFSET_ANGLE = 0.1
SPACECRAFT_SOLAR_DISTANCE = 2.06641e+08
TARGET_NAME = MARS
/* CAMERA DATA ELEMENTS */
BUFFER_MODE_ID = BUFFER_8
EXPOSURE_DURATION = 5.04
INST_CMPRS_NAME = NONE
INST_CMPRS_RATIO = 1.0
INST_CMPRS_QUALITY = -2147483648
INST_CMPRS_QUANTZ_TBL_ID = -2147483648
INSTRUMENT_TEMPERATURE = 19.9769
MISSING_FRAMES = 0
START_BIT = 0
/* RADIOMETRIC DATA ELEMENTS */
BANDWIDTH = 250.0
CENTER_FILTER_WAVELENGTH = 600.0
RADIANCE_OFFSET = -9.99e+31
RADIANCE_SCALING_FACTOR = -9.99e+31
REFLECTANCE_SCALING_FACTOR = -9.99e+31
MEX:REFLECTANCE_OFFSET = -9.99e+31
/* IMAGE OBJECT DEFINITIONS */
OBJECT = IMAGE
  INTERCHANGE_FORMAT = BINARY
  LINES = 1258
  LINE_SAMPLES = 1268
  SAMPLE_TYPE = UNSIGNED_INTEGER
  SAMPLE_BITS = 8
  BANDS = 1
  BAND_STORAGE_TYPE = BAND_SEQUENTIAL
  MAXIMUM = 5341
  MEAN = 4791.41
  MINIMUM = 3988
  STANDARD_DEVIATION = 81.908
END_OBJECT = IMAGE
/* MAP OBJECT DEFINITIONS */
OBJECT = IMAGE_MAP_PROJECTION
  ^DATA_SET_MAP_PROJECTION_CATALOG= "DSMAP.CAT"
  A_AXIS_RADIUS = 3396.19
  B_AXIS_RADIUS = 3396.19
  C_AXIS_RADIUS = 3396.19
  CENTER_LATITUDE = 0.0
  CENTER_LONGITUDE = 235.0
  COORDINATE_SYSTEM_NAME = PLANETOGRAPHIC
  COORDINATE_SYSTEM_TYPE = "BODY-FIXED ROTATING"
  EASTERNMOST_LONGITUDE = 234.975
  FIRST_STANDARD_PARALLEL = "N/A"
  LINE_FIRST_PIXEL = 1
  LINE_LAST_PIXEL = 1258
  LINE_PROJECTION_OFFSET = -264560.0
  MAP_PROJECTION_ROTATION = 0.0
  MAP_PROJECTION_TYPE = SINUSOIDAL
  MAP_RESOLUTION = 11854.9393024378
  MAP_SCALE = 0.005
  MAXIMUM_LATITUDE = -22.3246
  MINIMUM_LATITUDE = -22.4268
  POSITIVE_LONGITUDE_DIRECTION = EAST
  REFERENCE_LATITUDE = "N/A"
  REFERENCE_LONGITUDE = "N/A"
  SAMPLE_FIRST_PIXEL = 1
  SAMPLE_LAST_PIXEL = 1268
  SAMPLE_PROJECTION_OFFSET = 1518.0
  SECOND_STANDARD_PARALLEL = "N/A"
  WESTERNMOST_LONGITUDE = 234.864
END_OBJECT = IMAGE_MAP_PROJECTION
/* The JPEG2000 image data file associated with this label. */
OBJECT = COMPRESSED_FILE
  FILE_NAME = "H1937_0007_SR3.JP2"
  RECORD_TYPE = UNDEFINED
  FILE_RECORDS = UNK
  ENCODING_TYPE = "JP2"
  INTERCHANGE_FORMAT = BINARY
  UNCOMPRESSED_FILE_NAME = "H1937_0007_SR3.IMG"
  REQUIRED_STORAGE_BYTES = "1614164"
  ^DESCRIPTION = "JP2INFO.TXT"
END_OBJECT = COMPRESSED_FILE
END
