PDS_VERSION_ID = PDS3
/* FILE DATA ELEMENTS */
RECORD_TYPE = STREAM
/* POINTERS TO DATA OBJECTS */
^COMPRESSED_FILE = "H1940_0002_SR3.JP2"
/* IDENTIFICATION DATA ELEMENTS */
DATA_SET_ID = "MEX-M-HRSC-5-REFDR-MAPPROJECTED-V3.0"
DATA_SET_NAME = "MARS EXPRESS HRSC MAP PROJECTED REFDR V3.0"
DETECTOR_ID = MEX_HRSC_SRC
EVENT_TYPE = "MARS-REGIONAL-STEREO-Fl-Lc-La"
INSTRUMENT_HOST_ID = MEX
INSTRUMENT_HOST_NAME = "MARS EXPRESS"
INSTRUMENT_ID = HRSC
INSTRUMENT_NAME = "HIGH RESOLUTION STEREO CAMERA"
MISSION_NAME = "MARS EXPRESS"
MISSION_PHASE_NAME = MR_Phase_7
PROCESSING_LEVEL_ID = 3
PRODUCT_CREATION_TIME = 2016-03-09T16:25:58.000Z
PRODUCT_ID = "H1940_0002_SR3.JP2"
RELEASE_ID = 0025
REVISION_ID = 0000
/* QUALITY DATA ELEMENTS */
DATA_QUALITY_ID = 1
DATA_QUALITY_DESC = "Data calculated based on original SPICE kernels"
/* TIME DATA ELEMENTS */
SPACECRAFT_CLOCK_START_COUNT = "1/0069894473.57273"
SPACECRAFT_CLOCK_STOP_COUNT = "1/0069894832.17844"
IMAGE_TIME = 2005-07-19T23:09:30.751Z
START_TIME = 2005-07-19T23:09:30.748Z
STOP_TIME = 2005-07-19T23:09:30.753Z
/* ORBITAL DATA ELEMENTS */
ASCENDING_NODE_LONGITUDE = 187.63
MAXIMUM_RESOLUTION = 3.905
FOOTPRINT_POINT_LATITUDE = (-6.6531,-6.65118,-6.64868,-6.64551, -6.64334,-6.64142,-6.63938,-6.6372, -6.63371,-6.63114,-6.62923,-6.62659, -6.62329,-6.62039,-6.61868,-6.61676, -6.6136,-6.61063,-6.60727,-6.60489, -6.60318,-6.60087,-6.59751,-6.5952, -6.59322,-6.59105,-6.58775,-6.58728, -6.58727,-6.58727,-6.58726,-6.58725, -6.58724,-6.58724,-6.58723,-6.58722, -6.58721,-6.58721,-6.5872,-6.58719, -6.58719,-6.58718,-6.58717,-6.58716, -6.58716,-6.58715,-6.58714,-6.58713, -6.58713,-6.58712,-6.58711,-6.5871, -6.58967,-6.59415,-6.59606,-6.59922, -6.60277,-6.6062,-6.6085,-6.61061, -6.61377,-6.61581,-6.61831,-6.62213, -6.6243,-6.62773,-6.63161,-6.63431, -6.6382,-6.64076,-6.64313,-6.64524, -6.64834,-6.65071,-6.65341,-6.65342, -6.65343,-6.65345,-6.65346,-6.65347, -6.65348,-6.65349,-6.6535,-6.65351, -6.65352,-6.65353,-6.65355,-6.65356, -6.65357,-6.65358,-6.65359,-6.6536, -6.65361,-6.65362,-6.65364,-6.65365, -6.65366,-6.65367,-6.65368,-6.6531)
FOOTPRINT_POINT_LONGITUDE = (299.01,299.01,299.01,299.01,299.01, 299.01,299.01,299.01,299.01,299.01, 299.01,299.01,299.01,299.01,299.01, 299.01,299.01,299.01,299.01,299.01, 299.01,299.01,299.01,299.01,299.01, 299.01,299.01,299.013,299.015,299.018, 299.021,299.023,299.026,299.029,299.031 ,299.034,299.037,299.039,299.042, 299.045,299.048,299.05,299.053,299.056, 299.058,299.061,299.064,299.066,299.069 ,299.072,299.074,299.077,299.078, 299.078,299.078,299.078,299.078,299.078 ,299.078,299.078,299.078,299.078, 299.078,299.078,299.078,299.078,299.078 ,299.078,299.078,299.078,299.078, 299.078,299.078,299.078,299.077,299.074 ,299.072,299.069,299.066,299.064, 299.061,299.058,299.056,299.053,299.05, 299.047,299.045,299.042,299.039,299.037 ,299.034,299.031,299.029,299.026, 299.023,299.021,299.018,299.015,299.013 ,299.01)
ORBIT_NUMBER = 1940
ORBITAL_ECCENTRICITY = 0.571
ORBITAL_INCLINATION = 86.58
ORBITAL_SEMIMAJOR_AXIS = 8617.1
PERIAPSIS_ALTITUDE = 302.31
PERIAPSIS_ARGUMENT_ANGLE = 17.85
PERIAPSIS_TIME = 2005-07-19T23:15:49.000Z
SPACECRAFT_ORIENTATION = (0.0,1.0,0.0)
^MEX_ORIENTATION_DESC = "MEX_ORIENTATION_DESC.TXT"
SPACECRAFT_POINTING_MODE = ACROSSTRACK
^MEX_POINTING_DESC = "MEX_POINTING_DESC.TXT"
RIGHT_ASCENSION = -1e+32
DECLINATION = -1e+32
OFFSET_ANGLE = 1.0
SPACECRAFT_SOLAR_DISTANCE = 2.06645e+08
TARGET_NAME = MARS
/* CAMERA DATA ELEMENTS */
BUFFER_MODE_ID = BUFFER_8
EXPOSURE_DURATION = 5.04
INST_CMPRS_NAME = NONE
INST_CMPRS_RATIO = 1.0
INST_CMPRS_QUALITY = -2147483648
INST_CMPRS_QUANTZ_TBL_ID = -2147483648
INSTRUMENT_TEMPERATURE = 10.8822
MISSING_FRAMES = 2
START_BIT = 0
/* RADIOMETRIC DATA ELEMENTS */
BANDWIDTH = 250.0
CENTER_FILTER_WAVELENGTH = 600.0
RADIANCE_OFFSET = -9.99e+31
RADIANCE_SCALING_FACTOR = -9.99e+31
REFLECTANCE_SCALING_FACTOR = -9.99e+31
MEX:REFLECTANCE_OFFSET = -9.99e+31
/* IMAGE OBJECT DEFINITIONS */
OBJECT = IMAGE
  INTERCHANGE_FORMAT = BINARY
  LINES = 830
  LINE_SAMPLES = 848
  SAMPLE_TYPE = UNSIGNED_INTEGER
  SAMPLE_BITS = 8
  BANDS = 1
  BAND_STORAGE_TYPE = BAND_SEQUENTIAL
  MAXIMUM = 4144
  MEAN = 3654.47
  MINIMUM = 3023
  STANDARD_DEVIATION = 81.4336
END_OBJECT = IMAGE
/* MAP OBJECT DEFINITIONS */
OBJECT = IMAGE_MAP_PROJECTION
  ^DATA_SET_MAP_PROJECTION_CATALOG= "DSMAP.CAT"
  A_AXIS_RADIUS = 3396.19
  B_AXIS_RADIUS = 3396.19
  C_AXIS_RADIUS = 3396.19
  CENTER_LATITUDE = 0.0
  CENTER_LONGITUDE = 299.0
  COORDINATE_SYSTEM_NAME = PLANETOGRAPHIC
  COORDINATE_SYSTEM_TYPE = "BODY-FIXED ROTATING"
  EASTERNMOST_LONGITUDE = 299.078
  FIRST_STANDARD_PARALLEL = "N/A"
  LINE_FIRST_PIXEL = 1
  LINE_LAST_PIXEL = 830
  LINE_PROJECTION_OFFSET = -78069.0
  MAP_PROJECTION_ROTATION = 0.0
  MAP_PROJECTION_TYPE = SINUSOIDAL
  MAP_RESOLUTION = 11854.9393024378
  MAP_SCALE = 0.005
  MAXIMUM_LATITUDE = -6.5871
  MINIMUM_LATITUDE = -6.65368
  POSITIVE_LONGITUDE_DIRECTION = EAST
  REFERENCE_LATITUDE = "N/A"
  REFERENCE_LONGITUDE = "N/A"
  SAMPLE_FIRST_PIXEL = 1
  SAMPLE_LAST_PIXEL = 848
  SAMPLE_PROJECTION_OFFSET = -94.0
  SECOND_STANDARD_PARALLEL = "N/A"
  WESTERNMOST_LONGITUDE = 299.01
END_OBJECT = IMAGE_MAP_PROJECTION
/* The JPEG2000 image data file associated with this label. */
OBJECT = COMPRESSED_FILE
  FILE_NAME = "H1940_0002_SR3.JP2"
  RECORD_TYPE = UNDEFINED
  FILE_RECORDS = UNK
  ENCODING_TYPE = "JP2"
  INTERCHANGE_FORMAT = BINARY
  UNCOMPRESSED_FILE_NAME = "H1940_0002_SR3.IMG"
  REQUIRED_STORAGE_BYTES = "722496"
  ^DESCRIPTION = "JP2INFO.TXT"
END_OBJECT = COMPRESSED_FILE
END
