PDS_VERSION_ID = PDS3
/* FILE DATA ELEMENTS */
RECORD_TYPE = STREAM
/* POINTERS TO DATA OBJECTS */
^COMPRESSED_FILE = "H1940_0005_SR3.JP2"
/* IDENTIFICATION DATA ELEMENTS */
DATA_SET_ID = "MEX-M-HRSC-5-REFDR-MAPPROJECTED-V3.0"
DATA_SET_NAME = "MARS EXPRESS HRSC MAP PROJECTED REFDR V3.0"
DETECTOR_ID = MEX_HRSC_SRC
EVENT_TYPE = "MARS-REGIONAL-STEREO-Fl-Lc-La"
INSTRUMENT_HOST_ID = MEX
INSTRUMENT_HOST_NAME = "MARS EXPRESS"
INSTRUMENT_ID = HRSC
INSTRUMENT_NAME = "HIGH RESOLUTION STEREO CAMERA"
MISSION_NAME = "MARS EXPRESS"
MISSION_PHASE_NAME = MR_Phase_7
PROCESSING_LEVEL_ID = 3
PRODUCT_CREATION_TIME = 2016-03-09T16:25:58.000Z
PRODUCT_ID = "H1940_0005_SR3.JP2"
RELEASE_ID = 0025
REVISION_ID = 0000
/* QUALITY DATA ELEMENTS */
DATA_QUALITY_ID = 1
DATA_QUALITY_DESC = "Data calculated based on original SPICE kernels"
/* TIME DATA ELEMENTS */
SPACECRAFT_CLOCK_START_COUNT = "1/0069894473.57273"
SPACECRAFT_CLOCK_STOP_COUNT = "1/0069894832.17844"
IMAGE_TIME = 2005-07-19T23:09:32.386Z
START_TIME = 2005-07-19T23:09:32.383Z
STOP_TIME = 2005-07-19T23:09:32.389Z
/* ORBITAL DATA ELEMENTS */
ASCENDING_NODE_LONGITUDE = 187.63
MAXIMUM_RESOLUTION = 3.896
FOOTPRINT_POINT_LATITUDE = (-6.55221,-6.54905,-6.5453,-6.54208, -6.53971,-6.53629,-6.53385,-6.53122, -6.52938,-6.52622,-6.52385,-6.52043, -6.51813,-6.51616,-6.51399,-6.51083, -6.50675,-6.50425,-6.50096,-6.49866, -6.49524,-6.49215,-6.49004,-6.48833, -6.48635,-6.48634,-6.48634,-6.48633, -6.48632,-6.48632,-6.48631,-6.4863, -6.48629,-6.48629,-6.48628,-6.48627, -6.48626,-6.48626,-6.48625,-6.48624, -6.48624,-6.48623,-6.48622,-6.48621, -6.48621,-6.4862,-6.48619,-6.48618, -6.48618,-6.48722,-6.48985,-6.49189, -6.49517,-6.49747,-6.50115,-6.50469, -6.50673,-6.50995,-6.51185,-6.51396, -6.51698,-6.51915,-6.52151,-6.52361, -6.52552,-6.52729,-6.53025,-6.533, -6.53649,-6.53833,-6.54148,-6.54424, -6.54765,-6.55008,-6.55232,-6.55233, -6.55234,-6.55235,-6.55236,-6.55237, -6.55238,-6.5524,-6.55241,-6.55242, -6.55243,-6.55244,-6.55245,-6.55246, -6.55247,-6.55248,-6.5525,-6.55251, -6.55252,-6.55253,-6.55254,-6.55255, -6.55256,-6.55257,-6.55258,-6.55221)
FOOTPRINT_POINT_LONGITUDE = (299.01,299.01,299.01,299.01,299.01, 299.01,299.01,299.01,299.01,299.01, 299.01,299.01,299.01,299.01,299.01, 299.01,299.01,299.01,299.01,299.01, 299.01,299.01,299.01,299.01,299.012, 299.014,299.017,299.02,299.022,299.025, 299.028,299.03,299.033,299.036,299.038, 299.041,299.044,299.047,299.049,299.052 ,299.055,299.057,299.06,299.063,299.065 ,299.068,299.071,299.073,299.076, 299.078,299.078,299.078,299.078,299.078 ,299.078,299.078,299.078,299.078, 299.078,299.078,299.078,299.078,299.078 ,299.078,299.078,299.078,299.078, 299.078,299.078,299.078,299.078,299.078 ,299.078,299.078,299.078,299.075, 299.073,299.07,299.067,299.065,299.062, 299.059,299.056,299.054,299.051,299.048 ,299.046,299.043,299.04,299.038,299.035 ,299.032,299.03,299.027,299.024,299.022 ,299.019,299.016,299.014,299.01)
ORBIT_NUMBER = 1940
ORBITAL_ECCENTRICITY = 0.571
ORBITAL_INCLINATION = 86.58
ORBITAL_SEMIMAJOR_AXIS = 8617.1
PERIAPSIS_ALTITUDE = 302.31
PERIAPSIS_ARGUMENT_ANGLE = 17.85
PERIAPSIS_TIME = 2005-07-19T23:15:49.000Z
SPACECRAFT_ORIENTATION = (0.0,1.0,0.0)
^MEX_ORIENTATION_DESC = "MEX_ORIENTATION_DESC.TXT"
SPACECRAFT_POINTING_MODE = ACROSSTRACK
^MEX_POINTING_DESC = "MEX_POINTING_DESC.TXT"
RIGHT_ASCENSION = -1e+32
DECLINATION = -1e+32
OFFSET_ANGLE = 1.0
SPACECRAFT_SOLAR_DISTANCE = 2.06645e+08
TARGET_NAME = MARS
/* CAMERA DATA ELEMENTS */
BUFFER_MODE_ID = BUFFER_8
EXPOSURE_DURATION = 5.04
INST_CMPRS_NAME = NONE
INST_CMPRS_RATIO = 1.0
INST_CMPRS_QUALITY = -2147483648
INST_CMPRS_QUANTZ_TBL_ID = -2147483648
INSTRUMENT_TEMPERATURE = 11.0371
MISSING_FRAMES = 0
START_BIT = 0
/* RADIOMETRIC DATA ELEMENTS */
BANDWIDTH = 250.0
CENTER_FILTER_WAVELENGTH = 600.0
RADIANCE_OFFSET = -9.99e+31
RADIANCE_SCALING_FACTOR = -9.99e+31
REFLECTANCE_SCALING_FACTOR = -9.99e+31
MEX:REFLECTANCE_OFFSET = -9.99e+31
/* IMAGE OBJECT DEFINITIONS */
OBJECT = IMAGE
  INTERCHANGE_FORMAT = BINARY
  LINES = 829
  LINE_SAMPLES = 846
  SAMPLE_TYPE = UNSIGNED_INTEGER
  SAMPLE_BITS = 8
  BANDS = 1
  BAND_STORAGE_TYPE = BAND_SEQUENTIAL
  MAXIMUM = 4110
  MEAN = 3624.63
  MINIMUM = 3092
  STANDARD_DEVIATION = 73.5592
END_OBJECT = IMAGE
/* MAP OBJECT DEFINITIONS */
OBJECT = IMAGE_MAP_PROJECTION
  ^DATA_SET_MAP_PROJECTION_CATALOG= "DSMAP.CAT"
  A_AXIS_RADIUS = 3396.19
  B_AXIS_RADIUS = 3396.19
  C_AXIS_RADIUS = 3396.19
  CENTER_LATITUDE = 0.0
  CENTER_LONGITUDE = 299.0
  COORDINATE_SYSTEM_NAME = PLANETOGRAPHIC
  COORDINATE_SYSTEM_TYPE = "BODY-FIXED ROTATING"
  EASTERNMOST_LONGITUDE = 299.078
  FIRST_STANDARD_PARALLEL = "N/A"
  LINE_FIRST_PIXEL = 1
  LINE_LAST_PIXEL = 829
  LINE_PROJECTION_OFFSET = -76872.0
  MAP_PROJECTION_ROTATION = 0.0
  MAP_PROJECTION_TYPE = SINUSOIDAL
  MAP_RESOLUTION = 11854.9393024378
  MAP_SCALE = 0.005
  MAXIMUM_LATITUDE = -6.48618
  MINIMUM_LATITUDE = -6.55258
  POSITIVE_LONGITUDE_DIRECTION = EAST
  REFERENCE_LATITUDE = "N/A"
  REFERENCE_LONGITUDE = "N/A"
  SAMPLE_FIRST_PIXEL = 1
  SAMPLE_LAST_PIXEL = 846
  SAMPLE_PROJECTION_OFFSET = -91.0
  SECOND_STANDARD_PARALLEL = "N/A"
  WESTERNMOST_LONGITUDE = 299.01
END_OBJECT = IMAGE_MAP_PROJECTION
/* The JPEG2000 image data file associated with this label. */
OBJECT = COMPRESSED_FILE
  FILE_NAME = "H1940_0005_SR3.JP2"
  RECORD_TYPE = UNDEFINED
  FILE_RECORDS = UNK
  ENCODING_TYPE = "JP2"
  INTERCHANGE_FORMAT = BINARY
  UNCOMPRESSED_FILE_NAME = "H1940_0005_SR3.IMG"
  REQUIRED_STORAGE_BYTES = "719100"
  ^DESCRIPTION = "JP2INFO.TXT"
END_OBJECT = COMPRESSED_FILE
END
