PDS_VERSION_ID = PDS3
/* FILE DATA ELEMENTS */
RECORD_TYPE = STREAM
/* POINTERS TO DATA OBJECTS */
^COMPRESSED_FILE = "H1942_0000_ND3.JP2"
/* IDENTIFICATION DATA ELEMENTS */
DATA_SET_ID = "MEX-M-HRSC-5-REFDR-MAPPROJECTED-V3.0"
DATA_SET_NAME = "MARS EXPRESS HRSC MAP PROJECTED REFDR V3.0"
DETECTOR_ID = MEX_HRSC_NADIR
EVENT_TYPE = "MARS-REGIONAL-MAPPING-Vo-Gl-Mw"
INSTRUMENT_HOST_ID = MEX
INSTRUMENT_HOST_NAME = "MARS EXPRESS"
INSTRUMENT_ID = HRSC
INSTRUMENT_NAME = "HIGH RESOLUTION STEREO CAMERA"
MISSION_NAME = "MARS EXPRESS"
MISSION_PHASE_NAME = MR_Phase_7
PROCESSING_LEVEL_ID = 3
PRODUCT_CREATION_TIME = 2016-03-09T16:25:58.000Z
PRODUCT_ID = "H1942_0000_ND3.JP2"
RELEASE_ID = 0025
REVISION_ID = 0000
/* QUALITY DATA ELEMENTS */
DATA_QUALITY_ID = 1
DATA_QUALITY_DESC = "Data calculated based on original SPICE kernels"
/* TIME DATA ELEMENTS */
SPACECRAFT_CLOCK_START_COUNT = "1/0069942281.53141"
SPACECRAFT_CLOCK_STOP_COUNT = "1/0069943008.00714"
START_TIME = 2005-07-20T12:27:16.422Z
STOP_TIME = 2005-07-20T12:28:38.959Z
/* ORBITAL DATA ELEMENTS */
ASCENDING_NODE_LONGITUDE = 187.59
MAXIMUM_RESOLUTION = 33.4
FOOTPRINT_POINT_LATITUDE = (-35.6167,-35.6178,-35.6187,-35.6193, -35.6198,-35.6201,-35.6201,-35.6199, -35.6195,-35.619,-35.6182,-35.6172, -35.616,-35.6142,-35.6125,-35.6107, -35.6086,-35.6063,-35.6045,-35.6018, -35.5989,-35.595,-35.5917,-35.5881, -35.5823,-35.4982,-35.3723,-35.1638, -34.9974,-34.7898,-34.6251,-34.4604, -34.2969,-34.0929,-33.9713,-33.8087, -33.6473,-33.4862,-33.326,-33.1658, -33.0068,-32.8476,-32.6898,-32.4535, -32.2965,-32.1787,-31.9843,-31.8288, -31.6745,-31.5393,-31.5411,-31.5428, -31.5445,-31.546,-31.5479,-31.5501, -31.5517,-31.5527,-31.5537,-31.5545, -31.5553,-31.556,-31.5569,-31.5576, -31.5581,-31.5587,-31.5589,-31.559, -31.559,-31.5588,-31.5585,-31.5577, -31.5568,-31.5559,-31.555,-31.7098, -31.8646,-32.0207,-32.1767,-32.3733, -32.5305,-32.6891,-32.8475,-33.047, -33.2066,-33.3676,-33.5283,-33.6903, -33.8522,-34.0155,-34.1785,-34.3428, -34.5898,-34.7552,-34.9631,-35.1296, -35.339,-35.5072,-35.5916,-35.6167)
FOOTPRINT_POINT_LONGITUDE = (104.969,104.811,104.654,104.497,104.34 ,104.183,104.026,103.869,103.711, 103.554,103.396,103.239,103.081,102.884 ,102.727,102.569,102.411,102.253, 102.135,101.977,101.818,101.62,101.461, 101.302,101.106,101.114,101.125,101.147 ,101.157,101.172,101.185,101.2,101.214, 101.233,101.247,101.259,101.271,101.286 ,101.3,101.313,101.326,101.34,101.354, 101.376,101.385,101.391,101.406,101.417 ,101.428,101.541,101.645,101.748, 101.852,101.954,102.091,102.262,102.397 ,102.498,102.599,102.7,102.801,102.903, 103.038,103.173,103.308,103.477,103.612 ,103.746,103.881,104.016,104.151, 104.353,104.521,104.655,104.79,104.883, 104.892,104.902,104.911,104.924,104.933 ,104.943,104.953,104.966,104.976, 104.986,104.997,105.007,105.018,105.029 ,105.039,105.05,105.067,105.077,105.089 ,105.101,105.117,105.13,105.136, 104.969)
ORBIT_NUMBER = 1942
ORBITAL_ECCENTRICITY = 0.571
ORBITAL_INCLINATION = 86.57
ORBITAL_SEMIMAJOR_AXIS = 8622.09
PERIAPSIS_ALTITUDE = 302.07
PERIAPSIS_ARGUMENT_ANGLE = 17.45
PERIAPSIS_TIME = 2005-07-20T12:42:14.000Z
SPACECRAFT_ORIENTATION = (0.0,1.0,0.0)
^MEX_ORIENTATION_DESC = "MEX_ORIENTATION_DESC.TXT"
SPACECRAFT_POINTING_MODE = ACROSSTRACK
^MEX_POINTING_DESC = "MEX_POINTING_DESC.TXT"
RIGHT_ASCENSION = -1e+32
DECLINATION = -1e+32
OFFSET_ANGLE = 0.33
SPACECRAFT_SOLAR_DISTANCE = 2.06648e+08
TARGET_NAME = MARS
/* CAMERA DATA ELEMENTS */
DETECTOR_TEMPERATURE = 0.0
FOCAL_PLANE_TEMPERATURE = 0.0
INST_CMPRS_NAME = "DISCRETE COSINE TRANSFORMATION (DCT)"
INST_CMPRS_RATIO = 7.22492
INST_CMPRS_QUALITY = 0
INST_CMPRS_QUANTZ_TBL_ID = 0
INSTRUMENT_TEMPERATURE = 0.0
LENS_TEMPERATURE = 0.0
MACROPIXEL_SIZE = 1
MISSING_FRAMES = 0
PIXEL_SUBSAMPLING_FLAG = N
SIGNAL_CHAIN_ID = 0
/* RADIOMETRIC DATA ELEMENTS */
BANDWIDTH = 177.0
CENTER_FILTER_WAVELENGTH = 677.5
RADIANCE_OFFSET = 5.10005
RADIANCE_SCALING_FACTOR = 0.0140001
REFLECTANCE_SCALING_FACTOR = 0.000317599
MEX:REFLECTANCE_OFFSET = 0.115697
/* IMAGE OBJECT DEFINITIONS */
OBJECT = IMAGE
  INTERCHANGE_FORMAT = BINARY
  LINES = 9681
  LINE_SAMPLES = 7904
  SAMPLE_TYPE = UNSIGNED_INTEGER
  SAMPLE_BITS = 8
  BANDS = 1
  BAND_STORAGE_TYPE = BAND_SEQUENTIAL
  MAXIMUM = 195
  MEAN = 146.385
  MINIMUM = 107
  STANDARD_DEVIATION = 10.5624
END_OBJECT = IMAGE
/* MAP OBJECT DEFINITIONS */
OBJECT = IMAGE_MAP_PROJECTION
  ^DATA_SET_MAP_PROJECTION_CATALOG= "DSMAP.CAT"
  A_AXIS_RADIUS = 3396.0
  B_AXIS_RADIUS = 3396.0
  C_AXIS_RADIUS = 3396.0
  CENTER_LATITUDE = 0.0
  CENTER_LONGITUDE = 103.0
  COORDINATE_SYSTEM_NAME = PLANETOGRAPHIC
  COORDINATE_SYSTEM_TYPE = "BODY-FIXED ROTATING"
  EASTERNMOST_LONGITUDE = 105.136
  FIRST_STANDARD_PARALLEL = "N/A"
  LINE_FIRST_PIXEL = 1
  LINE_LAST_PIXEL = 9681
  LINE_PROJECTION_OFFSET = -74771.0
  MAP_PROJECTION_ROTATION = 0.0
  MAP_PROJECTION_TYPE = SINUSOIDAL
  MAP_RESOLUTION = 2370.85521546667
  MAP_SCALE = 0.025
  MAXIMUM_LATITUDE = -31.5393
  MINIMUM_LATITUDE = -35.6201
  POSITIVE_LONGITUDE_DIRECTION = EAST
  REFERENCE_LATITUDE = "N/A"
  REFERENCE_LONGITUDE = "N/A"
  SAMPLE_FIRST_PIXEL = 1
  SAMPLE_LAST_PIXEL = 7904
  SAMPLE_PROJECTION_OFFSET = 3732.0
  SECOND_STANDARD_PARALLEL = "N/A"
  WESTERNMOST_LONGITUDE = 101.106
END_OBJECT = IMAGE_MAP_PROJECTION
/* The JPEG2000 image data file associated with this label. */
OBJECT = COMPRESSED_FILE
  FILE_NAME = "H1942_0000_ND3.JP2"
  RECORD_TYPE = UNDEFINED
  FILE_RECORDS = UNK
  ENCODING_TYPE = "JP2"
  INTERCHANGE_FORMAT = BINARY
  UNCOMPRESSED_FILE_NAME = "H1942_0000_ND3.IMG"
  REQUIRED_STORAGE_BYTES = "76550240"
  ^DESCRIPTION = "JP2INFO.TXT"
END_OBJECT = COMPRESSED_FILE
END
