PDS_VERSION_ID = PDS3
/* FILE DATA ELEMENTS */
RECORD_TYPE = STREAM
/* POINTERS TO DATA OBJECTS */
^COMPRESSED_FILE = "H1943_0000_P23.JP2"
/* IDENTIFICATION DATA ELEMENTS */
DATA_SET_ID = "MEX-M-HRSC-5-REFDR-MAPPROJECTED-V3.0"
DATA_SET_NAME = "MARS EXPRESS HRSC MAP PROJECTED REFDR V3.0"
DETECTOR_ID = MEX_HRSC_P2
EVENT_TYPE = "MARS-REGIONAL-MAPPING-Im-Fl-La"
INSTRUMENT_HOST_ID = MEX
INSTRUMENT_HOST_NAME = "MARS EXPRESS"
INSTRUMENT_ID = HRSC
INSTRUMENT_NAME = "HIGH RESOLUTION STEREO CAMERA"
MISSION_NAME = "MARS EXPRESS"
MISSION_PHASE_NAME = MR_Phase_7
PROCESSING_LEVEL_ID = 3
PRODUCT_CREATION_TIME = 2016-03-09T16:25:58.000Z
PRODUCT_ID = "H1943_0000_P23.JP2"
RELEASE_ID = 0025
REVISION_ID = 0000
/* QUALITY DATA ELEMENTS */
DATA_QUALITY_ID = 1
DATA_QUALITY_DESC = "Data calculated based on original SPICE kernels"
/* TIME DATA ELEMENTS */
SPACECRAFT_CLOCK_START_COUNT = "1/0069966988.57938"
SPACECRAFT_CLOCK_STOP_COUNT = "1/0069967388.42173"
START_TIME = 2005-07-20T19:16:56.302Z
STOP_TIME = 2005-07-20T19:22:25.970Z
/* ORBITAL DATA ELEMENTS */
ASCENDING_NODE_LONGITUDE = 187.57
MAXIMUM_RESOLUTION = 54.7
FOOTPRINT_POINT_LATITUDE = (-13.0992,-13.1035,-13.1101,-13.1129, -12.8648,-12.3851,-11.9121,-11.4421, -10.9764,-10.5179,-10.0601,-9.60917, -9.16439,-8.72082,-8.28389,-7.63524, -7.20546,-6.78353,-6.36112,-5.94706, -5.53139,-5.12217,-4.51447,-4.11446, -3.51617,-3.12461,-2.73123,-2.33765, -1.94147,-1.54679,-1.15009,-0.751478, -0.353719,0.0469539,0.448066,1.02812, 1.36606,1.70458,2.04366,2.38375,2.72527 ,3.06733,3.40666,3.74801,4.09077, 4.43429,4.77843,5.1232,5.63828,6.14132, 6.47732,6.65261,6.65621,6.49345,5.98971 ,5.65409,5.31885,4.97442,4.45178, 4.10866,3.76632,3.42506,2.91314,2.40227 ,2.06268,1.72346,1.38534,1.04756, 0.669516,0.268695,-0.131376,-0.730093, -1.1284,-1.52509,-1.92104,-2.31567, -2.70943,-3.10205,-3.49391,-4.09195, -4.49192,-5.10199,-5.50884,-5.9246, -6.33834,-6.75968,-7.18145,-7.60962, -8.25821,-8.69491,-9.13763,-9.57895, -10.0315,-10.4928,-10.9498,-11.4162, -11.8862,-12.359,-12.8392,-13.0992)
FOOTPRINT_POINT_LONGITUDE = (5.98788,5.70676,5.14593,4.77884, 4.49861,4.5102,4.52153,4.5321,4.54259, 4.55241,4.56105,4.57062,4.57938,4.58771 ,4.5959,4.60764,4.61513,4.62227,4.62917 ,4.63592,4.64242,4.64784,4.65753, 4.66293,4.67093,4.6761,4.68091,4.68587, 4.69023,4.69528,4.69989,4.70412,4.70881 ,4.7128,4.71685,4.72255,4.72575,4.7289, 4.73201,4.73494,4.73756,4.74015,4.74368 ,4.74672,4.74946,4.75208,4.75464, 4.75712,4.76063,4.7639,4.76602,5.02654, 5.38537,5.93784,5.94206,5.94481,5.95226 ,5.95616,5.9581,5.96232,5.9668,5.97172, 5.97868,5.98577,5.9908,5.99581,6.00123, 6.00661,6.01296,6.02008,6.02727,6.03817 ,6.04544,6.05325,6.0611,6.06929,6.07758 ,6.0861,6.09463,6.10812,6.11716,6.13194 ,6.14213,6.15282,6.16411,6.17591, 6.18762,6.20056,6.21938,6.23256,6.24615 ,6.26175,6.27586,6.28721,6.30313,6.3187 ,6.33467,6.35175,6.36873,5.98788)
ORBIT_NUMBER = 1943
ORBITAL_ECCENTRICITY = 0.571
ORBITAL_INCLINATION = 86.57
ORBITAL_SEMIMAJOR_AXIS = 8617.51
PERIAPSIS_ALTITUDE = 302.59
PERIAPSIS_ARGUMENT_ANGLE = 17.28
PERIAPSIS_TIME = 2005-07-20T19:25:27.000Z
SPACECRAFT_ORIENTATION = (0.0,1.0,0.0)
^MEX_ORIENTATION_DESC = "MEX_ORIENTATION_DESC.TXT"
SPACECRAFT_POINTING_MODE = ACROSSTRACK
^MEX_POINTING_DESC = "MEX_POINTING_DESC.TXT"
RIGHT_ASCENSION = -1e+32
DECLINATION = -1e+32
OFFSET_ANGLE = -0.2
SPACECRAFT_SOLAR_DISTANCE = 2.0665e+08
TARGET_NAME = MARS
/* CAMERA DATA ELEMENTS */
DETECTOR_TEMPERATURE = 18.3705
FOCAL_PLANE_TEMPERATURE = 10.2145
INST_CMPRS_NAME = "DISCRETE COSINE TRANSFORMATION (DCT)"
INST_CMPRS_RATIO = 10.854
INST_CMPRS_QUALITY = 0
INST_CMPRS_QUANTZ_TBL_ID = 0
INSTRUMENT_TEMPERATURE = 11.6418
LENS_TEMPERATURE = 10.4184
MACROPIXEL_SIZE = 4
MISSING_FRAMES = 0
PIXEL_SUBSAMPLING_FLAG = N
SIGNAL_CHAIN_ID = 3
/* RADIOMETRIC DATA ELEMENTS */
BANDWIDTH = 177.0
CENTER_FILTER_WAVELENGTH = 676.5
RADIANCE_OFFSET = 2.72894
RADIANCE_SCALING_FACTOR = 0.00893649
REFLECTANCE_SCALING_FACTOR = 0.000202346
MEX:REFLECTANCE_OFFSET = 0.0617906
/* IMAGE OBJECT DEFINITIONS */
OBJECT = IMAGE
  INTERCHANGE_FORMAT = BINARY
  LINES = 23414
  LINE_SAMPLES = 2151
  SAMPLE_TYPE = UNSIGNED_INTEGER
  SAMPLE_BITS = 8
  BANDS = 1
  BAND_STORAGE_TYPE = BAND_SEQUENTIAL
  MAXIMUM = 362
  MEAN = 243.372
  MINIMUM = 191
  STANDARD_DEVIATION = 66.5891
END_OBJECT = IMAGE
/* MAP OBJECT DEFINITIONS */
OBJECT = IMAGE_MAP_PROJECTION
  ^DATA_SET_MAP_PROJECTION_CATALOG= "DSMAP.CAT"
  A_AXIS_RADIUS = 3396.0
  B_AXIS_RADIUS = 3396.0
  C_AXIS_RADIUS = 3396.0
  CENTER_LATITUDE = 0.0
  CENTER_LONGITUDE = 5.0
  COORDINATE_SYSTEM_NAME = PLANETOGRAPHIC
  COORDINATE_SYSTEM_TYPE = "BODY-FIXED ROTATING"
  EASTERNMOST_LONGITUDE = 6.36873
  FIRST_STANDARD_PARALLEL = "N/A"
  LINE_FIRST_PIXEL = 1
  LINE_LAST_PIXEL = 23414
  LINE_PROJECTION_OFFSET = 7884.125
  MAP_PROJECTION_ROTATION = 0.0
  MAP_PROJECTION_TYPE = SINUSOIDAL
  MAP_RESOLUTION = 1185.42760773333
  MAP_SCALE = 0.05
  MAXIMUM_LATITUDE = 6.65621
  MINIMUM_LATITUDE = -13.1129
  POSITIVE_LONGITUDE_DIRECTION = EAST
  REFERENCE_LATITUDE = "N/A"
  REFERENCE_LONGITUDE = "N/A"
  SAMPLE_FIRST_PIXEL = 1
  SAMPLE_LAST_PIXEL = 2151
  SAMPLE_PROJECTION_OFFSET = 564.125
  SECOND_STANDARD_PARALLEL = "N/A"
  WESTERNMOST_LONGITUDE = 4.49861
END_OBJECT = IMAGE_MAP_PROJECTION
/* The JPEG2000 image data file associated with this label. */
OBJECT = COMPRESSED_FILE
  FILE_NAME = "H1943_0000_P23.JP2"
  RECORD_TYPE = UNDEFINED
  FILE_RECORDS = UNK
  ENCODING_TYPE = "JP2"
  INTERCHANGE_FORMAT = BINARY
  UNCOMPRESSED_FILE_NAME = "H1943_0000_P23.IMG"
  REQUIRED_STORAGE_BYTES = "50385024"
  ^DESCRIPTION = "JP2INFO.TXT"
END_OBJECT = COMPRESSED_FILE
END
