PDS_VERSION_ID = PDS3
/* FILE DATA ELEMENTS */
RECORD_TYPE = STREAM
/* POINTERS TO DATA OBJECTS */
^COMPRESSED_FILE = "H1943_0000_RE3.JP2"
/* IDENTIFICATION DATA ELEMENTS */
DATA_SET_ID = "MEX-M-HRSC-5-REFDR-MAPPROJECTED-V3.0"
DATA_SET_NAME = "MARS EXPRESS HRSC MAP PROJECTED REFDR V3.0"
DETECTOR_ID = MEX_HRSC_RED
EVENT_TYPE = "MARS-REGIONAL-MAPPING-Im-Fl-La"
INSTRUMENT_HOST_ID = MEX
INSTRUMENT_HOST_NAME = "MARS EXPRESS"
INSTRUMENT_ID = HRSC
INSTRUMENT_NAME = "HIGH RESOLUTION STEREO CAMERA"
MISSION_NAME = "MARS EXPRESS"
MISSION_PHASE_NAME = MR_Phase_7
PROCESSING_LEVEL_ID = 3
PRODUCT_CREATION_TIME = 2016-03-09T16:25:58.000Z
PRODUCT_ID = "H1943_0000_RE3.JP2"
RELEASE_ID = 0025
REVISION_ID = 0000
/* QUALITY DATA ELEMENTS */
DATA_QUALITY_ID = 1
DATA_QUALITY_DESC = "Data calculated based on original SPICE kernels"
/* TIME DATA ELEMENTS */
SPACECRAFT_CLOCK_START_COUNT = "1/0069966988.57938"
SPACECRAFT_CLOCK_STOP_COUNT = "1/0069967388.42173"
START_TIME = 2005-07-20T19:16:46.366Z
STOP_TIME = 2005-07-20T19:22:20.645Z
/* ORBITAL DATA ELEMENTS */
ASCENDING_NODE_LONGITUDE = 187.57
MAXIMUM_RESOLUTION = 55.9
FOOTPRINT_POINT_LATITUDE = (-13.1113,-13.1164,-13.1235,-13.1286, -13.1208,-12.641,-12.1661,-11.6952, -11.2288,-10.7689,-10.0832,-9.63481, -9.18903,-8.74896,-8.31028,-7.87913, -7.44956,-7.02522,-6.39507,-5.77229, -5.15325,-4.55179,-4.14765,-3.75224, -3.15921,-2.77093,-2.38212,-1.98983, -1.60072,-1.20892,-0.814838,-0.42213, -0.025871,0.370936,0.768632,1.35234, 1.68729,2.02342,2.36026,2.69786,3.03827 ,3.37429,3.71228,4.22231,4.56321, 4.90504,5.24732,5.59058,5.9323,6.26614, 6.60004,6.64921,6.6529,6.49036,6.15702, 5.82065,5.31423,4.97247,4.45215,4.11183 ,3.77246,3.43427,2.92674,2.42034, 2.08386,1.74773,1.41288,1.03688,0.63899 ,0.242509,-0.153444,-0.74558,-1.13932, -1.53141,-1.92266,-2.3125,-2.70143, -3.08923,-3.48323,-3.87902,-4.27759, -4.68151,-5.08401,-5.49524,-5.90496, -6.32144,-6.9492,-7.37145,-7.80153, -8.23188,-8.66893,-9.10745,-9.54935, -10.2316,-10.6876,-11.3797,-11.847, -12.3184,-12.7971,-13.1113)
FOOTPRINT_POINT_LONGITUDE = (6.10507,5.81857,5.31823,4.74842, 4.47437,4.48684,4.49882,4.51032,4.52117 ,4.53172,4.54595,4.55599,4.56521,4.574, 4.58249,4.59072,4.59869,4.60637,4.61728 ,4.62772,4.63674,4.647,4.65269,4.65827, 4.66649,4.67153,4.6766,4.68096,4.6863, 4.69111,4.69552,4.70044,4.70462,4.70883 ,4.71297,4.71881,4.72215,4.72531, 4.72839,4.7314,4.73382,4.7374,4.74061, 4.74486,4.7476,4.75021,4.7528,4.75525, 4.75768,4.75983,4.76205,5.26422,5.59364 ,5.94106,5.94414,5.94671,5.95593, 5.95993,5.96201,5.96633,5.97093,5.97593 ,5.98301,5.99023,5.99534,6.00044, 6.00595,6.01211,6.01899,6.02625,6.03345 ,6.04454,6.05202,6.05995,6.06795, 6.07627,6.08468,6.09328,6.10213,6.11138 ,6.12039,6.13016,6.14029,6.15086, 6.16168,6.17335,6.19139,6.20464,6.21652 ,6.22993,6.24343,6.25728,6.27332, 6.29245,6.30766,6.3318,6.34808,6.36572, 6.38318,6.10507)
ORBIT_NUMBER = 1943
ORBITAL_ECCENTRICITY = 0.571
ORBITAL_INCLINATION = 86.57
ORBITAL_SEMIMAJOR_AXIS = 8617.51
PERIAPSIS_ALTITUDE = 302.59
PERIAPSIS_ARGUMENT_ANGLE = 17.28
PERIAPSIS_TIME = 2005-07-20T19:25:27.000Z
SPACECRAFT_ORIENTATION = (0.0,1.0,0.0)
^MEX_ORIENTATION_DESC = "MEX_ORIENTATION_DESC.TXT"
SPACECRAFT_POINTING_MODE = ACROSSTRACK
^MEX_POINTING_DESC = "MEX_POINTING_DESC.TXT"
RIGHT_ASCENSION = -1e+32
DECLINATION = -1e+32
OFFSET_ANGLE = -0.2
SPACECRAFT_SOLAR_DISTANCE = 2.0665e+08
TARGET_NAME = MARS
/* CAMERA DATA ELEMENTS */
DETECTOR_TEMPERATURE = 18.3705
FOCAL_PLANE_TEMPERATURE = 10.2145
INST_CMPRS_NAME = "DISCRETE COSINE TRANSFORMATION (DCT)"
INST_CMPRS_RATIO = 13.4532
INST_CMPRS_QUALITY = 0
INST_CMPRS_QUANTZ_TBL_ID = 0
INSTRUMENT_TEMPERATURE = 11.6418
LENS_TEMPERATURE = 10.4184
MACROPIXEL_SIZE = 4
MISSING_FRAMES = 0
PIXEL_SUBSAMPLING_FLAG = N
SIGNAL_CHAIN_ID = 2
/* RADIOMETRIC DATA ELEMENTS */
BANDWIDTH = 48.0
CENTER_FILTER_WAVELENGTH = 748.0
RADIANCE_OFFSET = 0.720153
RADIANCE_SCALING_FACTOR = 0.00269492
REFLECTANCE_SCALING_FACTOR = 0.000262629
MEX:REFLECTANCE_OFFSET = 0.0701813
/* IMAGE OBJECT DEFINITIONS */
OBJECT = IMAGE
  INTERCHANGE_FORMAT = BINARY
  LINES = 23414
  LINE_SAMPLES = 2151
  SAMPLE_TYPE = UNSIGNED_INTEGER
  SAMPLE_BITS = 8
  BANDS = 1
  BAND_STORAGE_TYPE = BAND_SEQUENTIAL
  MAXIMUM = 312
  MEAN = 208.479
  MINIMUM = 0
  STANDARD_DEVIATION = 19.5078
END_OBJECT = IMAGE
/* MAP OBJECT DEFINITIONS */
OBJECT = IMAGE_MAP_PROJECTION
  ^DATA_SET_MAP_PROJECTION_CATALOG= "DSMAP.CAT"
  A_AXIS_RADIUS = 3396.0
  B_AXIS_RADIUS = 3396.0
  C_AXIS_RADIUS = 3396.0
  CENTER_LATITUDE = 0.0
  CENTER_LONGITUDE = 5.0
  COORDINATE_SYSTEM_NAME = PLANETOGRAPHIC
  COORDINATE_SYSTEM_TYPE = "BODY-FIXED ROTATING"
  EASTERNMOST_LONGITUDE = 6.38318
  FIRST_STANDARD_PARALLEL = "N/A"
  LINE_FIRST_PIXEL = 1
  LINE_LAST_PIXEL = 23414
  LINE_PROJECTION_OFFSET = 7884.125
  MAP_PROJECTION_ROTATION = 0.0
  MAP_PROJECTION_TYPE = SINUSOIDAL
  MAP_RESOLUTION = 1185.42760773333
  MAP_SCALE = 0.05
  MAXIMUM_LATITUDE = 6.6529
  MINIMUM_LATITUDE = -13.1286
  POSITIVE_LONGITUDE_DIRECTION = EAST
  REFERENCE_LATITUDE = "N/A"
  REFERENCE_LONGITUDE = "N/A"
  SAMPLE_FIRST_PIXEL = 1
  SAMPLE_LAST_PIXEL = 2151
  SAMPLE_PROJECTION_OFFSET = 564.125
  SECOND_STANDARD_PARALLEL = "N/A"
  WESTERNMOST_LONGITUDE = 4.47437
END_OBJECT = IMAGE_MAP_PROJECTION
/* The JPEG2000 image data file associated with this label. */
OBJECT = COMPRESSED_FILE
  FILE_NAME = "H1943_0000_RE3.JP2"
  RECORD_TYPE = UNDEFINED
  FILE_RECORDS = UNK
  ENCODING_TYPE = "JP2"
  INTERCHANGE_FORMAT = BINARY
  UNCOMPRESSED_FILE_NAME = "H1943_0000_RE3.IMG"
  REQUIRED_STORAGE_BYTES = "50385024"
  ^DESCRIPTION = "JP2INFO.TXT"
END_OBJECT = COMPRESSED_FILE
END
