PDS_VERSION_ID = PDS3
/* FILE DATA ELEMENTS */
RECORD_TYPE = STREAM
/* POINTERS TO DATA OBJECTS */
^COMPRESSED_FILE = "H1943_0006_SR3.JP2"
/* IDENTIFICATION DATA ELEMENTS */
DATA_SET_ID = "MEX-M-HRSC-5-REFDR-MAPPROJECTED-V3.0"
DATA_SET_NAME = "MARS EXPRESS HRSC MAP PROJECTED REFDR V3.0"
DETECTOR_ID = MEX_HRSC_SRC
EVENT_TYPE = "MARS-REGIONAL-MAPPING-Im-Fl-La"
INSTRUMENT_HOST_ID = MEX
INSTRUMENT_HOST_NAME = "MARS EXPRESS"
INSTRUMENT_ID = HRSC
INSTRUMENT_NAME = "HIGH RESOLUTION STEREO CAMERA"
MISSION_NAME = "MARS EXPRESS"
MISSION_PHASE_NAME = MR_Phase_7
PROCESSING_LEVEL_ID = 3
PRODUCT_CREATION_TIME = 2016-03-09T16:25:58.000Z
PRODUCT_ID = "H1943_0006_SR3.JP2"
RELEASE_ID = 0025
REVISION_ID = 0000
/* QUALITY DATA ELEMENTS */
DATA_QUALITY_ID = 1
DATA_QUALITY_DESC = "Data calculated based on original SPICE kernels"
/* TIME DATA ELEMENTS */
SPACECRAFT_CLOCK_START_COUNT = "1/0069966988.57938"
SPACECRAFT_CLOCK_STOP_COUNT = "1/0069967388.42173"
IMAGE_TIME = 2005-07-20T19:21:01.222Z
START_TIME = 2005-07-20T19:21:01.219Z
STOP_TIME = 2005-07-20T19:21:01.224Z
/* ORBITAL DATA ELEMENTS */
ASCENDING_NODE_LONGITUDE = 187.57
MAXIMUM_RESOLUTION = 3.334
FOOTPRINT_POINT_LATITUDE = (-0.128784,-0.126815,-0.12327,-0.120962 ,-0.118711,-0.116292,-0.113309, -0.111283,-0.10937,-0.10695,-0.104699, -0.10273,-0.100028,-0.0968771, -0.0949638,-0.0932198,-0.0913065, -0.0891119,-0.0861294,-0.0835409, -0.0820778,-0.0798831,-0.07842, -0.0767319,-0.0743121,-0.0734626, -0.0734523,-0.073442,-0.0734316, -0.0734213,-0.073411,-0.0734007, -0.0733904,-0.0733801,-0.0733697, -0.0733594,-0.0733491,-0.0733388, -0.0733284,-0.0733181,-0.0733078, -0.0732974,-0.0732871,-0.0732768, -0.0732664,-0.0732561,-0.0732458, -0.0732354,-0.0732251,-0.0732148, -0.0739936,-0.0766956,-0.0782718, -0.0816493,-0.0841825,-0.0863779, -0.0878415,-0.0909375,-0.0930203, -0.0958908,-0.0995499,-0.101971, -0.103603,-0.106192,-0.108275,-0.111034 ,-0.113567,-0.116888,-0.118858, -0.120772,-0.123193,-0.125557,-0.128034 ,-0.129892,-0.129902,-0.129911, -0.129921,-0.12993,-0.12994,-0.12995, -0.129959,-0.129969,-0.129978,-0.129988 ,-0.129997,-0.130007,-0.130016, -0.130026,-0.130036,-0.130045,-0.130055 ,-0.130064,-0.130074,-0.130083, -0.130093,-0.130102,-0.130112,-0.130122 ,-0.130131,-0.128784)
FOOTPRINT_POINT_LONGITUDE = (5.34069,5.34068,5.34066,5.34065, 5.34064,5.34063,5.34062,5.34061,5.3406, 5.34059,5.34058,5.34057,5.34056,5.34055 ,5.34054,5.34052,5.34052,5.34051, 5.34049,5.34048,5.34048,5.34047,5.34046 ,5.34045,5.34044,5.34162,5.34387, 5.34612,5.34838,5.35063,5.35288,5.35513 ,5.35739,5.35964,5.36189,5.36414,5.3664 ,5.36865,5.3709,5.37316,5.37541,5.37766 ,5.37991,5.38217,5.38442,5.38667, 5.38893,5.39118,5.39343,5.39569,5.39772 ,5.39773,5.39774,5.39775,5.39776, 5.39777,5.39778,5.39779,5.3978,5.39782, 5.39784,5.39785,5.39786,5.39787,5.39788 ,5.39789,5.3979,5.39791,5.39792,5.39793 ,5.39794,5.39795,5.39796,5.39791, 5.39566,5.39341,5.39115,5.3889,5.38665, 5.38439,5.38214,5.37989,5.37763,5.37538 ,5.37313,5.37087,5.36862,5.36637, 5.36412,5.36186,5.35961,5.35736,5.35511 ,5.35285,5.3506,5.34835,5.3461,5.34384, 5.34159,5.34069)
ORBIT_NUMBER = 1943
ORBITAL_ECCENTRICITY = 0.571
ORBITAL_INCLINATION = 86.57
ORBITAL_SEMIMAJOR_AXIS = 8617.51
PERIAPSIS_ALTITUDE = 302.59
PERIAPSIS_ARGUMENT_ANGLE = 17.28
PERIAPSIS_TIME = 2005-07-20T19:25:27.000Z
SPACECRAFT_ORIENTATION = (0.0,1.0,0.0)
^MEX_ORIENTATION_DESC = "MEX_ORIENTATION_DESC.TXT"
SPACECRAFT_POINTING_MODE = ACROSSTRACK
^MEX_POINTING_DESC = "MEX_POINTING_DESC.TXT"
RIGHT_ASCENSION = -1e+32
DECLINATION = -1e+32
OFFSET_ANGLE = -0.2
SPACECRAFT_SOLAR_DISTANCE = 2.0665e+08
TARGET_NAME = MARS
/* CAMERA DATA ELEMENTS */
BUFFER_MODE_ID = BUFFER_8
EXPOSURE_DURATION = 5.04
INST_CMPRS_NAME = NONE
INST_CMPRS_RATIO = 1.0
INST_CMPRS_QUALITY = -2147483648
INST_CMPRS_QUANTZ_TBL_ID = -2147483648
INSTRUMENT_TEMPERATURE = 14.2424
MISSING_FRAMES = 0
START_BIT = 0
/* RADIOMETRIC DATA ELEMENTS */
BANDWIDTH = 250.0
CENTER_FILTER_WAVELENGTH = 600.0
RADIANCE_OFFSET = -9.99e+31
RADIANCE_SCALING_FACTOR = -9.99e+31
REFLECTANCE_SCALING_FACTOR = -9.99e+31
MEX:REFLECTANCE_OFFSET = -9.99e+31
/* IMAGE OBJECT DEFINITIONS */
OBJECT = IMAGE
  INTERCHANGE_FORMAT = BINARY
  LINES = 1390
  LINE_SAMPLES = 1404
  SAMPLE_TYPE = UNSIGNED_INTEGER
  SAMPLE_BITS = 8
  BANDS = 1
  BAND_STORAGE_TYPE = BAND_SEQUENTIAL
  MAXIMUM = 3563
  MEAN = 3180.71
  MINIMUM = 2659
  STANDARD_DEVIATION = 75.0494
END_OBJECT = IMAGE
/* MAP OBJECT DEFINITIONS */
OBJECT = IMAGE_MAP_PROJECTION
  ^DATA_SET_MAP_PROJECTION_CATALOG= "DSMAP.CAT"
  A_AXIS_RADIUS = 3396.19
  B_AXIS_RADIUS = 3396.19
  C_AXIS_RADIUS = 3396.19
  CENTER_LATITUDE = 0.0
  CENTER_LONGITUDE = 5.0
  COORDINATE_SYSTEM_NAME = PLANETOGRAPHIC
  COORDINATE_SYSTEM_TYPE = "BODY-FIXED ROTATING"
  EASTERNMOST_LONGITUDE = 5.39796
  FIRST_STANDARD_PARALLEL = "N/A"
  LINE_FIRST_PIXEL = 1
  LINE_LAST_PIXEL = 1390
  LINE_PROJECTION_OFFSET = -1717.0
  MAP_PROJECTION_ROTATION = 0.0
  MAP_PROJECTION_TYPE = SINUSOIDAL
  MAP_RESOLUTION = 23709.8786048756
  MAP_SCALE = 0.0025
  MAXIMUM_LATITUDE = -0.073215
  MINIMUM_LATITUDE = -0.130131
  POSITIVE_LONGITUDE_DIRECTION = EAST
  REFERENCE_LATITUDE = "N/A"
  REFERENCE_LONGITUDE = "N/A"
  SAMPLE_FIRST_PIXEL = 1
  SAMPLE_LAST_PIXEL = 1404
  SAMPLE_PROJECTION_OFFSET = -8050.0
  SECOND_STANDARD_PARALLEL = "N/A"
  WESTERNMOST_LONGITUDE = 5.34044
END_OBJECT = IMAGE_MAP_PROJECTION
/* The JPEG2000 image data file associated with this label. */
OBJECT = COMPRESSED_FILE
  FILE_NAME = "H1943_0006_SR3.JP2"
  RECORD_TYPE = UNDEFINED
  FILE_RECORDS = UNK
  ENCODING_TYPE = "JP2"
  INTERCHANGE_FORMAT = BINARY
  UNCOMPRESSED_FILE_NAME = "H1943_0006_SR3.IMG"
  REQUIRED_STORAGE_BYTES = "1971216"
  ^DESCRIPTION = "JP2INFO.TXT"
END_OBJECT = COMPRESSED_FILE
END
