PDS_VERSION_ID = PDS3
/* FILE DATA ELEMENTS */
RECORD_TYPE = STREAM
/* POINTERS TO DATA OBJECTS */
^COMPRESSED_FILE = "H1944_0000_BL3.JP2"
/* IDENTIFICATION DATA ELEMENTS */
DATA_SET_ID = "MEX-M-HRSC-5-REFDR-MAPPROJECTED-V3.0"
DATA_SET_NAME = "MARS EXPRESS HRSC MAP PROJECTED REFDR V3.0"
DETECTOR_ID = MEX_HRSC_BLUE
EVENT_TYPE = "MARS-REGIONAL-STEREO-Te-Lc-La"
INSTRUMENT_HOST_ID = MEX
INSTRUMENT_HOST_NAME = "MARS EXPRESS"
INSTRUMENT_ID = HRSC
INSTRUMENT_NAME = "HIGH RESOLUTION STEREO CAMERA"
MISSION_NAME = "MARS EXPRESS"
MISSION_PHASE_NAME = MR_Phase_7
PROCESSING_LEVEL_ID = 3
PRODUCT_CREATION_TIME = 2016-03-09T16:25:58.000Z
PRODUCT_ID = "H1944_0000_BL3.JP2"
RELEASE_ID = 0025
REVISION_ID = 0000
/* QUALITY DATA ELEMENTS */
DATA_QUALITY_ID = 1
DATA_QUALITY_DESC = "Data calculated based on original SPICE kernels"
/* TIME DATA ELEMENTS */
SPACECRAFT_CLOCK_START_COUNT = "1/0069991154.57168"
SPACECRAFT_CLOCK_STOP_COUNT = "1/0069991396.30784"
START_TIME = 2005-07-21T02:00:11.179Z
STOP_TIME = 2005-07-21T02:02:38.274Z
/* ORBITAL DATA ELEMENTS */
ASCENDING_NODE_LONGITUDE = 187.54
MAXIMUM_RESOLUTION = 131.7
FOOTPRINT_POINT_LATITUDE = (-14.9091,-14.91,-14.9107,-14.911, -14.9108,-14.91,-14.6256,-14.4367, -14.1529,-13.9635,-13.7775,-13.5912, -13.4046,-13.1281,-12.9448,-12.7612, -12.5778,-12.3976,-12.2172,-12.0364, -11.8564,-11.679,-11.5016,-11.3239, -11.146,-10.9717,-10.7974,-10.5353, -10.3607,-10.1896,-10.0183,-9.84677, -9.6753,-9.42087,-9.16494,-8.99746, -8.83218,-8.66545,-8.49691,-8.32973, -8.16352,-7.99817,-7.83511,-7.51199, -7.3516,-7.18923,-6.86433,-6.54866, -6.15078,-6.1408,-6.14053,-6.13806, -6.13612,-6.13526,-6.3758,-6.69352, -6.85403,-7.09352,-7.33706,-7.49943, -7.66168,-7.82344,-7.98861,-8.15475, -8.31985,-8.48553,-8.65107,-8.81877, -8.98765,-9.15625,-9.40975,-9.57882, -9.83522,-10.0066,-10.1781,-10.3505, -10.5255,-10.7011,-10.9641,-11.1385, -11.3164,-11.4941,-11.6715,-11.8487, -12.0287,-12.2094,-12.3899,-12.5702, -12.7536,-12.9372,-13.1206,-13.3971, -13.5837,-13.77,-13.9561,-14.1454, -14.4294,-14.6184,-14.8106,-14.9091)
FOOTPRINT_POINT_LONGITUDE = (267.325,267.097,266.816,266.535, 266.254,265.865,265.754,265.759,265.767 ,265.771,265.776,265.781,265.786, 265.792,265.797,265.801,265.805,265.81, 265.814,265.818,265.822,265.825,265.829 ,265.833,265.837,265.84,265.844,265.849 ,265.852,265.856,265.859,265.862, 265.866,265.871,265.868,265.874,265.884 ,265.888,265.883,265.882,265.883, 265.886,265.893,265.9,265.906,265.909, 265.908,265.917,265.923,266.103,266.482 ,266.723,267.034,267.237,267.359, 267.367,267.369,267.376,267.383,267.386 ,267.39,267.394,267.398,267.402,267.406 ,267.41,267.414,267.417,267.422,267.426 ,267.432,267.436,267.444,267.449, 267.454,267.457,267.462,267.466,267.472 ,267.477,267.482,267.487,267.492, 267.498,267.503,267.509,267.514,267.52, 267.526,267.531,267.537,267.546,267.552 ,267.558,267.564,267.571,267.58,267.586 ,267.593,267.325)
ORBIT_NUMBER = 1944
ORBITAL_ECCENTRICITY = 0.572
ORBITAL_INCLINATION = 86.58
ORBITAL_SEMIMAJOR_AXIS = 8627.92
PERIAPSIS_ALTITUDE = 301.69
PERIAPSIS_ARGUMENT_ANGLE = 17.12
PERIAPSIS_TIME = 2005-07-21T02:08:44.000Z
SPACECRAFT_ORIENTATION = (0.0,1.0,0.0)
^MEX_ORIENTATION_DESC = "MEX_ORIENTATION_DESC.TXT"
SPACECRAFT_POINTING_MODE = ACROSSTRACK
^MEX_POINTING_DESC = "MEX_POINTING_DESC.TXT"
RIGHT_ASCENSION = -1e+32
DECLINATION = -1e+32
OFFSET_ANGLE = 0.25
SPACECRAFT_SOLAR_DISTANCE = 2.06652e+08
TARGET_NAME = MARS
/* CAMERA DATA ELEMENTS */
DETECTOR_TEMPERATURE = 18.5744
FOCAL_PLANE_TEMPERATURE = 10.2145
INST_CMPRS_NAME = "DISCRETE COSINE TRANSFORMATION (DCT)"
INST_CMPRS_RATIO = 13.5059
INST_CMPRS_QUALITY = 0
INST_CMPRS_QUANTZ_TBL_ID = 0
INSTRUMENT_TEMPERATURE = 12.8652
LENS_TEMPERATURE = 10.4184
MACROPIXEL_SIZE = 8
MISSING_FRAMES = 0
PIXEL_SUBSAMPLING_FLAG = N
SIGNAL_CHAIN_ID = 2
/* RADIOMETRIC DATA ELEMENTS */
BANDWIDTH = 76.0
CENTER_FILTER_WAVELENGTH = 444.0
RADIANCE_OFFSET = 0.438899
RADIANCE_SCALING_FACTOR = 0.00184538
REFLECTANCE_SCALING_FACTOR = 8.09691e-05
MEX:REFLECTANCE_OFFSET = 0.0192574
/* IMAGE OBJECT DEFINITIONS */
OBJECT = IMAGE
  INTERCHANGE_FORMAT = BINARY
  LINES = 5207
  LINE_SAMPLES = 1110
  SAMPLE_TYPE = UNSIGNED_INTEGER
  SAMPLE_BITS = 8
  BANDS = 1
  BAND_STORAGE_TYPE = BAND_SEQUENTIAL
  MAXIMUM = 207
  MEAN = 143.112
  MINIMUM = 94
  STANDARD_DEVIATION = 11.0743
END_OBJECT = IMAGE
/* MAP OBJECT DEFINITIONS */
OBJECT = IMAGE_MAP_PROJECTION
  ^DATA_SET_MAP_PROJECTION_CATALOG= "DSMAP.CAT"
  A_AXIS_RADIUS = 3396.0
  B_AXIS_RADIUS = 3396.0
  C_AXIS_RADIUS = 3396.0
  CENTER_LATITUDE = 0.0
  CENTER_LONGITUDE = 267.0
  COORDINATE_SYSTEM_NAME = PLANETOGRAPHIC
  COORDINATE_SYSTEM_TYPE = "BODY-FIXED ROTATING"
  EASTERNMOST_LONGITUDE = 267.593
  FIRST_STANDARD_PARALLEL = "N/A"
  LINE_FIRST_PIXEL = 1
  LINE_LAST_PIXEL = 5207
  LINE_PROJECTION_OFFSET = -3633.6875
  MAP_PROJECTION_ROTATION = 0.0
  MAP_PROJECTION_TYPE = SINUSOIDAL
  MAP_RESOLUTION = 592.713803866667
  MAP_SCALE = 0.1
  MAXIMUM_LATITUDE = -6.13526
  MINIMUM_LATITUDE = -14.911
  POSITIVE_LONGITUDE_DIRECTION = EAST
  REFERENCE_LATITUDE = "N/A"
  REFERENCE_LONGITUDE = "N/A"
  SAMPLE_FIRST_PIXEL = 1
  SAMPLE_LAST_PIXEL = 1110
  SAMPLE_PROJECTION_OFFSET = 760.0625
  SECOND_STANDARD_PARALLEL = "N/A"
  WESTERNMOST_LONGITUDE = 265.754
END_OBJECT = IMAGE_MAP_PROJECTION
/* The JPEG2000 image data file associated with this label. */
OBJECT = COMPRESSED_FILE
  FILE_NAME = "H1944_0000_BL3.JP2"
  RECORD_TYPE = UNDEFINED
  FILE_RECORDS = UNK
  ENCODING_TYPE = "JP2"
  INTERCHANGE_FORMAT = BINARY
  UNCOMPRESSED_FILE_NAME = "H1944_0000_BL3.IMG"
  REQUIRED_STORAGE_BYTES = "5798640"
  ^DESCRIPTION = "JP2INFO.TXT"
END_OBJECT = COMPRESSED_FILE
END
