PDS_VERSION_ID = PDS3
/* FILE DATA ELEMENTS */
RECORD_TYPE = STREAM
/* POINTERS TO DATA OBJECTS */
^COMPRESSED_FILE = "H1944_0000_P13.JP2"
/* IDENTIFICATION DATA ELEMENTS */
DATA_SET_ID = "MEX-M-HRSC-5-REFDR-MAPPROJECTED-V3.0"
DATA_SET_NAME = "MARS EXPRESS HRSC MAP PROJECTED REFDR V3.0"
DETECTOR_ID = MEX_HRSC_P1
EVENT_TYPE = "MARS-REGIONAL-STEREO-Te-Lc-La"
INSTRUMENT_HOST_ID = MEX
INSTRUMENT_HOST_NAME = "MARS EXPRESS"
INSTRUMENT_ID = HRSC
INSTRUMENT_NAME = "HIGH RESOLUTION STEREO CAMERA"
MISSION_NAME = "MARS EXPRESS"
MISSION_PHASE_NAME = MR_Phase_7
PROCESSING_LEVEL_ID = 3
PRODUCT_CREATION_TIME = 2016-03-09T16:25:58.000Z
PRODUCT_ID = "H1944_0000_P13.JP2"
RELEASE_ID = 0025
REVISION_ID = 0000
/* QUALITY DATA ELEMENTS */
DATA_QUALITY_ID = 1
DATA_QUALITY_DESC = "Data calculated based on original SPICE kernels"
/* TIME DATA ELEMENTS */
SPACECRAFT_CLOCK_START_COUNT = "1/0069991154.57168"
SPACECRAFT_CLOCK_STOP_COUNT = "1/0069991396.30784"
START_TIME = 2005-07-21T02:00:52.108Z
STOP_TIME = 2005-07-21T02:03:09.711Z
/* ORBITAL DATA ELEMENTS */
ASCENDING_NODE_LONGITUDE = 187.54
MAXIMUM_RESOLUTION = 32.4
FOOTPRINT_POINT_LATITUDE = (-14.8799,-14.8826,-14.8874,-14.8904, -14.8933,-14.8963,-14.8737,-14.6803, -14.4868,-14.293,-14.0064,-13.7214, -13.5314,-13.3427,-13.1564,-12.9698, -12.7836,-12.5053,-12.3227,-12.0486, -11.8658,-11.6843,-11.5051,-11.2367, -11.0579,-10.7903,-10.6153,-10.44, -10.2645,-10.0889,-9.91362,-9.74137, -9.48286,-9.32102,-9.1521,-8.9749, -8.7969,-8.63098,-8.30876,-8.14509, -7.89338,-7.71991,-7.47379,-7.30614, -6.9852,-6.81835,-6.65439,-6.41738, -6.09918,-6.1018,-6.1036,-6.09864, -6.10472,-6.10216,-6.26304,-6.42373, -6.58421,-6.74431,-6.98412,-7.1501, -7.31475,-7.4784,-7.64156,-7.80557, -7.96766,-8.21861,-8.38612,-8.55224, -8.80198,-8.96822,-9.13923,-9.3098, -9.47818,-9.64911,-9.82166,-9.99656, -10.1721,-10.3444,-10.5159,-10.7734, -10.9509,-11.2191,-11.3981,-11.6665, -11.94,-12.1229,-12.3054,-12.4879, -12.6725,-12.8591,-13.0453,-13.2313, -13.4189,-13.6087,-13.7985,-13.9883, -14.178,-14.3717,-14.5651,-14.8799)
FOOTPRINT_POINT_LONGITUDE = (267.462,267.222,266.792,266.516,266.24 ,265.963,265.781,265.786,265.79,265.795 ,265.801,265.808,265.812,265.816,265.82 ,265.824,265.828,265.834,265.838, 265.843,265.847,265.85,265.853,265.858, 265.861,265.866,265.869,265.872,265.875 ,265.879,265.882,265.885,265.89,265.886 ,265.887,265.894,265.903,265.904,265.9, 265.9,265.905,265.914,265.917,265.921, 265.921,265.927,265.931,265.932,265.934 ,266.227,266.576,266.818,267.007, 267.322,267.325,267.329,267.332,267.336 ,267.341,267.345,267.349,267.352, 267.355,267.359,267.362,267.368,267.372 ,267.375,267.38,267.384,267.388,267.392 ,267.395,267.399,267.403,267.408, 267.413,267.416,267.419,267.425,267.429 ,267.436,267.441,267.448,267.455,267.46 ,267.465,267.47,267.476,267.481,267.486 ,267.491,267.497,267.502,267.508, 267.513,267.519,267.525,267.531, 267.462)
ORBIT_NUMBER = 1944
ORBITAL_ECCENTRICITY = 0.572
ORBITAL_INCLINATION = 86.58
ORBITAL_SEMIMAJOR_AXIS = 8627.92
PERIAPSIS_ALTITUDE = 301.69
PERIAPSIS_ARGUMENT_ANGLE = 17.12
PERIAPSIS_TIME = 2005-07-21T02:08:44.000Z
SPACECRAFT_ORIENTATION = (0.0,1.0,0.0)
^MEX_ORIENTATION_DESC = "MEX_ORIENTATION_DESC.TXT"
SPACECRAFT_POINTING_MODE = ACROSSTRACK
^MEX_POINTING_DESC = "MEX_POINTING_DESC.TXT"
RIGHT_ASCENSION = -1e+32
DECLINATION = -1e+32
OFFSET_ANGLE = 0.25
SPACECRAFT_SOLAR_DISTANCE = 2.06652e+08
TARGET_NAME = MARS
/* CAMERA DATA ELEMENTS */
DETECTOR_TEMPERATURE = 17.9627
FOCAL_PLANE_TEMPERATURE = 10.2145
INST_CMPRS_NAME = "DISCRETE COSINE TRANSFORMATION (DCT)"
INST_CMPRS_RATIO = 10.1751
INST_CMPRS_QUALITY = 0
INST_CMPRS_QUANTZ_TBL_ID = 0
INSTRUMENT_TEMPERATURE = 12.8652
LENS_TEMPERATURE = 10.4184
MACROPIXEL_SIZE = 2
MISSING_FRAMES = 0
PIXEL_SUBSAMPLING_FLAG = N
SIGNAL_CHAIN_ID = 3
/* RADIOMETRIC DATA ELEMENTS */
BANDWIDTH = 174.0
CENTER_FILTER_WAVELENGTH = 675.0
RADIANCE_OFFSET = 2.80831
RADIANCE_SCALING_FACTOR = 0.0216988
REFLECTANCE_SCALING_FACTOR = 0.000498426
MEX:REFLECTANCE_OFFSET = 0.0645073
/* IMAGE OBJECT DEFINITIONS */
OBJECT = IMAGE
  INTERCHANGE_FORMAT = BINARY
  LINES = 20826
  LINE_SAMPLES = 4440
  SAMPLE_TYPE = UNSIGNED_INTEGER
  SAMPLE_BITS = 8
  BANDS = 1
  BAND_STORAGE_TYPE = BAND_SEQUENTIAL
  MAXIMUM = 321
  MEAN = 162.724
  MINIMUM = 83
  STANDARD_DEVIATION = 19.4894
END_OBJECT = IMAGE
/* MAP OBJECT DEFINITIONS */
OBJECT = IMAGE_MAP_PROJECTION
  ^DATA_SET_MAP_PROJECTION_CATALOG= "DSMAP.CAT"
  A_AXIS_RADIUS = 3396.0
  B_AXIS_RADIUS = 3396.0
  C_AXIS_RADIUS = 3396.0
  CENTER_LATITUDE = 0.0
  CENTER_LONGITUDE = 267.0
  COORDINATE_SYSTEM_NAME = PLANETOGRAPHIC
  COORDINATE_SYSTEM_TYPE = "BODY-FIXED ROTATING"
  EASTERNMOST_LONGITUDE = 267.531
  FIRST_STANDARD_PARALLEL = "N/A"
  LINE_FIRST_PIXEL = 1
  LINE_LAST_PIXEL = 20826
  LINE_PROJECTION_OFFSET = -14533.25
  MAP_PROJECTION_ROTATION = 0.0
  MAP_PROJECTION_TYPE = SINUSOIDAL
  MAP_RESOLUTION = 2370.85521546667
  MAP_SCALE = 0.025
  MAXIMUM_LATITUDE = -6.09864
  MINIMUM_LATITUDE = -14.8963
  POSITIVE_LONGITUDE_DIRECTION = EAST
  REFERENCE_LATITUDE = "N/A"
  REFERENCE_LONGITUDE = "N/A"
  SAMPLE_FIRST_PIXEL = 1
  SAMPLE_LAST_PIXEL = 4440
  SAMPLE_PROJECTION_OFFSET = 3041.75
  SECOND_STANDARD_PARALLEL = "N/A"
  WESTERNMOST_LONGITUDE = 265.781
END_OBJECT = IMAGE_MAP_PROJECTION
/* The JPEG2000 image data file associated with this label. */
OBJECT = COMPRESSED_FILE
  FILE_NAME = "H1944_0000_P13.JP2"
  RECORD_TYPE = UNDEFINED
  FILE_RECORDS = UNK
  ENCODING_TYPE = "JP2"
  INTERCHANGE_FORMAT = BINARY
  UNCOMPRESSED_FILE_NAME = "H1944_0000_P13.IMG"
  REQUIRED_STORAGE_BYTES = "92494080"
  ^DESCRIPTION = "JP2INFO.TXT"
END_OBJECT = COMPRESSED_FILE
END
