PDS_VERSION_ID = PDS3
/* FILE DATA ELEMENTS */
RECORD_TYPE = STREAM
/* POINTERS TO DATA OBJECTS */
^COMPRESSED_FILE = "H1944_0000_P23.JP2"
/* IDENTIFICATION DATA ELEMENTS */
DATA_SET_ID = "MEX-M-HRSC-5-REFDR-MAPPROJECTED-V3.0"
DATA_SET_NAME = "MARS EXPRESS HRSC MAP PROJECTED REFDR V3.0"
DETECTOR_ID = MEX_HRSC_P2
EVENT_TYPE = "MARS-REGIONAL-STEREO-Te-Lc-La"
INSTRUMENT_HOST_ID = MEX
INSTRUMENT_HOST_NAME = "MARS EXPRESS"
INSTRUMENT_ID = HRSC
INSTRUMENT_NAME = "HIGH RESOLUTION STEREO CAMERA"
MISSION_NAME = "MARS EXPRESS"
MISSION_PHASE_NAME = MR_Phase_7
PROCESSING_LEVEL_ID = 3
PRODUCT_CREATION_TIME = 2016-03-09T16:25:58.000Z
PRODUCT_ID = "H1944_0000_P23.JP2"
RELEASE_ID = 0025
REVISION_ID = 0000
/* QUALITY DATA ELEMENTS */
DATA_QUALITY_ID = 1
DATA_QUALITY_DESC = "Data calculated based on original SPICE kernels"
/* TIME DATA ELEMENTS */
SPACECRAFT_CLOCK_START_COUNT = "1/0069991154.57168"
SPACECRAFT_CLOCK_STOP_COUNT = "1/0069991396.30784"
START_TIME = 2005-07-21T01:59:43.711Z
STOP_TIME = 2005-07-21T02:02:18.111Z
/* ORBITAL DATA ELEMENTS */
ASCENDING_NODE_LONGITUDE = 187.54
MAXIMUM_RESOLUTION = 35
FOOTPRINT_POINT_LATITUDE = (-14.9262,-14.9266,-14.9263,-14.9251, -14.923,-14.9201,-14.8467,-14.5595, -14.3681,-14.18,-13.991,-13.8017, -13.6158,-13.4296,-13.2428,-13.0584, -12.8749,-12.6909,-12.5073,-12.3266, -12.1454,-11.8735,-11.6057,-11.4273, -11.1596,-10.9836,-10.8078,-10.6316, -10.37,-10.197,-10.0238,-9.76502, -9.59586,-9.32883,-9.15772,-8.9951, -8.75256,-8.58243,-8.40162,-8.22862, -8.06439,-7.74543,-7.5795,-7.34029, -7.17838,-7.00711,-6.84623,-6.53138, -6.21501,-6.16652,-6.15883,-6.15241, -6.14861,-6.14773,-6.30776,-6.625, -6.78777,-6.95245,-7.11197,-7.27295, -7.43541,-7.6012,-7.76622,-7.9322, -8.09779,-8.26276,-8.43194,-8.60208, -8.77109,-9.02432,-9.19516,-9.36697, -9.62483,-9.79367,-9.96601,-10.1395, -10.3185,-10.4949,-10.6735,-10.8526, -11.029,-11.2048,-11.3837,-11.6517, -11.8299,-12.1008,-12.2822,-12.4632, -12.7383,-12.9222,-13.1059,-13.3847, -13.571,-13.7571,-13.9456,-14.1347, -14.3235,-14.6102,-14.8014,-14.9262)
FOOTPRINT_POINT_LONGITUDE = (267.401,267.151,266.844,266.535, 266.227,265.917,265.676,265.684,265.69, 265.696,265.702,265.707,265.713,265.718 ,265.723,265.728,265.733,265.738, 265.743,265.748,265.753,265.76,265.766, 265.771,265.777,265.781,265.785,265.789 ,265.795,265.799,265.803,265.809, 265.813,265.812,265.816,265.823,265.833 ,265.835,265.831,265.831,265.834, 265.847,265.85,265.858,265.861,265.858, 265.862,265.872,265.878,266.224,266.498 ,266.701,267.007,267.256,267.382,267.39 ,267.394,267.398,267.403,267.407, 267.411,267.415,267.42,267.424,267.428, 267.433,267.437,267.441,267.446,267.452 ,267.457,267.462,267.469,267.474,267.48 ,267.485,267.488,267.492,267.497, 267.502,267.507,267.512,267.518,267.527 ,267.533,267.542,267.548,267.554, 267.563,267.569,267.576,267.585,267.592 ,267.599,267.605,267.612,267.619,267.63 ,267.637,267.401)
ORBIT_NUMBER = 1944
ORBITAL_ECCENTRICITY = 0.572
ORBITAL_INCLINATION = 86.58
ORBITAL_SEMIMAJOR_AXIS = 8627.92
PERIAPSIS_ALTITUDE = 301.69
PERIAPSIS_ARGUMENT_ANGLE = 17.12
PERIAPSIS_TIME = 2005-07-21T02:08:44.000Z
SPACECRAFT_ORIENTATION = (0.0,1.0,0.0)
^MEX_ORIENTATION_DESC = "MEX_ORIENTATION_DESC.TXT"
SPACECRAFT_POINTING_MODE = ACROSSTRACK
^MEX_POINTING_DESC = "MEX_POINTING_DESC.TXT"
RIGHT_ASCENSION = -1e+32
DECLINATION = -1e+32
OFFSET_ANGLE = 0.25
SPACECRAFT_SOLAR_DISTANCE = 2.06652e+08
TARGET_NAME = MARS
/* CAMERA DATA ELEMENTS */
DETECTOR_TEMPERATURE = 19.1861
FOCAL_PLANE_TEMPERATURE = 10.2145
INST_CMPRS_NAME = "DISCRETE COSINE TRANSFORMATION (DCT)"
INST_CMPRS_RATIO = 6.38399
INST_CMPRS_QUALITY = 0
INST_CMPRS_QUANTZ_TBL_ID = 0
INSTRUMENT_TEMPERATURE = 12.8652
LENS_TEMPERATURE = 10.4184
MACROPIXEL_SIZE = 2
MISSING_FRAMES = 0
PIXEL_SUBSAMPLING_FLAG = N
SIGNAL_CHAIN_ID = 3
/* RADIOMETRIC DATA ELEMENTS */
BANDWIDTH = 177.0
CENTER_FILTER_WAVELENGTH = 676.5
RADIANCE_OFFSET = 2.646
RADIANCE_SCALING_FACTOR = 0.0209669
REFLECTANCE_SCALING_FACTOR = 0.000474754
MEX:REFLECTANCE_OFFSET = 0.0599135
/* IMAGE OBJECT DEFINITIONS */
OBJECT = IMAGE
  INTERCHANGE_FORMAT = BINARY
  LINES = 20826
  LINE_SAMPLES = 4440
  SAMPLE_TYPE = UNSIGNED_INTEGER
  SAMPLE_BITS = 8
  BANDS = 1
  BAND_STORAGE_TYPE = BAND_SEQUENTIAL
  MAXIMUM = 300
  MEAN = 163.849
  MINIMUM = 90
  STANDARD_DEVIATION = 20.1131
END_OBJECT = IMAGE
/* MAP OBJECT DEFINITIONS */
OBJECT = IMAGE_MAP_PROJECTION
  ^DATA_SET_MAP_PROJECTION_CATALOG= "DSMAP.CAT"
  A_AXIS_RADIUS = 3396.0
  B_AXIS_RADIUS = 3396.0
  C_AXIS_RADIUS = 3396.0
  CENTER_LATITUDE = 0.0
  CENTER_LONGITUDE = 267.0
  COORDINATE_SYSTEM_NAME = PLANETOGRAPHIC
  COORDINATE_SYSTEM_TYPE = "BODY-FIXED ROTATING"
  EASTERNMOST_LONGITUDE = 267.637
  FIRST_STANDARD_PARALLEL = "N/A"
  LINE_FIRST_PIXEL = 1
  LINE_LAST_PIXEL = 20826
  LINE_PROJECTION_OFFSET = -14533.25
  MAP_PROJECTION_ROTATION = 0.0
  MAP_PROJECTION_TYPE = SINUSOIDAL
  MAP_RESOLUTION = 2370.85521546667
  MAP_SCALE = 0.025
  MAXIMUM_LATITUDE = -6.14773
  MINIMUM_LATITUDE = -14.9266
  POSITIVE_LONGITUDE_DIRECTION = EAST
  REFERENCE_LATITUDE = "N/A"
  REFERENCE_LONGITUDE = "N/A"
  SAMPLE_FIRST_PIXEL = 1
  SAMPLE_LAST_PIXEL = 4440
  SAMPLE_PROJECTION_OFFSET = 3041.75
  SECOND_STANDARD_PARALLEL = "N/A"
  WESTERNMOST_LONGITUDE = 265.676
END_OBJECT = IMAGE_MAP_PROJECTION
/* The JPEG2000 image data file associated with this label. */
OBJECT = COMPRESSED_FILE
  FILE_NAME = "H1944_0000_P23.JP2"
  RECORD_TYPE = UNDEFINED
  FILE_RECORDS = UNK
  ENCODING_TYPE = "JP2"
  INTERCHANGE_FORMAT = BINARY
  UNCOMPRESSED_FILE_NAME = "H1944_0000_P23.IMG"
  REQUIRED_STORAGE_BYTES = "92494080"
  ^DESCRIPTION = "JP2INFO.TXT"
END_OBJECT = COMPRESSED_FILE
END
