PDS_VERSION_ID = PDS3
/* FILE DATA ELEMENTS */
RECORD_TYPE = STREAM
/* POINTERS TO DATA OBJECTS */
^COMPRESSED_FILE = "H1944_0000_RE3.JP2"
/* IDENTIFICATION DATA ELEMENTS */
DATA_SET_ID = "MEX-M-HRSC-5-REFDR-MAPPROJECTED-V3.0"
DATA_SET_NAME = "MARS EXPRESS HRSC MAP PROJECTED REFDR V3.0"
DETECTOR_ID = MEX_HRSC_RED
EVENT_TYPE = "MARS-REGIONAL-STEREO-Te-Lc-La"
INSTRUMENT_HOST_ID = MEX
INSTRUMENT_HOST_NAME = "MARS EXPRESS"
INSTRUMENT_ID = HRSC
INSTRUMENT_NAME = "HIGH RESOLUTION STEREO CAMERA"
MISSION_NAME = "MARS EXPRESS"
MISSION_PHASE_NAME = MR_Phase_7
PROCESSING_LEVEL_ID = 3
PRODUCT_CREATION_TIME = 2016-03-09T16:25:58.000Z
PRODUCT_ID = "H1944_0000_RE3.JP2"
RELEASE_ID = 0025
REVISION_ID = 0000
/* QUALITY DATA ELEMENTS */
DATA_QUALITY_ID = 1
DATA_QUALITY_DESC = "Data calculated based on original SPICE kernels"
/* TIME DATA ELEMENTS */
SPACECRAFT_CLOCK_START_COUNT = "1/0069991154.57168"
SPACECRAFT_CLOCK_STOP_COUNT = "1/0069991396.30784"
START_TIME = 2005-07-21T01:59:33.481Z
STOP_TIME = 2005-07-21T02:02:10.768Z
/* ORBITAL DATA ELEMENTS */
ASCENDING_NODE_LONGITUDE = 187.54
MAXIMUM_RESOLUTION = 143.6
FOOTPRINT_POINT_LATITUDE = (-14.924,-14.9238,-14.9224,-14.9198, -14.9165,-14.847,-14.6588,-14.377, -14.1916,-14.0056,-13.8201,-13.6371, -13.4536,-13.2693,-13.0888,-12.8173, -12.6359,-12.4578,-12.1898,-12.0107, -11.835,-11.6582,-11.482,-11.2201, -11.0459,-10.8721,-10.6982,-10.4414, -10.27,-10.0136,-9.84583,-9.67843, -9.41702,-9.24229,-9.07949,-8.84252, -8.58815,-8.41557,-8.24612,-8.08036, -7.76902,-7.60764,-7.37437,-7.21544, -7.04159,-6.88326,-6.57677,-6.16893, -6.16672,-6.15998,-6.15497,-6.1503, -6.14673,-6.22791,-6.38617,-6.54446, -6.70193,-6.86413,-7.17899,-7.42071, -7.58272,-7.74309,-7.90682,-8.07133, -8.23594,-8.48392,-8.7343,-8.90328, -9.0698,-9.23656,-9.40642,-9.66088, -9.82718,-9.99503,-10.166,-10.3409, -10.5141,-10.6895,-10.8712,-11.047, -11.2214,-11.4833,-11.6597,-11.8358, -12.0115,-12.1904,-12.3694,-12.5478, -12.8185,-12.9998,-13.2713,-13.4552, -13.6387,-13.822,-14.0076,-14.1938, -14.3795,-14.5676,-14.8497,-14.924)
FOOTPRINT_POINT_LONGITUDE = (267.347,267.046,266.707,266.368, 266.066,265.675,265.681,265.69,265.695, 265.701,265.707,265.712,265.717,265.723 ,265.728,265.735,265.74,265.745,265.753 ,265.757,265.762,265.766,265.771, 265.777,265.781,265.785,265.789,265.795 ,265.799,265.805,265.809,265.814, 265.815,265.816,265.821,265.832,265.834 ,265.833,265.834,265.836,265.849, 265.852,265.86,265.864,265.861,265.864, 265.874,265.948,266.229,266.525,266.722 ,266.921,267.234,267.387,267.391, 267.396,267.4,267.403,267.413,267.419, 267.423,267.428,267.432,267.437,267.441 ,267.447,267.454,267.458,267.463, 267.468,267.472,267.48,267.485,267.491, 267.496,267.501,267.506,267.51,267.514, 267.519,267.524,267.533,267.539,267.545 ,267.551,267.557,267.563,267.569, 267.579,267.585,267.595,267.602,267.608 ,267.615,267.622,267.629,267.636, 267.643,267.654,267.347)
ORBIT_NUMBER = 1944
ORBITAL_ECCENTRICITY = 0.572
ORBITAL_INCLINATION = 86.58
ORBITAL_SEMIMAJOR_AXIS = 8627.92
PERIAPSIS_ALTITUDE = 301.69
PERIAPSIS_ARGUMENT_ANGLE = 17.12
PERIAPSIS_TIME = 2005-07-21T02:08:44.000Z
SPACECRAFT_ORIENTATION = (0.0,1.0,0.0)
^MEX_ORIENTATION_DESC = "MEX_ORIENTATION_DESC.TXT"
SPACECRAFT_POINTING_MODE = ACROSSTRACK
^MEX_POINTING_DESC = "MEX_POINTING_DESC.TXT"
RIGHT_ASCENSION = -1e+32
DECLINATION = -1e+32
OFFSET_ANGLE = 0.25
SPACECRAFT_SOLAR_DISTANCE = 2.06652e+08
TARGET_NAME = MARS
/* CAMERA DATA ELEMENTS */
DETECTOR_TEMPERATURE = 19.1861
FOCAL_PLANE_TEMPERATURE = 10.2145
INST_CMPRS_NAME = "DISCRETE COSINE TRANSFORMATION (DCT)"
INST_CMPRS_RATIO = 11.748
INST_CMPRS_QUALITY = 0
INST_CMPRS_QUANTZ_TBL_ID = 0
INSTRUMENT_TEMPERATURE = 12.8652
LENS_TEMPERATURE = 10.4184
MACROPIXEL_SIZE = 8
MISSING_FRAMES = 0
PIXEL_SUBSAMPLING_FLAG = N
SIGNAL_CHAIN_ID = 2
/* RADIOMETRIC DATA ELEMENTS */
BANDWIDTH = 48.0
CENTER_FILTER_WAVELENGTH = 748.0
RADIANCE_OFFSET = 0.743732
RADIANCE_SCALING_FACTOR = 0.0063436
REFLECTANCE_SCALING_FACTOR = 0.000618216
MEX:REFLECTANCE_OFFSET = 0.0724805
/* IMAGE OBJECT DEFINITIONS */
OBJECT = IMAGE
  INTERCHANGE_FORMAT = BINARY
  LINES = 5207
  LINE_SAMPLES = 1110
  SAMPLE_TYPE = UNSIGNED_INTEGER
  SAMPLE_BITS = 8
  BANDS = 1
  BAND_STORAGE_TYPE = BAND_SEQUENTIAL
  MAXIMUM = 269
  MEAN = 135.021
  MINIMUM = 78
  STANDARD_DEVIATION = 17.7921
END_OBJECT = IMAGE
/* MAP OBJECT DEFINITIONS */
OBJECT = IMAGE_MAP_PROJECTION
  ^DATA_SET_MAP_PROJECTION_CATALOG= "DSMAP.CAT"
  A_AXIS_RADIUS = 3396.0
  B_AXIS_RADIUS = 3396.0
  C_AXIS_RADIUS = 3396.0
  CENTER_LATITUDE = 0.0
  CENTER_LONGITUDE = 267.0
  COORDINATE_SYSTEM_NAME = PLANETOGRAPHIC
  COORDINATE_SYSTEM_TYPE = "BODY-FIXED ROTATING"
  EASTERNMOST_LONGITUDE = 267.654
  FIRST_STANDARD_PARALLEL = "N/A"
  LINE_FIRST_PIXEL = 1
  LINE_LAST_PIXEL = 5207
  LINE_PROJECTION_OFFSET = -3633.6875
  MAP_PROJECTION_ROTATION = 0.0
  MAP_PROJECTION_TYPE = SINUSOIDAL
  MAP_RESOLUTION = 592.713803866667
  MAP_SCALE = 0.1
  MAXIMUM_LATITUDE = -6.14673
  MINIMUM_LATITUDE = -14.924
  POSITIVE_LONGITUDE_DIRECTION = EAST
  REFERENCE_LATITUDE = "N/A"
  REFERENCE_LONGITUDE = "N/A"
  SAMPLE_FIRST_PIXEL = 1
  SAMPLE_LAST_PIXEL = 1110
  SAMPLE_PROJECTION_OFFSET = 760.0625
  SECOND_STANDARD_PARALLEL = "N/A"
  WESTERNMOST_LONGITUDE = 265.675
END_OBJECT = IMAGE_MAP_PROJECTION
/* The JPEG2000 image data file associated with this label. */
OBJECT = COMPRESSED_FILE
  FILE_NAME = "H1944_0000_RE3.JP2"
  RECORD_TYPE = UNDEFINED
  FILE_RECORDS = UNK
  ENCODING_TYPE = "JP2"
  INTERCHANGE_FORMAT = BINARY
  UNCOMPRESSED_FILE_NAME = "H1944_0000_RE3.IMG"
  REQUIRED_STORAGE_BYTES = "5798640"
  ^DESCRIPTION = "JP2INFO.TXT"
END_OBJECT = COMPRESSED_FILE
END
