PDS_VERSION_ID = PDS3
/* FILE DATA ELEMENTS */
RECORD_TYPE = STREAM
/* POINTERS TO DATA OBJECTS */
^COMPRESSED_FILE = "H1945_0002_SR3.JP2"
/* IDENTIFICATION DATA ELEMENTS */
DATA_SET_ID = "MEX-M-HRSC-5-REFDR-MAPPROJECTED-V3.0"
DATA_SET_NAME = "MARS EXPRESS HRSC MAP PROJECTED REFDR V3.0"
DETECTOR_ID = MEX_HRSC_SRC
EVENT_TYPE = "MARS-REGIONAL-MAPPING-Vo-Te-Mw"
INSTRUMENT_HOST_ID = MEX
INSTRUMENT_HOST_NAME = "MARS EXPRESS"
INSTRUMENT_ID = HRSC
INSTRUMENT_NAME = "HIGH RESOLUTION STEREO CAMERA"
MISSION_NAME = "MARS EXPRESS"
MISSION_PHASE_NAME = MR_Phase_7
PROCESSING_LEVEL_ID = 3
PRODUCT_CREATION_TIME = 2016-03-09T16:25:58.000Z
PRODUCT_ID = "H1945_0002_SR3.JP2"
RELEASE_ID = 0025
REVISION_ID = 0000
/* QUALITY DATA ELEMENTS */
DATA_QUALITY_ID = 1
DATA_QUALITY_DESC = "Data calculated based on original SPICE kernels"
/* TIME DATA ELEMENTS */
SPACECRAFT_CLOCK_START_COUNT = "1/0070015236.57933"
SPACECRAFT_CLOCK_STOP_COUNT = "1/0070015674.09384"
IMAGE_TIME = 2005-07-21T08:45:03.225Z
START_TIME = 2005-07-21T08:45:03.223Z
STOP_TIME = 2005-07-21T08:45:03.228Z
/* ORBITAL DATA ELEMENTS */
ASCENDING_NODE_LONGITUDE = 187.52
MAXIMUM_RESOLUTION = 4.167
FOOTPRINT_POINT_LATITUDE = (-9.64371,-9.6418,-9.638,-9.63497, -9.63243,-9.62855,-9.62397,-9.62024, -9.61721,-9.61474,-9.61058,-9.60678, -9.60424,-9.6005,-9.59712,-9.59494, -9.5917,-9.58761,-9.58521,-9.58239, -9.58042,-9.57859,-9.57661,-9.57548, -9.57548,-9.57547,-9.57547,-9.57546, -9.57546,-9.57545,-9.57545,-9.57545, -9.57544,-9.57544,-9.57543,-9.57543, -9.57542,-9.57542,-9.57541,-9.57541, -9.5754,-9.5754,-9.57539,-9.57539, -9.57538,-9.57538,-9.57537,-9.57537, -9.57734,-9.57973,-9.58269,-9.58564, -9.58747,-9.59022,-9.59254,-9.59655, -9.59894,-9.60091,-9.60387,-9.60703, -9.61112,-9.61428,-9.61717,-9.61907, -9.62153,-9.62406,-9.62681,-9.63012, -9.63209,-9.63483,-9.63884,-9.64138, -9.64412,-9.64623,-9.64624,-9.64625, -9.64626,-9.64627,-9.64628,-9.64629, -9.64629,-9.6463,-9.64631,-9.64632, -9.64633,-9.64634,-9.64635,-9.64636, -9.64636,-9.64637,-9.64638,-9.64639, -9.6464,-9.64641,-9.64642,-9.64642, -9.64643,-9.64644,-9.64645,-9.64371)
FOOTPRINT_POINT_LONGITUDE = (167.506,167.506,167.506,167.506, 167.506,167.506,167.506,167.506,167.506 ,167.506,167.506,167.506,167.506, 167.506,167.506,167.506,167.506,167.506 ,167.506,167.506,167.506,167.506, 167.506,167.51,167.513,167.516,167.519, 167.521,167.524,167.527,167.53,167.533, 167.536,167.539,167.542,167.545,167.547 ,167.55,167.553,167.556,167.559,167.562 ,167.565,167.568,167.571,167.573, 167.576,167.579,167.58,167.58,167.58, 167.58,167.58,167.58,167.58,167.58, 167.58,167.58,167.58,167.58,167.58, 167.58,167.58,167.58,167.58,167.58, 167.58,167.58,167.58,167.58,167.58, 167.58,167.58,167.58,167.577,167.574, 167.571,167.568,167.565,167.562,167.56, 167.557,167.554,167.551,167.548,167.545 ,167.542,167.539,167.536,167.534, 167.531,167.528,167.525,167.522,167.519 ,167.516,167.513,167.51,167.507, 167.506)
ORBIT_NUMBER = 1945
ORBITAL_ECCENTRICITY = 0.571
ORBITAL_INCLINATION = 86.58
ORBITAL_SEMIMAJOR_AXIS = 8612.96
PERIAPSIS_ALTITUDE = 302.37
PERIAPSIS_ARGUMENT_ANGLE = 16.94
PERIAPSIS_TIME = 2005-07-21T08:51:56.000Z
SPACECRAFT_ORIENTATION = (0.0,1.0,0.0)
^MEX_ORIENTATION_DESC = "MEX_ORIENTATION_DESC.TXT"
SPACECRAFT_POINTING_MODE = ACROSSTRACK
^MEX_POINTING_DESC = "MEX_POINTING_DESC.TXT"
RIGHT_ASCENSION = -1e+32
DECLINATION = -1e+32
OFFSET_ANGLE = 1.05
SPACECRAFT_SOLAR_DISTANCE = 2.06654e+08
TARGET_NAME = MARS
/* CAMERA DATA ELEMENTS */
BUFFER_MODE_ID = BUFFER_8
EXPOSURE_DURATION = 5.04
INST_CMPRS_NAME = NONE
INST_CMPRS_RATIO = 1.0
INST_CMPRS_QUALITY = -2147483648
INST_CMPRS_QUANTZ_TBL_ID = -2147483648
INSTRUMENT_TEMPERATURE = 14.3358
MISSING_FRAMES = 0
START_BIT = 0
/* RADIOMETRIC DATA ELEMENTS */
BANDWIDTH = 250.0
CENTER_FILTER_WAVELENGTH = 600.0
RADIANCE_OFFSET = -9.99e+31
RADIANCE_SCALING_FACTOR = -9.99e+31
REFLECTANCE_SCALING_FACTOR = -9.99e+31
MEX:REFLECTANCE_OFFSET = -9.99e+31
/* IMAGE OBJECT DEFINITIONS */
OBJECT = IMAGE
  INTERCHANGE_FORMAT = BINARY
  LINES = 884
  LINE_SAMPLES = 904
  SAMPLE_TYPE = UNSIGNED_INTEGER
  SAMPLE_BITS = 8
  BANDS = 1
  BAND_STORAGE_TYPE = BAND_SEQUENTIAL
  MAXIMUM = 6039
  MEAN = 5421.26
  MINIMUM = 4506
  STANDARD_DEVIATION = 203.536
END_OBJECT = IMAGE
/* MAP OBJECT DEFINITIONS */
OBJECT = IMAGE_MAP_PROJECTION
  ^DATA_SET_MAP_PROJECTION_CATALOG= "DSMAP.CAT"
  A_AXIS_RADIUS = 3396.19
  B_AXIS_RADIUS = 3396.19
  C_AXIS_RADIUS = 3396.19
  CENTER_LATITUDE = 0.0
  CENTER_LONGITUDE = 168.0
  COORDINATE_SYSTEM_NAME = PLANETOGRAPHIC
  COORDINATE_SYSTEM_TYPE = "BODY-FIXED ROTATING"
  EASTERNMOST_LONGITUDE = 167.58
  FIRST_STANDARD_PARALLEL = "N/A"
  LINE_FIRST_PIXEL = 1
  LINE_LAST_PIXEL = 884
  LINE_PROJECTION_OFFSET = -113488.0
  MAP_PROJECTION_ROTATION = 0.0
  MAP_PROJECTION_TYPE = SINUSOIDAL
  MAP_RESOLUTION = 11854.9393024378
  MAP_SCALE = 0.005
  MAXIMUM_LATITUDE = -9.575369999999999
  MINIMUM_LATITUDE = -9.64645
  POSITIVE_LONGITUDE_DIRECTION = EAST
  REFERENCE_LATITUDE = "N/A"
  REFERENCE_LONGITUDE = "N/A"
  SAMPLE_FIRST_PIXEL = 1
  SAMPLE_LAST_PIXEL = 904
  SAMPLE_PROJECTION_OFFSET = 5804.0
  SECOND_STANDARD_PARALLEL = "N/A"
  WESTERNMOST_LONGITUDE = 167.506
END_OBJECT = IMAGE_MAP_PROJECTION
/* The JPEG2000 image data file associated with this label. */
OBJECT = COMPRESSED_FILE
  FILE_NAME = "H1945_0002_SR3.JP2"
  RECORD_TYPE = UNDEFINED
  FILE_RECORDS = UNK
  ENCODING_TYPE = "JP2"
  INTERCHANGE_FORMAT = BINARY
  UNCOMPRESSED_FILE_NAME = "H1945_0002_SR3.IMG"
  REQUIRED_STORAGE_BYTES = "818120"
  ^DESCRIPTION = "JP2INFO.TXT"
END_OBJECT = COMPRESSED_FILE
END
