PDS_VERSION_ID = PDS3
/* FILE DATA ELEMENTS */
RECORD_TYPE = STREAM
/* POINTERS TO DATA OBJECTS */
^COMPRESSED_FILE = "H1945_0007_SR3.JP2"
/* IDENTIFICATION DATA ELEMENTS */
DATA_SET_ID = "MEX-M-HRSC-5-REFDR-MAPPROJECTED-V3.0"
DATA_SET_NAME = "MARS EXPRESS HRSC MAP PROJECTED REFDR V3.0"
DETECTOR_ID = MEX_HRSC_SRC
EVENT_TYPE = "MARS-REGIONAL-MAPPING-Vo-Te-Mw"
INSTRUMENT_HOST_ID = MEX
INSTRUMENT_HOST_NAME = "MARS EXPRESS"
INSTRUMENT_ID = HRSC
INSTRUMENT_NAME = "HIGH RESOLUTION STEREO CAMERA"
MISSION_NAME = "MARS EXPRESS"
MISSION_PHASE_NAME = MR_Phase_7
PROCESSING_LEVEL_ID = 3
PRODUCT_CREATION_TIME = 2016-03-09T16:25:58.000Z
PRODUCT_ID = "H1945_0007_SR3.JP2"
RELEASE_ID = 0025
REVISION_ID = 0000
/* QUALITY DATA ELEMENTS */
DATA_QUALITY_ID = 1
DATA_QUALITY_DESC = "Data calculated based on original SPICE kernels"
/* TIME DATA ELEMENTS */
SPACECRAFT_CLOCK_START_COUNT = "1/0070015236.57933"
SPACECRAFT_CLOCK_STOP_COUNT = "1/0070015674.09384"
IMAGE_TIME = 2005-07-21T08:45:08.675Z
START_TIME = 2005-07-21T08:45:08.673Z
STOP_TIME = 2005-07-21T08:45:08.678Z
/* ORBITAL DATA ELEMENTS */
ASCENDING_NODE_LONGITUDE = 187.52
MAXIMUM_RESOLUTION = 4.13
FOOTPRINT_POINT_LATITUDE = (-9.31184,-9.30758,-9.305,-9.30283, -9.29976,-9.29745,-9.29536,-9.29291, -9.29054,-9.28704,-9.28467,-9.28216, -9.27985,-9.27601,-9.27343,-9.2707, -9.26854,-9.26588,-9.26386,-9.26134, -9.25953,-9.25722,-9.25373,-9.25121, -9.24737,-9.24556,-9.24332,-9.2429, -9.24289,-9.24289,-9.24288,-9.24288, -9.24287,-9.24287,-9.24286,-9.24286, -9.24285,-9.24285,-9.24284,-9.24284, -9.24283,-9.24283,-9.24282,-9.24282, -9.24281,-9.24281,-9.2428,-9.2428, -9.24279,-9.24279,-9.24278,-9.24278, -9.2464,-9.24912,-9.25136,-9.25345, -9.25589,-9.25903,-9.26112,-9.26489, -9.26754,-9.26956,-9.27249,-9.27591, -9.27981,-9.28246,-9.28588,-9.28999, -9.29292,-9.2955,-9.29774,-9.3015, -9.30583,-9.31001,-9.31301,-9.31302, -9.31303,-9.31304,-9.31305,-9.31306, -9.31307,-9.31308,-9.31309,-9.3131, -9.31311,-9.31311,-9.31312,-9.31313, -9.31314,-9.31315,-9.31316,-9.31317, -9.31318,-9.31319,-9.31319,-9.3132, -9.31321,-9.31322,-9.31323,-9.31184)
FOOTPRINT_POINT_LONGITUDE = (167.507,167.507,167.507,167.507, 167.507,167.507,167.507,167.507,167.507 ,167.507,167.507,167.507,167.507, 167.507,167.507,167.507,167.507,167.507 ,167.507,167.507,167.507,167.507, 167.507,167.507,167.507,167.507,167.507 ,167.51,167.513,167.516,167.519,167.522 ,167.525,167.527,167.53,167.533,167.536 ,167.539,167.542,167.545,167.547,167.55 ,167.553,167.556,167.559,167.562, 167.565,167.567,167.57,167.573,167.576, 167.579,167.579,167.579,167.579,167.579 ,167.579,167.579,167.579,167.579, 167.579,167.579,167.579,167.579,167.579 ,167.579,167.579,167.579,167.579, 167.579,167.579,167.579,167.579,167.579 ,167.578,167.575,167.572,167.569, 167.566,167.564,167.561,167.558,167.555 ,167.552,167.549,167.546,167.544, 167.541,167.538,167.535,167.532,167.529 ,167.526,167.523,167.521,167.518, 167.515,167.512,167.509,167.507)
ORBIT_NUMBER = 1945
ORBITAL_ECCENTRICITY = 0.571
ORBITAL_INCLINATION = 86.58
ORBITAL_SEMIMAJOR_AXIS = 8612.96
PERIAPSIS_ALTITUDE = 302.37
PERIAPSIS_ARGUMENT_ANGLE = 16.94
PERIAPSIS_TIME = 2005-07-21T08:51:56.000Z
SPACECRAFT_ORIENTATION = (0.0,1.0,0.0)
^MEX_ORIENTATION_DESC = "MEX_ORIENTATION_DESC.TXT"
SPACECRAFT_POINTING_MODE = ACROSSTRACK
^MEX_POINTING_DESC = "MEX_POINTING_DESC.TXT"
RIGHT_ASCENSION = -1e+32
DECLINATION = -1e+32
OFFSET_ANGLE = 1.05
SPACECRAFT_SOLAR_DISTANCE = 2.06654e+08
TARGET_NAME = MARS
/* CAMERA DATA ELEMENTS */
BUFFER_MODE_ID = BUFFER_8
EXPOSURE_DURATION = 5.04
INST_CMPRS_NAME = NONE
INST_CMPRS_RATIO = 1.0
INST_CMPRS_QUALITY = -2147483648
INST_CMPRS_QUANTZ_TBL_ID = -2147483648
INSTRUMENT_TEMPERATURE = 14.852
MISSING_FRAMES = 0
START_BIT = 0
/* RADIOMETRIC DATA ELEMENTS */
BANDWIDTH = 250.0
CENTER_FILTER_WAVELENGTH = 600.0
RADIANCE_OFFSET = -9.99e+31
RADIANCE_SCALING_FACTOR = -9.99e+31
REFLECTANCE_SCALING_FACTOR = -9.99e+31
MEX:REFLECTANCE_OFFSET = -9.99e+31
/* IMAGE OBJECT DEFINITIONS */
OBJECT = IMAGE
  INTERCHANGE_FORMAT = BINARY
  LINES = 877
  LINE_SAMPLES = 895
  SAMPLE_TYPE = UNSIGNED_INTEGER
  SAMPLE_BITS = 8
  BANDS = 1
  BAND_STORAGE_TYPE = BAND_SEQUENTIAL
  MAXIMUM = 5995
  MEAN = 5359.41
  MINIMUM = 4546
  STANDARD_DEVIATION = 190.276
END_OBJECT = IMAGE
/* MAP OBJECT DEFINITIONS */
OBJECT = IMAGE_MAP_PROJECTION
  ^DATA_SET_MAP_PROJECTION_CATALOG= "DSMAP.CAT"
  A_AXIS_RADIUS = 3396.19
  B_AXIS_RADIUS = 3396.19
  C_AXIS_RADIUS = 3396.19
  CENTER_LATITUDE = 0.0
  CENTER_LONGITUDE = 168.0
  COORDINATE_SYSTEM_NAME = PLANETOGRAPHIC
  COORDINATE_SYSTEM_TYPE = "BODY-FIXED ROTATING"
  EASTERNMOST_LONGITUDE = 167.579
  FIRST_STANDARD_PARALLEL = "N/A"
  LINE_FIRST_PIXEL = 1
  LINE_LAST_PIXEL = 877
  LINE_PROJECTION_OFFSET = -109546.0
  MAP_PROJECTION_ROTATION = 0.0
  MAP_PROJECTION_TYPE = SINUSOIDAL
  MAP_RESOLUTION = 11854.9393024378
  MAP_SCALE = 0.005
  MAXIMUM_LATITUDE = -9.24278
  MINIMUM_LATITUDE = -9.313230000000001
  POSITIVE_LONGITUDE_DIRECTION = EAST
  REFERENCE_LATITUDE = "N/A"
  REFERENCE_LONGITUDE = "N/A"
  SAMPLE_FIRST_PIXEL = 1
  SAMPLE_LAST_PIXEL = 895
  SAMPLE_PROJECTION_OFFSET = 5804.0
  SECOND_STANDARD_PARALLEL = "N/A"
  WESTERNMOST_LONGITUDE = 167.507
END_OBJECT = IMAGE_MAP_PROJECTION
/* The JPEG2000 image data file associated with this label. */
OBJECT = COMPRESSED_FILE
  FILE_NAME = "H1945_0007_SR3.JP2"
  RECORD_TYPE = UNDEFINED
  FILE_RECORDS = UNK
  ENCODING_TYPE = "JP2"
  INTERCHANGE_FORMAT = BINARY
  UNCOMPRESSED_FILE_NAME = "H1945_0007_SR3.IMG"
  REQUIRED_STORAGE_BYTES = "803710"
  ^DESCRIPTION = "JP2INFO.TXT"
END_OBJECT = COMPRESSED_FILE
END
