PDS_VERSION_ID = PDS3
/* FILE DATA ELEMENTS */
RECORD_TYPE = STREAM
/* POINTERS TO DATA OBJECTS */
^COMPRESSED_FILE = "H1946_0000_BL3.JP2"
/* IDENTIFICATION DATA ELEMENTS */
DATA_SET_ID = "MEX-M-HRSC-5-REFDR-MAPPROJECTED-V3.0"
DATA_SET_NAME = "MARS EXPRESS HRSC MAP PROJECTED REFDR V3.0"
DETECTOR_ID = MEX_HRSC_BLUE
EVENT_TYPE = "MARS-GLOBAL-MAPPING-Fl-Gl-Mw"
INSTRUMENT_HOST_ID = MEX
INSTRUMENT_HOST_NAME = "MARS EXPRESS"
INSTRUMENT_ID = HRSC
INSTRUMENT_NAME = "HIGH RESOLUTION STEREO CAMERA"
MISSION_NAME = "MARS EXPRESS"
MISSION_PHASE_NAME = MR_Phase_7
PROCESSING_LEVEL_ID = 3
PRODUCT_CREATION_TIME = 2016-03-09T16:25:58.000Z
PRODUCT_ID = "H1946_0000_BL3.JP2"
RELEASE_ID = 0025
REVISION_ID = 0000
/* QUALITY DATA ELEMENTS */
DATA_QUALITY_ID = 1
DATA_QUALITY_DESC = "Data calculated based on original SPICE kernels"
/* TIME DATA ELEMENTS */
SPACECRAFT_CLOCK_START_COUNT = "1/0070038490.57140"
SPACECRAFT_CLOCK_STOP_COUNT = "1/0070039404.10765"
START_TIME = 2005-07-21T15:13:21.928Z
STOP_TIME = 2005-07-21T15:21:55.396Z
/* ORBITAL DATA ELEMENTS */
ASCENDING_NODE_LONGITUDE = 187.51
MAXIMUM_RESOLUTION = 130
FOOTPRINT_POINT_LATITUDE = (-52.1918,-52.1857,-52.1653,-52.1334, -52.0855,-52.0233,-51.982,-51.5492, -50.7824,-50.0037,-49.2134,-48.4121, -47.5984,-46.7725,-46.3551,-45.9342, -45.5106,-45.0853,-44.6552,-44.2224, -43.7861,-43.3467,-42.9047,-42.4597, -42.0108,-41.5592,-41.1038,-40.6458, -40.1843,-39.7198,-39.2519,-38.7815, -38.3065,-37.8285,-37.3478,-36.8653, -36.388,-35.9141,-35.4455,-34.9813, -34.5217,-34.0667,-33.6162,-33.1697, -32.7283,-32.2904,-31.8567,-31.4274, -31.002,-30.1627,-30.1635,-30.169, -30.1734,-30.1737,-30.172,-30.5908, -31.0136,-31.4403,-31.8709,-32.306, -32.745,-33.1883,-33.6368,-34.0888, -34.5457,-35.0072,-35.4737,-35.9441, -36.4207,-36.9009,-37.3859,-37.8696, -38.35,-38.8284,-39.3025,-39.7738, -40.2419,-40.7065,-41.169,-41.6282, -42.0834,-42.5366,-42.9868,-43.4328, -43.8766,-44.318,-44.7545,-45.189, -45.6211,-46.0496,-46.4762,-46.9006, -47.3209,-48.1527,-48.9732,-49.783, -50.582,-51.3705,-52.1488,-52.1918)
FOOTPRINT_POINT_LONGITUDE = (72.6694,71.3376,70.0851,68.912,67.6616 ,66.4088,65.7036,65.4029,65.6033, 65.7951,65.9794,66.1582,66.3285,66.4917 ,66.5711,66.6477,66.7236,66.801,66.873, 66.9443,67.0133,67.0812,67.1485,67.2149 ,67.2783,67.3413,67.4018,67.4622, 67.5208,67.5784,67.6346,67.6911,67.7436 ,67.7955,67.8474,67.8973,67.9472, 67.9931,68.0371,68.0799,68.1208,68.1609 ,68.199,68.2358,68.2718,68.3057,68.339, 68.3708,68.4016,68.4606,69.1648,69.6537 ,70.3247,71.0858,71.7341,71.7596, 71.7854,71.8119,71.839,71.8669,71.8958, 71.9249,71.9544,71.9856,72.0174,72.0501 ,72.0833,72.118,72.1526,72.1898,72.2276 ,72.2662,72.3053,72.3431,72.3831, 72.4232,72.4638,72.5057,72.5462,72.5877 ,72.6313,72.6737,72.7165,72.762,72.8066 ,72.8504,72.8987,72.9458,72.9922, 73.0407,73.0878,73.1343,73.1836,73.2851 ,73.3891,73.4951,73.6036,73.7142,73.827 ,72.6694)
ORBIT_NUMBER = 1946
ORBITAL_ECCENTRICITY = 0.571
ORBITAL_INCLINATION = 86.59
ORBITAL_SEMIMAJOR_AXIS = 8622.92
PERIAPSIS_ALTITUDE = 301.37
PERIAPSIS_ARGUMENT_ANGLE = 16.75
PERIAPSIS_TIME = 2005-07-21T15:35:05.000Z
SPACECRAFT_ORIENTATION = (0.0,1.0,0.0)
^MEX_ORIENTATION_DESC = "MEX_ORIENTATION_DESC.TXT"
SPACECRAFT_POINTING_MODE = ACROSSTRACK
^MEX_POINTING_DESC = "MEX_POINTING_DESC.TXT"
RIGHT_ASCENSION = -1e+32
DECLINATION = -1e+32
OFFSET_ANGLE = 0.28
SPACECRAFT_SOLAR_DISTANCE = 2.06656e+08
TARGET_NAME = MARS
/* CAMERA DATA ELEMENTS */
DETECTOR_TEMPERATURE = 18.5744
FOCAL_PLANE_TEMPERATURE = 9.3989
INST_CMPRS_NAME = "DISCRETE COSINE TRANSFORMATION (DCT)"
INST_CMPRS_RATIO = 16.6164
INST_CMPRS_QUALITY = 0
INST_CMPRS_QUANTZ_TBL_ID = 0
INSTRUMENT_TEMPERATURE = 11.4379
LENS_TEMPERATURE = 9.8067
MACROPIXEL_SIZE = 4
MISSING_FRAMES = 0
PIXEL_SUBSAMPLING_FLAG = N
SIGNAL_CHAIN_ID = 2
/* RADIOMETRIC DATA ELEMENTS */
BANDWIDTH = 76.0
CENTER_FILTER_WAVELENGTH = 444.0
RADIANCE_OFFSET = 0.899713
RADIANCE_SCALING_FACTOR = 0.000994677
REFLECTANCE_SCALING_FACTOR = 4.3645e-05
MEX:REFLECTANCE_OFFSET = 0.0394781
/* IMAGE OBJECT DEFINITIONS */
OBJECT = IMAGE
  INTERCHANGE_FORMAT = BINARY
  LINES = 13039
  LINE_SAMPLES = 2989
  SAMPLE_TYPE = UNSIGNED_INTEGER
  SAMPLE_BITS = 8
  BANDS = 1
  BAND_STORAGE_TYPE = BAND_SEQUENTIAL
  MAXIMUM = 246
  MEAN = 216.306
  MINIMUM = 186
  STANDARD_DEVIATION = 9.47433
END_OBJECT = IMAGE
/* MAP OBJECT DEFINITIONS */
OBJECT = IMAGE_MAP_PROJECTION
  ^DATA_SET_MAP_PROJECTION_CATALOG= "DSMAP.CAT"
  A_AXIS_RADIUS = 3396.0
  B_AXIS_RADIUS = 3396.0
  C_AXIS_RADIUS = 3396.0
  CENTER_LATITUDE = 0.0
  CENTER_LONGITUDE = 70.0
  COORDINATE_SYSTEM_NAME = PLANETOGRAPHIC
  COORDINATE_SYSTEM_TYPE = "BODY-FIXED ROTATING"
  EASTERNMOST_LONGITUDE = 73.827
  FIRST_STANDARD_PARALLEL = "N/A"
  LINE_FIRST_PIXEL = 1
  LINE_LAST_PIXEL = 13039
  LINE_PROJECTION_OFFSET = -17878.875
  MAP_PROJECTION_ROTATION = 0.0
  MAP_PROJECTION_TYPE = SINUSOIDAL
  MAP_RESOLUTION = 592.713803866667
  MAP_SCALE = 0.1
  MAXIMUM_LATITUDE = -30.1627
  MINIMUM_LATITUDE = -52.1918
  POSITIVE_LONGITUDE_DIRECTION = EAST
  REFERENCE_LATITUDE = "N/A"
  REFERENCE_LONGITUDE = "N/A"
  SAMPLE_FIRST_PIXEL = 1
  SAMPLE_LAST_PIXEL = 2989
  SAMPLE_PROJECTION_OFFSET = 1658.125
  SECOND_STANDARD_PARALLEL = "N/A"
  WESTERNMOST_LONGITUDE = 65.4029
END_OBJECT = IMAGE_MAP_PROJECTION
/* The JPEG2000 image data file associated with this label. */
OBJECT = COMPRESSED_FILE
  FILE_NAME = "H1946_0000_BL3.JP2"
  RECORD_TYPE = UNDEFINED
  FILE_RECORDS = UNK
  ENCODING_TYPE = "JP2"
  INTERCHANGE_FORMAT = BINARY
  UNCOMPRESSED_FILE_NAME = "H1946_0000_BL3.IMG"
  REQUIRED_STORAGE_BYTES = "38997483"
  ^DESCRIPTION = "JP2INFO.TXT"
END_OBJECT = COMPRESSED_FILE
END
