PDS_VERSION_ID = PDS3
/* FILE DATA ELEMENTS */
RECORD_TYPE = STREAM
/* POINTERS TO DATA OBJECTS */
^COMPRESSED_FILE = "H1946_0004_SR3.JP2"
/* IDENTIFICATION DATA ELEMENTS */
DATA_SET_ID = "MEX-M-HRSC-5-REFDR-MAPPROJECTED-V3.0"
DATA_SET_NAME = "MARS EXPRESS HRSC MAP PROJECTED REFDR V3.0"
DETECTOR_ID = MEX_HRSC_SRC
EVENT_TYPE = "MARS-GLOBAL-MAPPING-Fl-Gl-Mw"
INSTRUMENT_HOST_ID = MEX
INSTRUMENT_HOST_NAME = "MARS EXPRESS"
INSTRUMENT_ID = HRSC
INSTRUMENT_NAME = "HIGH RESOLUTION STEREO CAMERA"
MISSION_NAME = "MARS EXPRESS"
MISSION_PHASE_NAME = MR_Phase_7
PROCESSING_LEVEL_ID = 3
PRODUCT_CREATION_TIME = 2016-03-09T16:25:58.000Z
PRODUCT_ID = "H1946_0004_SR3.JP2"
RELEASE_ID = 0025
REVISION_ID = 0000
/* QUALITY DATA ELEMENTS */
DATA_QUALITY_ID = 1
DATA_QUALITY_DESC = "Data calculated based on original SPICE kernels"
/* TIME DATA ELEMENTS */
SPACECRAFT_CLOCK_START_COUNT = "1/0070038490.57140"
SPACECRAFT_CLOCK_STOP_COUNT = "1/0070039404.10765"
IMAGE_TIME = 2005-07-21T15:19:28.186Z
START_TIME = 2005-07-21T15:19:28.183Z
STOP_TIME = 2005-07-21T15:19:28.188Z
/* ORBITAL DATA ELEMENTS */
ASCENDING_NODE_LONGITUDE = 187.51
MAXIMUM_RESOLUTION = 9.058
FOOTPRINT_POINT_LATITUDE = (-38.3285,-38.3215,-38.3176,-38.311, -38.3067,-38.2971,-38.2901,-38.2824, -38.2741,-38.2692,-38.264,-38.2594, -38.2522,-38.2454,-38.2394,-38.2321, -38.2267,-38.2225,-38.2155,-38.2101, -38.2043,-38.1961,-38.188,-38.1816, -38.1817,-38.1818,-38.1818,-38.1819, -38.182,-38.182,-38.1821,-38.1822, -38.1823,-38.1823,-38.1824,-38.1825, -38.1826,-38.1826,-38.1827,-38.1828, -38.1828,-38.1829,-38.183,-38.183, -38.1831,-38.1832,-38.1832,-38.1833, -38.1846,-38.1938,-38.201,-38.2059, -38.2106,-38.2148,-38.2209,-38.226, -38.2349,-38.2403,-38.245,-38.2502, -38.2582,-38.2636,-38.2722,-38.2766, -38.2816,-38.288,-38.2937,-38.2986, -38.3052,-38.3115,-38.3167,-38.3239, -38.3333,-38.3379,-38.3378,-38.3378, -38.3377,-38.3376,-38.3376,-38.3375, -38.3374,-38.3374,-38.3373,-38.3372, -38.3372,-38.3371,-38.337,-38.337, -38.3369,-38.3368,-38.3368,-38.3367, -38.3366,-38.3365,-38.3365,-38.3364, -38.3363,-38.3362,-38.3362,-38.3285)
FOOTPRINT_POINT_LONGITUDE = (69.9303,69.9304,69.9305,69.9306, 69.9307,69.9308,69.9309,69.9311,69.9312 ,69.9313,69.9314,69.9314,69.9315, 69.9316,69.9317,69.9319,69.9319,69.9323 ,69.9324,69.9325,69.9326,69.9327, 69.9328,69.9331,69.9448,69.9527,69.9605 ,69.9683,69.9761,69.9839,69.9917, 69.9995,70.0073,70.0151,70.0229,70.0307 ,70.0385,70.0464,70.0542,70.062,70.0698 ,70.0776,70.0854,70.0932,70.101,70.1088 ,70.1166,70.1244,70.1314,70.1313, 70.1312,70.1312,70.1311,70.131,70.131, 70.1307,70.1306,70.1306,70.1305,70.1304 ,70.1303,70.1302,70.1301,70.1301,70.13, 70.1299,70.1299,70.1298,70.1297,70.1296 ,70.1296,70.1295,70.1293,70.1291, 70.1213,70.1134,70.1056,70.0978,70.0899 ,70.0821,70.0743,70.0665,70.0586, 70.0508,70.043,70.0351,70.0273,70.0195, 70.0117,70.0038,69.996,69.9882,69.9803, 69.9725,69.9647,69.9568,69.949,69.9412, 69.9333,69.9303)
ORBIT_NUMBER = 1946
ORBITAL_ECCENTRICITY = 0.571
ORBITAL_INCLINATION = 86.59
ORBITAL_SEMIMAJOR_AXIS = 8622.92
PERIAPSIS_ALTITUDE = 301.37
PERIAPSIS_ARGUMENT_ANGLE = 16.75
PERIAPSIS_TIME = 2005-07-21T15:35:05.000Z
SPACECRAFT_ORIENTATION = (0.0,1.0,0.0)
^MEX_ORIENTATION_DESC = "MEX_ORIENTATION_DESC.TXT"
SPACECRAFT_POINTING_MODE = ACROSSTRACK
^MEX_POINTING_DESC = "MEX_POINTING_DESC.TXT"
RIGHT_ASCENSION = -1e+32
DECLINATION = -1e+32
OFFSET_ANGLE = 0.28
SPACECRAFT_SOLAR_DISTANCE = 2.06656e+08
TARGET_NAME = MARS
/* CAMERA DATA ELEMENTS */
BUFFER_MODE_ID = BUFFER_8
EXPOSURE_DURATION = 5.04
INST_CMPRS_NAME = NONE
INST_CMPRS_RATIO = 1.0
INST_CMPRS_QUALITY = -2147483648
INST_CMPRS_QUANTZ_TBL_ID = -2147483648
INSTRUMENT_TEMPERATURE = 20.2597
MISSING_FRAMES = 0
START_BIT = 0
/* RADIOMETRIC DATA ELEMENTS */
BANDWIDTH = 250.0
CENTER_FILTER_WAVELENGTH = 600.0
RADIANCE_OFFSET = -9.99e+31
RADIANCE_SCALING_FACTOR = -9.99e+31
REFLECTANCE_SCALING_FACTOR = -9.99e+31
MEX:REFLECTANCE_OFFSET = -9.99e+31
/* IMAGE OBJECT DEFINITIONS */
OBJECT = IMAGE
  INTERCHANGE_FORMAT = BINARY
  LINES = 974
  LINE_SAMPLES = 984
  SAMPLE_TYPE = UNSIGNED_INTEGER
  SAMPLE_BITS = 8
  BANDS = 1
  BAND_STORAGE_TYPE = BAND_SEQUENTIAL
  MAXIMUM = 6833
  MEAN = 6415.12
  MINIMUM = 5496
  STANDARD_DEVIATION = 91.526
END_OBJECT = IMAGE
/* MAP OBJECT DEFINITIONS */
OBJECT = IMAGE_MAP_PROJECTION
  ^DATA_SET_MAP_PROJECTION_CATALOG= "DSMAP.CAT"
  A_AXIS_RADIUS = 3396.19
  B_AXIS_RADIUS = 3396.19
  C_AXIS_RADIUS = 3396.19
  CENTER_LATITUDE = 0.0
  CENTER_LONGITUDE = 70.0
  COORDINATE_SYSTEM_NAME = PLANETOGRAPHIC
  COORDINATE_SYSTEM_TYPE = "BODY-FIXED ROTATING"
  EASTERNMOST_LONGITUDE = 70.1314
  FIRST_STANDARD_PARALLEL = "N/A"
  LINE_FIRST_PIXEL = 1
  LINE_LAST_PIXEL = 974
  LINE_PROJECTION_OFFSET = -226112.0
  MAP_PROJECTION_ROTATION = 0.0
  MAP_PROJECTION_TYPE = SINUSOIDAL
  MAP_RESOLUTION = 5927.46965121889
  MAP_SCALE = 0.01
  MAXIMUM_LATITUDE = -38.1816
  MINIMUM_LATITUDE = -38.3379
  POSITIVE_LONGITUDE_DIRECTION = EAST
  REFERENCE_LATITUDE = "N/A"
  REFERENCE_LONGITUDE = "N/A"
  SAMPLE_FIRST_PIXEL = 1
  SAMPLE_LAST_PIXEL = 984
  SAMPLE_PROJECTION_OFFSET = 363.0
  SECOND_STANDARD_PARALLEL = "N/A"
  WESTERNMOST_LONGITUDE = 69.9303
END_OBJECT = IMAGE_MAP_PROJECTION
/* The JPEG2000 image data file associated with this label. */
OBJECT = COMPRESSED_FILE
  FILE_NAME = "H1946_0004_SR3.JP2"
  RECORD_TYPE = UNDEFINED
  FILE_RECORDS = UNK
  ENCODING_TYPE = "JP2"
  INTERCHANGE_FORMAT = BINARY
  UNCOMPRESSED_FILE_NAME = "H1946_0004_SR3.IMG"
  REQUIRED_STORAGE_BYTES = "977112"
  ^DESCRIPTION = "JP2INFO.TXT"
END_OBJECT = COMPRESSED_FILE
END
