PDS_VERSION_ID = PDS3
/* FILE DATA ELEMENTS */
RECORD_TYPE = STREAM
/* POINTERS TO DATA OBJECTS */
^COMPRESSED_FILE = "H1946_0009_ND3.JP2"
/* IDENTIFICATION DATA ELEMENTS */
DATA_SET_ID = "MEX-M-HRSC-5-REFDR-MAPPROJECTED-V3.0"
DATA_SET_NAME = "MARS EXPRESS HRSC MAP PROJECTED REFDR V3.0"
DETECTOR_ID = MEX_HRSC_NADIR
EVENT_TYPE = "MARS-REGIONAL-MAPPING-Vo-Fl-Eo"
INSTRUMENT_HOST_ID = MEX
INSTRUMENT_HOST_NAME = "MARS EXPRESS"
INSTRUMENT_ID = HRSC
INSTRUMENT_NAME = "HIGH RESOLUTION STEREO CAMERA"
MISSION_NAME = "MARS EXPRESS"
MISSION_PHASE_NAME = MR_Phase_7
PROCESSING_LEVEL_ID = 3
PRODUCT_CREATION_TIME = 2016-03-09T16:25:58.000Z
PRODUCT_ID = "H1946_0009_ND3.JP2"
RELEASE_ID = 0025
REVISION_ID = 0000
/* QUALITY DATA ELEMENTS */
DATA_QUALITY_ID = 1
DATA_QUALITY_DESC = "Data calculated based on original SPICE kernels"
/* TIME DATA ELEMENTS */
SPACECRAFT_CLOCK_START_COUNT = "1/0070039540.57948"
SPACECRAFT_CLOCK_STOP_COUNT = "1/0070039858.55634"
START_TIME = 2005-07-21T15:26:45.111Z
STOP_TIME = 2005-07-21T15:30:32.100Z
/* ORBITAL DATA ELEMENTS */
ASCENDING_NODE_LONGITUDE = 187.51
MAXIMUM_RESOLUTION = 14.5
FOOTPRINT_POINT_LATITUDE = (-15.0123,-15.0138,-15.0155,-15.0161, -14.8548,-14.5367,-14.2182,-13.9051, -13.4363,-13.1284,-12.668,-12.3653, -11.9123,-11.6148,-11.1695,-10.8774, -10.5847,-10.1515,-9.8644,-9.57764, -9.29637,-9.01472,-8.73277,-8.457, -8.18081,-7.76746,-7.49716,-7.22644, -6.82077,-6.55605,-6.29088,-6.0254, -5.76272,-5.50355,-5.24404,-4.98411, -4.72394,-4.46344,-4.20269,-3.94152, -3.67999,-3.41824,-3.15612,-2.8937, -2.63099,-2.36795,-2.10463,-1.841, -1.57709,-1.31289,-1.05557,-1.05418, -1.16324,-1.41871,-1.68273,-1.94649, -2.20992,-2.47305,-2.73587,-2.99838, -3.2606,-3.52252,-3.78413,-4.04545, -4.30641,-4.56707,-4.82739,-5.08738, -5.34706,-5.60638,-5.86538,-6.13078, -6.52852,-6.79324,-7.19837,-7.46909, -7.73942,-8.15227,-8.42847,-8.70423, -8.98563,-9.26735,-9.54862,-9.83479, -10.122,-10.4086,-10.7009,-11.1395, -11.5844,-11.882,-12.1828,-12.4859, -12.7886,-13.0972,-13.4052,-13.8736, -14.1867,-14.5049,-14.8232,-15.0123)
FOOTPRINT_POINT_LONGITUDE = (70.705,70.4316,69.9378,69.6259,69.1611 ,69.1701,69.1814,69.1863,69.1972, 69.2048,69.2153,69.2221,69.2321,69.2391 ,69.2483,69.2544,69.2601,69.2687, 69.2746,69.2778,69.2826,69.2898,69.2946 ,69.2989,69.3034,69.3102,69.3148, 69.3191,69.3261,69.3305,69.3323,69.3357 ,69.3395,69.3432,69.3471,69.348,69.3516 ,69.3553,69.3613,69.364,69.3654,69.3698 ,69.3725,69.3749,69.3781,69.3805, 69.3831,69.3854,69.3877,69.3899,69.8089 ,70.1724,70.6661,70.6705,70.6751, 70.6794,70.6841,70.6891,70.6942,70.6995 ,70.7046,70.7098,70.715,70.7199,70.7254 ,70.7308,70.7363,70.7421,70.7475, 70.7533,70.7591,70.7652,70.7749,70.7811 ,70.7908,70.7973,70.8037,70.8134, 70.8203,70.8274,70.8347,70.8424,70.85, 70.8575,70.8652,70.8737,70.8831,70.8939 ,70.9068,70.9157,70.9247,70.934,70.9433 ,70.9529,70.9624,70.977,70.987,70.9974, 71.0083,70.705)
ORBIT_NUMBER = 1946
ORBITAL_ECCENTRICITY = 0.571
ORBITAL_INCLINATION = 86.59
ORBITAL_SEMIMAJOR_AXIS = 8622.92
PERIAPSIS_ALTITUDE = 301.37
PERIAPSIS_ARGUMENT_ANGLE = 16.75
PERIAPSIS_TIME = 2005-07-21T15:35:05.000Z
SPACECRAFT_ORIENTATION = (0.0,1.0,0.0)
^MEX_ORIENTATION_DESC = "MEX_ORIENTATION_DESC.TXT"
SPACECRAFT_POINTING_MODE = ACROSSTRACK
^MEX_POINTING_DESC = "MEX_POINTING_DESC.TXT"
RIGHT_ASCENSION = -1e+32
DECLINATION = -1e+32
OFFSET_ANGLE = 0.28
SPACECRAFT_SOLAR_DISTANCE = 2.06656e+08
TARGET_NAME = MARS
/* CAMERA DATA ELEMENTS */
DETECTOR_TEMPERATURE = 20.4095
FOCAL_PLANE_TEMPERATURE = 10.0106
INST_CMPRS_NAME = "DISCRETE COSINE TRANSFORMATION (DCT)"
INST_CMPRS_RATIO = 6.67201
INST_CMPRS_QUALITY = 0
INST_CMPRS_QUANTZ_TBL_ID = 0
INSTRUMENT_TEMPERATURE = 13.4769
LENS_TEMPERATURE = 10.4184
MACROPIXEL_SIZE = 1
MISSING_FRAMES = 0
PIXEL_SUBSAMPLING_FLAG = N
SIGNAL_CHAIN_ID = 0
/* RADIOMETRIC DATA ELEMENTS */
BANDWIDTH = 177.0
CENTER_FILTER_WAVELENGTH = 677.5
RADIANCE_OFFSET = 2.54452
RADIANCE_SCALING_FACTOR = 0.0118542
REFLECTANCE_SCALING_FACTOR = 0.000268938
MEX:REFLECTANCE_OFFSET = 0.0577281
/* IMAGE OBJECT DEFINITIONS */
OBJECT = IMAGE
  INTERCHANGE_FORMAT = BINARY
  LINES = 66206
  LINE_SAMPLES = 8902
  SAMPLE_TYPE = UNSIGNED_INTEGER
  SAMPLE_BITS = 8
  BANDS = 1
  BAND_STORAGE_TYPE = BAND_SEQUENTIAL
  MAXIMUM = 318
  MEAN = 182.833
  MINIMUM = 0
  STANDARD_DEVIATION = 20.6642
END_OBJECT = IMAGE
/* MAP OBJECT DEFINITIONS */
OBJECT = IMAGE_MAP_PROJECTION
  ^DATA_SET_MAP_PROJECTION_CATALOG= "DSMAP.CAT"
  A_AXIS_RADIUS = 3396.0
  B_AXIS_RADIUS = 3396.0
  C_AXIS_RADIUS = 3396.0
  CENTER_LATITUDE = 0.0
  CENTER_LONGITUDE = 70.0
  COORDINATE_SYSTEM_NAME = PLANETOGRAPHIC
  COORDINATE_SYSTEM_TYPE = "BODY-FIXED ROTATING"
  EASTERNMOST_LONGITUDE = 71.00830000000001
  FIRST_STANDARD_PARALLEL = "N/A"
  LINE_FIRST_PIXEL = 1
  LINE_LAST_PIXEL = 66206
  LINE_PROJECTION_OFFSET = -4990.0
  MAP_PROJECTION_ROTATION = 0.0
  MAP_PROJECTION_TYPE = SINUSOIDAL
  MAP_RESOLUTION = 4741.71043093333
  MAP_SCALE = 0.0125
  MAXIMUM_LATITUDE = -1.05418
  MINIMUM_LATITUDE = -15.0161
  POSITIVE_LONGITUDE_DIRECTION = EAST
  REFERENCE_LATITUDE = "N/A"
  REFERENCE_LONGITUDE = "N/A"
  SAMPLE_FIRST_PIXEL = 1
  SAMPLE_LAST_PIXEL = 8902
  SAMPLE_PROJECTION_OFFSET = 4127.0
  SECOND_STANDARD_PARALLEL = "N/A"
  WESTERNMOST_LONGITUDE = 69.1611
END_OBJECT = IMAGE_MAP_PROJECTION
/* The JPEG2000 image data file associated with this label. */
OBJECT = COMPRESSED_FILE
  FILE_NAME = "H1946_0009_ND3.JP2"
  RECORD_TYPE = UNDEFINED
  FILE_RECORDS = UNK
  ENCODING_TYPE = "JP2"
  INTERCHANGE_FORMAT = BINARY
  UNCOMPRESSED_FILE_NAME = "H1946_0009_ND3.IMG"
  REQUIRED_STORAGE_BYTES = "589401420"
  ^DESCRIPTION = "JP2INFO.TXT"
END_OBJECT = COMPRESSED_FILE
END
